BEGIN:VCALENDAR
VERSION:2.0
PRODID:-//Pima County Parenting Coalition - ECPv6.15.16.1//NONSGML v1.0//EN
CALSCALE:GREGORIAN
METHOD:PUBLISH
X-WR-CALNAME:Pima County Parenting Coalition
X-ORIGINAL-URL:https://pimaparenting.org
X-WR-CALDESC:Events for Pima County Parenting Coalition
REFRESH-INTERVAL;VALUE=DURATION:PT1H
X-Robots-Tag:noindex
X-PUBLISHED-TTL:PT1H
BEGIN:VTIMEZONE
TZID:America/Phoenix
BEGIN:STANDARD
TZOFFSETFROM:-0700
TZOFFSETTO:-0700
TZNAME:MST
DTSTART:20250101T000000
END:STANDARD
END:VTIMEZONE
BEGIN:VEVENT
DTSTART;TZID=America/Phoenix:20260414T103000
DTEND;TZID=America/Phoenix:20260414T113000
DTSTAMP:20260423T064152
CREATED:20260223T174020Z
LAST-MODIFIED:20260223T174020Z
UID:10004555-1776162600-1776166200@pimaparenting.org
SUMMARY:Family Nutrition-#4 Shop\, Get the Best for less/Shop for Value\, Check the Facts
DESCRIPTION:Participants will receive resources to create nutritious meals your kids will eat! Attend all 8 classes and receive a large\, insulated bag filled with recipes and cooking items! \nClass #1 Introduction to MyPlate\nClass #2 Choosing more Fruits and Veggies\nClass #3 Plan\, Know what’s for Dinner\nClass #4 Shop\, Get the Best for less/Shop for Value\, Check the Facts\nClass #5 Fix it Safe/Fix it Fast\, Eat at Home\nClass #6 Smart Breakfast/Smart Lunch\nClass #7 Smart Fast-Food Choices\nClass #8 Making Smart Choices when Eating Out \n  \n 
URL:https://pimaparenting.org/event/family-nutrition-4-shop-get-the-best-for-less-shop-for-value-check-the-facts/
LOCATION:Family Resource Center at Sahuarita Food Bank\, 17750 S. La Canada\, Sahuarita\, AZ\, 85629\, United States
CATEGORIES:Families with Children Birth to Five
ATTACH;FMTTYPE=image/jpeg:https://pimaparenting.org/wp-content/uploads/2024/11/Family-Resource-Center-Logo-1.jpg
ORGANIZER;CN="Ivonne Martinez":MAILTO:imartine@arizona.edu
END:VEVENT
BEGIN:VEVENT
DTSTART;TZID=America/Phoenix:20260414T103000
DTEND;TZID=America/Phoenix:20260414T113000
DTSTAMP:20260423T064152
CREATED:20260324T160909Z
LAST-MODIFIED:20260324T160909Z
UID:10004656-1776162600-1776166200@pimaparenting.org
SUMMARY:Zumbini- Robles Elem. Family Resource Center
DESCRIPTION:Come join Vanessa and Parent Aid for a fun hour of music and movement! This class will enhance your child’s development of their social-emotional\, cognitive and physical skills. Zumbini is designed for families with kiddos birth to 5-years old. Zumbini is an interactive activity for Parents and Kiddos! Bring your most comfortable dancing shoes and we’ll see you there! \nPlease note: Videos are used in class to support instruction and curriculum. \n  \n  \n 
URL:https://pimaparenting.org/event/zumbini-robles-elem-family-resource-center-6/
LOCATION:Family Resource Center at Robles Elementary\, 9875 S Sasabe Rd\, Tucson\, AZ\, 85736\, United States
CATEGORIES:All Caregivers,Families with Children Birth to Five
ATTACH;FMTTYPE=image/jpeg:https://pimaparenting.org/wp-content/uploads/2024/11/Zumbini-at-AVSD-2.0.jpg
ORGANIZER;CN="Vanessa Batson- PA":MAILTO:vanessa@parentaid.org
END:VEVENT
BEGIN:VEVENT
DTSTART;TZID=America/Phoenix:20260414T103000
DTEND;TZID=America/Phoenix:20260414T113000
DTSTAMP:20260423T064152
CREATED:20260325T144751Z
LAST-MODIFIED:20260325T145009Z
UID:10004700-1776162600-1776166200@pimaparenting.org
SUMMARY:Fine Arts for Kids
DESCRIPTION:Join us for a fun and creative class designed for children and their parents or caregivers! Together\, you’ll explore hands-on activities that encourage focus\, help build self-control and promote teamwork and communication. It’s a great way to bond\, learn\, and get inspired through art!
URL:https://pimaparenting.org/event/fine-arts-for-kids-30/
LOCATION:Family Resource Center at Los Ranchitos\, 2054 E Ginter Rd\, Tucson\, AZ\, 85706\, United States
CATEGORIES:Families with Children Birth to Five
ATTACH;FMTTYPE=image/jpeg:https://pimaparenting.org/wp-content/uploads/2024/11/Fine-Arts-at-SUSD-2.0.jpg
ORGANIZER;CN="Stephaine Carl - UACE":MAILTO:sacarl@arizona.edu
END:VEVENT
BEGIN:VEVENT
DTSTART;TZID=America/Phoenix:20260414T130000
DTEND;TZID=America/Phoenix:20260414T140000
DTSTAMP:20260423T064152
CREATED:20260210T180019Z
LAST-MODIFIED:20260210T180019Z
UID:10004485-1776171600-1776175200@pimaparenting.org
SUMMARY:Trauma-Informed Rx 360 Substance Misuse and Naloxone training
DESCRIPTION:Learn how toxic stress and trauma impacts the brain.  Learn about the connection between trauma and substance misuse.  Learn how to use Narcan to reverse an opioid overdose.
URL:https://pimaparenting.org/event/trauma-informed-rx-360-substance-misuse-and-naloxone-training-3/2026-04-14/
LOCATION:Zoom\, Arizona
CATEGORIES:All Caregivers,Behavioral Health,Families with Children Birth to Five,Families with School-aged (6-12) Children,Families with Teens,Foster Parents,Grandparents Raising Kids,Providers
ATTACH;FMTTYPE=image/png:https://pimaparenting.org/wp-content/uploads/2026/02/trauma-and-substance-misuse.png
END:VEVENT
BEGIN:VEVENT
DTSTART;TZID=America/Phoenix:20260414T163000
DTEND;TZID=America/Phoenix:20260414T173000
DTSTAMP:20260423T064152
CREATED:20260325T151340Z
LAST-MODIFIED:20260325T151340Z
UID:10004708-1776184200-1776187800@pimaparenting.org
SUMMARY:Story School Session 3: The Magic of Sharing Stories and Reading/La Magia de Compartir Historias y Leer
DESCRIPTION:STORY SCHOOL  \nStory School is a fun\, family-centered early literacy program for families with children ages 0–5. Caregivers learn how to support their child’s reading growth while building school readiness. Families enjoy music\, movement\, and hands-on literacy activities together—and receive up to 22 free books to build a home library. Families are encouraged to join us for all 12 sessions to get the most out of this shared learning experience. \nVisit www.mystoryschool.org/apply to register today! \nStory School es un programa de alfabetización temprana divertido y centrado en la familia para familias con niños de 0 a 5 años. Los cuidadores aprenden cómo apoyar el crecimiento lectoescritor de su hijo mientras desarrollan la preparación escolar. Las familias disfrutan de música\, movimiento y actividades prácticas de alfabetización juntos\, y reciben hasta 22 libros gratuitos para construir una biblioteca en casa. Se anima a las familias a unirse a nosotros en las 12 sesiones para aprovechar al máximo esta experiencia de aprendizaje compartido. \n¡Visita www.mystoryschool.org/apply para registrarte hoy! \n  \nSession 1    Program Overview/Visión General del Programa \nSession 2     The Joy of Sharing Books and Stories/La Alegría de Compartir Libros e Historias \nSession 3    The Magic of Sharing Stories and Reading/La Magia de Compartir Historias y Leer \nSession 4     The Superpower of Vocabulary/El Superpoder del Vocabulario \nSession 5    Building your Child’s Word Power/Desarrollando el Poder de las Palabras de tu Hijo \nSession 6      Let’s Play with the Sounds of Language/Juguemos con los Sonidos del Lenguaje \nSession 7    Discovering the Rhythm and Sounds of Words/ Descubriendo el Ritmo y los Sonidos de las Palabras \nSession 8    ABCs- Shapes to Symbols to Letters/ABC- De Formas a Símbolos a Letras \nSession 9     ABCs- Transforming Shapes into Symbols and Alphabet Letters/ABC- Transformando Formas en Símbolos y Letras del Alfabeto \nSession 10  Making Books Come Alive/Dando Vida a los Libros \nSession 11  Turning Every Book Into an Adventure/Convirtiendo Cada Libro en una Aventura \nSession 12 Celebration/Celebración \n  \n  \n  \n  \n 
URL:https://pimaparenting.org/event/story-school-session-3-the-magic-of-sharing-stories-and-reading-la-magia-de-compartir-historias-y-leer/
LOCATION:Family Resource Center at Los Ranchitos\, 2054 E Ginter Rd\, Tucson\, AZ\, 85706\, United States
CATEGORIES:Families with Children Birth to Five
ATTACH;FMTTYPE=image/png:https://pimaparenting.org/wp-content/uploads/2025/07/Story-School-at-SUSD-2.0.png
ORGANIZER;CN="Nando Trujillo-MWFB":MAILTO:nando@makewayforbooks.org
END:VEVENT
BEGIN:VEVENT
DTSTART;TZID=America/Phoenix:20260414T173000
DTEND;TZID=America/Phoenix:20260414T193000
DTSTAMP:20260423T064152
CREATED:20260325T160223Z
LAST-MODIFIED:20260325T160223Z
UID:10004738-1776187800-1776195000@pimaparenting.org
SUMMARY:Verbal & Physical Redirection Parenting Techniques/ VIRTUAL CLASS
DESCRIPTION:This topic is from the Nurturing Parenting Program \nRedirection is a parenting technique to help children learn appropriate behavior. Physical redirection is similar to verbal redirection with an added feature/step. \nRegister at Verbal & Physical Redirection Techniques ⋆ Casa de los Niños
URL:https://pimaparenting.org/event/verbal-physical-redirection-parenting-techniques-virtual-class-4/
LOCATION:Family Resource Center at Sahuarita Food Bank\, 17750 S. La Canada\, Sahuarita\, AZ\, 85629\, United States
CATEGORIES:Families with Children Birth to Five
ATTACH;FMTTYPE=image/jpeg:https://pimaparenting.org/wp-content/uploads/2024/03/Casa-logo.jpg
ORGANIZER;CN="Casa de los Ninos":MAILTO:cbolger@casadelosninos.org
END:VEVENT
BEGIN:VEVENT
DTSTART;TZID=America/Phoenix:20260414T173000
DTEND;TZID=America/Phoenix:20260414T193000
DTSTAMP:20260423T064152
CREATED:20260325T160248Z
LAST-MODIFIED:20260325T160248Z
UID:10004739-1776187800-1776195000@pimaparenting.org
SUMMARY:Verbal & Physical Redirection Parenting Techniques/ VIRTUAL CLASS
DESCRIPTION:This topic is from the Nurturing Parenting Program \nRedirection is a parenting technique to help children learn appropriate behavior. Physical redirection is similar to verbal redirection with an added feature/step. \nRegister at Verbal & Physical Redirection Techniques ⋆ Casa de los Niños
URL:https://pimaparenting.org/event/verbal-physical-redirection-parenting-techniques-virtual-class-5/
LOCATION:Family Resource Center at Los Ranchitos\, 2054 E Ginter Rd\, Tucson\, AZ\, 85706\, United States
CATEGORIES:Families with Children Birth to Five
ATTACH;FMTTYPE=image/jpeg:https://pimaparenting.org/wp-content/uploads/2024/03/Casa-logo.jpg
ORGANIZER;CN="Casa de los Ninos":MAILTO:cbolger@casadelosninos.org
END:VEVENT
BEGIN:VEVENT
DTSTART;TZID=America/Phoenix:20260414T173000
DTEND;TZID=America/Phoenix:20260414T193000
DTSTAMP:20260423T064152
CREATED:20260325T160312Z
LAST-MODIFIED:20260325T160312Z
UID:10004740-1776187800-1776195000@pimaparenting.org
SUMMARY:Verbal & Physical Redirection Parenting Techniques/ VIRTUAL CLASS
DESCRIPTION:This topic is from the Nurturing Parenting Program \nRedirection is a parenting technique to help children learn appropriate behavior. Physical redirection is similar to verbal redirection with an added feature/step. \nRegister at Verbal & Physical Redirection Techniques ⋆ Casa de los Niños
URL:https://pimaparenting.org/event/verbal-physical-redirection-parenting-techniques-virtual-class-6/
LOCATION:Family Resource Center at Robles Elementary\, 9875 S Sasabe Rd\, Tucson\, AZ\, 85736\, United States
CATEGORIES:Families with Children Birth to Five
ATTACH;FMTTYPE=image/jpeg:https://pimaparenting.org/wp-content/uploads/2024/03/Casa-logo.jpg
ORGANIZER;CN="Casa de los Ninos":MAILTO:cbolger@casadelosninos.org
END:VEVENT
END:VCALENDAR