BEGIN:VCALENDAR
VERSION:2.0
PRODID:-//Pima County Parenting Coalition - ECPv6.15.16.1//NONSGML v1.0//EN
CALSCALE:GREGORIAN
METHOD:PUBLISH
X-WR-CALNAME:Pima County Parenting Coalition
X-ORIGINAL-URL:https://pimaparenting.org
X-WR-CALDESC:Events for Pima County Parenting Coalition
REFRESH-INTERVAL;VALUE=DURATION:PT1H
X-Robots-Tag:noindex
X-PUBLISHED-TTL:PT1H
BEGIN:VTIMEZONE
TZID:America/Phoenix
BEGIN:STANDARD
TZOFFSETFROM:-0700
TZOFFSETTO:-0700
TZNAME:MST
DTSTART:20250101T000000
END:STANDARD
END:VTIMEZONE
BEGIN:VEVENT
DTSTART;TZID=America/Phoenix:20260420T090000
DTEND;TZID=America/Phoenix:20260420T100000
DTSTAMP:20260423T064216
CREATED:20260325T153307Z
LAST-MODIFIED:20260325T153307Z
UID:10004720-1776675600-1776679200@pimaparenting.org
SUMMARY:Family Cafe
DESCRIPTION:Parents and caregivers can join us to share about the challenges and successes of raising their children\, provide support for each other\, discuss what they would like to see at the FRC\, and enjoy a nice time with each other. \nLos padres y cuidadores pueden unirse a nosotros para compartir sobre los desafíos y éxitos de criar a sus hijos\, brindarse apoyo mutuo\, discutir lo que les gustaría ver en el FRC y disfrutar de un momento agradable juntos.
URL:https://pimaparenting.org/event/family-cafe-8/
LOCATION:Family Resource Center at Robles Elementary\, 9875 S Sasabe Rd\, Tucson\, AZ\, 85736\, United States
CATEGORIES:Families with Children Birth to Five
ATTACH;FMTTYPE=image/jpeg:https://pimaparenting.org/wp-content/uploads/2024/11/Family-Cafe-at-AVSD-2.0.jpg
ORGANIZER;CN="Family Resource Center at Robles Elementary":MAILTO:dcordova@avsd.org
END:VEVENT
BEGIN:VEVENT
DTSTART;TZID=America/Phoenix:20260420T100000
DTEND;TZID=America/Phoenix:20260420T110000
DTSTAMP:20260423T064216
CREATED:20260324T150033Z
LAST-MODIFIED:20260324T150102Z
UID:10004644-1776679200-1776682800@pimaparenting.org
SUMMARY:Family Connect & Play
DESCRIPTION:Come relax\, connect\, and let the kids play! Join other parents and caregivers for an informal time to share the ups and downs of raising children\, connect over coffee\, and enjoy support from fellow families. While kids enjoy supervised free play in our playroom\, grown-ups can chat\, share resources\, and discuss what programs or support they’d like to see at the Family Resource Center. Occasionally\, we’ll welcome special guest speakers on parenting\, child development\, and more. \n 
URL:https://pimaparenting.org/event/family-connect-play-9/
LOCATION:Family Resource Center at Sahuarita Food Bank\, 17750 S. La Canada\, Sahuarita\, AZ\, 85629\, United States
CATEGORIES:Families with Children Birth to Five
ATTACH;FMTTYPE=image/jpeg:https://pimaparenting.org/wp-content/uploads/2024/11/Family-Cafe-at-SFB-2.0.jpg
ORGANIZER;CN="Family Resource Center at Sahuarita Food Bank":MAILTO:irodela@sfb-crc.org
END:VEVENT
BEGIN:VEVENT
DTSTART;TZID=America/Phoenix:20260420T103000
DTEND;TZID=America/Phoenix:20260420T113000
DTSTAMP:20260423T064216
CREATED:20260325T154454Z
LAST-MODIFIED:20260325T154454Z
UID:10004729-1776681000-1776684600@pimaparenting.org
SUMMARY:HANDS IN NATURE: Art\, Exploration\, and Creative Play
DESCRIPTION:This is a nature-inspired class for children ages 2-5. Each session invites children to explore unique materials for art\, construction\, science\, literacy\, and more. Whether painting with mud\, building with sticks\, experimenting with water\, or storytelling with found objects\, children will engage in hands-on discovery that nurtures creativity\, problem solving\, and sensory exploration.
URL:https://pimaparenting.org/event/hands-in-nature-art-exploration-and-creative-play-7/
LOCATION:Family Resource Center at Los Ranchitos\, 2054 E Ginter Rd\, Tucson\, AZ\, 85706\, United States
CATEGORIES:Families with Children Birth to Five
ATTACH;FMTTYPE=image/jpeg:https://pimaparenting.org/wp-content/uploads/2024/11/UWTSA-Logo-2024-RBG.jpg
ORGANIZER;CN="Kyla Maciosek":MAILTO:kyla@naturecreatedplay.com
END:VEVENT
END:VCALENDAR