BEGIN:VCALENDAR
VERSION:2.0
PRODID:-//Pima County Parenting Coalition - ECPv6.15.16.1//NONSGML v1.0//EN
CALSCALE:GREGORIAN
METHOD:PUBLISH
X-WR-CALNAME:Pima County Parenting Coalition
X-ORIGINAL-URL:https://pimaparenting.org
X-WR-CALDESC:Events for Pima County Parenting Coalition
REFRESH-INTERVAL;VALUE=DURATION:PT1H
X-Robots-Tag:noindex
X-PUBLISHED-TTL:PT1H
BEGIN:VTIMEZONE
TZID:America/Phoenix
BEGIN:STANDARD
TZOFFSETFROM:-0700
TZOFFSETTO:-0700
TZNAME:MST
DTSTART:20250101T000000
END:STANDARD
END:VTIMEZONE
BEGIN:VEVENT
DTSTART;TZID=America/Phoenix:20260423T103000
DTEND;TZID=America/Phoenix:20260423T113000
DTSTAMP:20260423T062649
CREATED:20260324T155555Z
LAST-MODIFIED:20260324T155640Z
UID:10004652-1776940200-1776943800@pimaparenting.org
SUMMARY:Wonders of the Desert: Nature Play & Storytime
DESCRIPTION:Wonders of the Desert: Nature Play & Storytime: Butterflies and Caterpillars \nWonders of the Desert invites children ages 2–5 their caregivers to explore nature through playful\, hands-on outdoor activities led by a trained educator. Each session includes engaging experiences like digging\, building\, and crafting\, plus a themed Storytime. Families also receive a bilingual activity page to continue learning at home. \nButterflies and Caterpillars: Children and caregivers learn about the unique butterflies and caterpillars that live in the Sonoran Desert\, discovering their life cycle and how they adapt to the desert environment. They explore the important role these insects play in pollination and the ecosystem. This experience fosters curiosity\, observation skills\, and a deeper appreciation for desert wildlife. \n 
URL:https://pimaparenting.org/event/wonders-of-the-desert-nature-play-storytime-41/
LOCATION:Family Resource Center at Sahuarita Food Bank\, 17750 S. La Canada\, Sahuarita\, AZ\, 85629\, United States
CATEGORIES:Families with Children Birth to Five
ATTACH;FMTTYPE=image/png:https://pimaparenting.org/wp-content/uploads/2025/07/Wonders-of-the-Desert-at-SFB.png
ORGANIZER;CN="Debi Morgan":MAILTO:debimorgan4@gmail.com
END:VEVENT
BEGIN:VEVENT
DTSTART;TZID=America/Phoenix:20260423T103000
DTEND;TZID=America/Phoenix:20260423T113000
DTSTAMP:20260423T062649
CREATED:20260324T220536Z
LAST-MODIFIED:20260324T220536Z
UID:10004692-1776940200-1776943800@pimaparenting.org
SUMMARY:Cardio Beats: Family Drum Fitness
DESCRIPTION:Get ready to move\, groove\, and sweat — Cardio Beats is a high-energy\, family-friendly fitness class designed to bring parents and kids together through rhythm and movement! Led by Noah at Parent Aid\, this unique experience combines upbeat cardio exercises for adults with fun\, age-appropriate drumming for little ones\, creating a shared space for wellness and connection. \nWhether you’re looking to boost your energy\, bond with your child\, or just have a blast — this class is for you!\n👟 Wear comfy clothes and sneakers\n💧 Bring your water bottle\n🎶 And get ready to find your family rhythm! \nFREE in-person class at the Family Resource Center at the Sahuarita Food Bank.\nGot questions? Reach out to Noah — we’re happy to help! \nSpaces are limited — register today and join the beat!
URL:https://pimaparenting.org/event/cardio-beats-family-drum-fitness-26/
LOCATION:Family Resource Center at Los Ranchitos\, 2054 E Ginter Rd\, Tucson\, AZ\, 85706\, United States
CATEGORIES:Families with Children Birth to Five
ATTACH;FMTTYPE=image/png:https://pimaparenting.org/wp-content/uploads/2025/07/Cardio-Beats-at-SUSD.png
ORGANIZER;CN="Noah Paul - PA":MAILTO:noah@parentaid.org
END:VEVENT
BEGIN:VEVENT
DTSTART;TZID=America/Phoenix:20260423T103000
DTEND;TZID=America/Phoenix:20260423T113000
DTSTAMP:20260423T062649
CREATED:20260325T153623Z
LAST-MODIFIED:20260325T153623Z
UID:10004724-1776940200-1776943800@pimaparenting.org
SUMMARY:HANDS IN NATURE: Art\, Exploration\, and Creative Play
DESCRIPTION:This is a nature-inspired class for children ages 2-5. Each session invites children to explore unique materials for art\, construction\, science\, literacy\, and more. Whether painting with mud\, building with sticks\, experimenting with water\, or storytelling with found objects\, children will engage in hands-on discovery that nurtures creativity\, problem solving\, and sensory exploration.
URL:https://pimaparenting.org/event/hands-in-nature-art-exploration-and-creative-play-4/
LOCATION:Family Resource Center at Robles Elementary\, 9875 S Sasabe Rd\, Tucson\, AZ\, 85736\, United States
CATEGORIES:Families with Children Birth to Five
ATTACH;FMTTYPE=image/jpeg:https://pimaparenting.org/wp-content/uploads/2024/11/UWTSA-Logo-2024-RBG.jpg
ORGANIZER;CN="Kyla Maciosek":MAILTO:kyla@naturecreatedplay.com
END:VEVENT
BEGIN:VEVENT
DTSTART;TZID=America/Phoenix:20260423T130000
DTEND;TZID=America/Phoenix:20260423T140000
DTSTAMP:20260423T062649
CREATED:20260324T153807Z
LAST-MODIFIED:20260324T153807Z
UID:10004648-1776949200-1776952800@pimaparenting.org
SUMMARY:Fine Arts for Kids
DESCRIPTION:This fun and interactive class for children and their parents or caregivers is packed with creative activities designed to help little ones develop important life skills like focus\, self-control\, and communication—all while having a great time together!
URL:https://pimaparenting.org/event/fine-arts-for-kids-26/
LOCATION:Family Resource Center at Sahuarita Food Bank\, 17750 S. La Canada\, Sahuarita\, AZ\, 85629\, United States
CATEGORIES:Families with Children Birth to Five
ATTACH;FMTTYPE=image/jpeg:https://pimaparenting.org/wp-content/uploads/2024/11/Fine-Arts-at-SFB-2.0.jpg
ORGANIZER;CN="Nataly Quiroz- UACE":MAILTO:natalyquiroz@arizona.edu
END:VEVENT
BEGIN:VEVENT
DTSTART;TZID=America/Phoenix:20260423T130000
DTEND;TZID=America/Phoenix:20260423T140000
DTSTAMP:20260423T062649
CREATED:20260325T145413Z
LAST-MODIFIED:20260325T145413Z
UID:10004705-1776949200-1776952800@pimaparenting.org
SUMMARY:Kids Yoga
DESCRIPTION:Kids Yoga is an interactive activity for parents and children to connect with each other and their bodies.  A great and fun way to improve your child’s mobility\, and help them learn techniques to manage stress and emotions.
URL:https://pimaparenting.org/event/kids-yoga-16/
LOCATION:Family Resource Center at Los Ranchitos\, 2054 E Ginter Rd\, Tucson\, AZ\, 85706\, United States
CATEGORIES:Families with Children Birth to Five
ATTACH;FMTTYPE=image/jpeg:https://pimaparenting.org/wp-content/uploads/2024/11/Yoga-at-SUSD-2.0.jpg
ORGANIZER;CN="Stephaine Carl - UACE":MAILTO:sacarl@arizona.edu
END:VEVENT
BEGIN:VEVENT
DTSTART;TZID=America/Phoenix:20260423T163000
DTEND;TZID=America/Phoenix:20260423T173000
DTSTAMP:20260423T062649
CREATED:20260325T151657Z
LAST-MODIFIED:20260325T151657Z
UID:10004711-1776961800-1776965400@pimaparenting.org
SUMMARY:Story School Session 6: Let's Play with the Sounds of Language/Juguemos con los Sonidos del Lenguaje
DESCRIPTION:STORY SCHOOL  \nStory School is a fun\, family-centered early literacy program for families with children ages 0–5. Caregivers learn how to support their child’s reading growth while building school readiness. Families enjoy music\, movement\, and hands-on literacy activities together—and receive up to 22 free books to build a home library. Families are encouraged to join us for all 12 sessions to get the most out of this shared learning experience. \nVisit www.mystoryschool.org/apply to register today! \nStory School es un programa de alfabetización temprana divertido y centrado en la familia para familias con niños de 0 a 5 años. Los cuidadores aprenden cómo apoyar el crecimiento lectoescritor de su hijo mientras desarrollan la preparación escolar. Las familias disfrutan de música\, movimiento y actividades prácticas de alfabetización juntos\, y reciben hasta 22 libros gratuitos para construir una biblioteca en casa. Se anima a las familias a unirse a nosotros en las 12 sesiones para aprovechar al máximo esta experiencia de aprendizaje compartido. \n¡Visita www.mystoryschool.org/apply para registrarte hoy! \n  \nSession 1    Program Overview/Visión General del Programa \nSession 2    The Joy of Sharing Books and Stories/La Alegría de Compartir Libros e Historias \nSession 3    The Magic of Sharing Stories and Reading/La Magia de Compartir Historias y Leer \nSession 4    The Superpower of Vocabulary/El Superpoder del Vocabulario \nSession 5    Building your Child’s Word Power/Desarrollando el Poder de las Palabras de tu Hijo \nSession 6    Let’s Play with the Sounds of Language/Juguemos con los Sonidos del Lenguaje \nSession 7    Discovering the Rhythm and Sounds of Words/ Descubriendo el Ritmo y los Sonidos de las Palabras \nSession 8    ABCs- Shapes to Symbols to Letters/ABC- De Formas a Símbolos a Letras \nSession 9    ABCs- Transforming Shapes into Symbols and Alphabet Letters/ABC- Transformando Formas en Símbolos y Letras del Alfabeto \nSession 10  Making Books Come Alive/Dando Vida a los Libros \nSession 11  Turning Every Book Into an Adventure/Convirtiendo Cada Libro en una Aventura \nSession 12  Celebration/Celebración \n  \n  \n  \n  \n 
URL:https://pimaparenting.org/event/story-school-session-6-lets-play-with-the-sounds-of-language-juguemos-con-los-sonidos-del-lenguaje/
LOCATION:Family Resource Center at Los Ranchitos\, 2054 E Ginter Rd\, Tucson\, AZ\, 85706\, United States
CATEGORIES:Families with Children Birth to Five
ATTACH;FMTTYPE=image/png:https://pimaparenting.org/wp-content/uploads/2025/07/Story-School-at-SUSD-2.0.png
ORGANIZER;CN="Nando Trujillo-MWFB":MAILTO:nando@makewayforbooks.org
END:VEVENT
BEGIN:VEVENT
DTSTART;TZID=America/Phoenix:20260423T173000
DTEND;TZID=America/Phoenix:20260423T193000
DTSTAMP:20260423T062649
CREATED:20260325T161302Z
LAST-MODIFIED:20260325T224720Z
UID:10004747-1776965400-1776972600@pimaparenting.org
SUMMARY:Crianza para Prevenir el Acoso-CLASE VIRTUAL
DESCRIPTION:El acoso escolar es un problema grave en nuestras escuelas hoy en dia. Los padres aprenden que hacer para ayudar a su hijo a enfrentar el acoso escolar e identificar habilidades sociales clave que pueden ayudar a prevenir que los jovenes se conviertan envictimas o acosadores. \nRegístrate en Crianza para Prevenir el Acoso ⋆ Casa de los Niños
URL:https://pimaparenting.org/event/crianza-para-prevenir-el-acoso/
LOCATION:Family Resource Center at Sahuarita Food Bank\, 17750 S. La Canada\, Sahuarita\, AZ\, 85629\, United States
CATEGORIES:Families with Children Birth to Five
ATTACH;FMTTYPE=image/jpeg:https://pimaparenting.org/wp-content/uploads/2024/03/Casa-logo.jpg
ORGANIZER;CN="Casa de los Ninos":MAILTO:cbolger@casadelosninos.org
END:VEVENT
BEGIN:VEVENT
DTSTART;TZID=America/Phoenix:20260423T173000
DTEND;TZID=America/Phoenix:20260423T193000
DTSTAMP:20260423T062649
CREATED:20260325T161333Z
LAST-MODIFIED:20260325T230324Z
UID:10004748-1776965400-1776972600@pimaparenting.org
SUMMARY:Crianza para Prevenir el Acoso-CLASE VIRTUAL
DESCRIPTION:El acoso escolar es un problema grave en nuestras escuelas hoy en dia. Los padres aprenden que hacer para ayudar a su hijo a enfrentar el acoso escolar e identificar habilidades sociales clave que pueden ayudar a prevenir que los jovenes se conviertan envictimas o acosadores. \nRegístrate en Crianza para Prevenir el Acoso ⋆ Casa de los Niños
URL:https://pimaparenting.org/event/crianza-para-prevenir-el-acoso-2/
LOCATION:Family Resource Center at Robles Elementary\, 9875 S Sasabe Rd\, Tucson\, AZ\, 85736\, United States
CATEGORIES:Families with Children Birth to Five
ATTACH;FMTTYPE=image/jpeg:https://pimaparenting.org/wp-content/uploads/2024/03/Casa-logo.jpg
ORGANIZER;CN="Casa de los Ninos":MAILTO:cbolger@casadelosninos.org
END:VEVENT
BEGIN:VEVENT
DTSTART;TZID=America/Phoenix:20260423T173000
DTEND;TZID=America/Phoenix:20260423T193000
DTSTAMP:20260423T062649
CREATED:20260325T161346Z
LAST-MODIFIED:20260325T231219Z
UID:10004749-1776965400-1776972600@pimaparenting.org
SUMMARY:Crianza para Prevenir el Acoso-CLASE VIRTUAL
DESCRIPTION:El acoso escolar es un problema grave en nuestras escuelas hoy en dia. Los padres aprenden que hacer para ayudar a su hijo a enfrentar el acoso escolar e identificar habilidades sociales clave que pueden ayudar a prevenir que los jovenes se conviertan envictimas o acosadores. \nRegístrate en Crianza para Prevenir el Acoso ⋆ Casa de los Niños
URL:https://pimaparenting.org/event/crianza-para-prevenir-el-acoso-3/
LOCATION:Family Resource Center at Los Ranchitos\, 2054 E Ginter Rd\, Tucson\, AZ\, 85706\, United States
CATEGORIES:Families with Children Birth to Five
ATTACH;FMTTYPE=image/jpeg:https://pimaparenting.org/wp-content/uploads/2024/03/Casa-logo.jpg
ORGANIZER;CN="Casa de los Ninos":MAILTO:cbolger@casadelosninos.org
END:VEVENT
END:VCALENDAR