BEGIN:VCALENDAR
VERSION:2.0
PRODID:-//Pima County Parenting Coalition - ECPv6.15.16.1//NONSGML v1.0//EN
CALSCALE:GREGORIAN
METHOD:PUBLISH
X-ORIGINAL-URL:https://pimaparenting.org
X-WR-CALDESC:Events for Pima County Parenting Coalition
REFRESH-INTERVAL;VALUE=DURATION:PT1H
X-Robots-Tag:noindex
X-PUBLISHED-TTL:PT1H
BEGIN:VTIMEZONE
TZID:America/Phoenix
BEGIN:STANDARD
TZOFFSETFROM:-0700
TZOFFSETTO:-0700
TZNAME:MST
DTSTART:20250101T000000
END:STANDARD
END:VTIMEZONE
BEGIN:VEVENT
DTSTART;TZID=America/Phoenix:20260427T103000
DTEND;TZID=America/Phoenix:20260427T120000
DTSTAMP:20260423T064352
CREATED:20260323T194008Z
LAST-MODIFIED:20260323T194008Z
UID:10004637-1777285800-1777291200@pimaparenting.org
SUMMARY:Mommy and Me: Playgroup for Newborns & Infants
DESCRIPTION:This nurturing support group is designed especially for mothers in the early stages of parenthood. Through thoughtful conversation\, guided activities\, and shared experiences\, participants are invited to connect\, reflect\, and grow together. The group offers a safe and supportive space to explore the emotional\, physical\, and mental transitions that come with welcoming a new baby.
URL:https://pimaparenting.org/event/mommy-and-me-playgroup-for-newborns-infants-4/
LOCATION:Family Resource Center at Sahuarita Food Bank\, 17750 S. La Canada\, Sahuarita\, AZ\, 85629\, United States
CATEGORIES:Families with Children Birth to Five
ATTACH;FMTTYPE=image/jpeg:https://pimaparenting.org/wp-content/uploads/2025/12/ACDC-Name-Change-Post-Logo-002.jpg
ORGANIZER;CN="Chrissi Engstrom":MAILTO:chrissi@azdoulas.org
END:VEVENT
END:VCALENDAR