BEGIN:VCALENDAR
VERSION:2.0
PRODID:-//Pima County Parenting Coalition - ECPv6.15.16.1//NONSGML v1.0//EN
CALSCALE:GREGORIAN
METHOD:PUBLISH
X-ORIGINAL-URL:https://pimaparenting.org
X-WR-CALDESC:Events for Pima County Parenting Coalition
REFRESH-INTERVAL;VALUE=DURATION:PT1H
X-Robots-Tag:noindex
X-PUBLISHED-TTL:PT1H
BEGIN:VTIMEZONE
TZID:America/Phoenix
BEGIN:STANDARD
TZOFFSETFROM:-0700
TZOFFSETTO:-0700
TZNAME:MST
DTSTART:20250101T000000
END:STANDARD
END:VTIMEZONE
BEGIN:VEVENT
DTSTART;TZID=America/Phoenix:20260507T090000
DTEND;TZID=America/Phoenix:20260507T100000
DTSTAMP:20260423T081156
CREATED:20260413T182726Z
LAST-MODIFIED:20260413T182726Z
UID:10004771-1778144400-1778148000@pimaparenting.org
SUMMARY:Stay & Play- Toddler Time / Family Resource Center at Sahuarita Food Bank
DESCRIPTION:Join us for our Toddler Time class\, designed for families with children from infants to 2 years old! In this interactive environment\, grownups and little ones will engage in play and socialization using a variety of carefully selected materials that promote holistic development. Our focus is on enhancing social skills\, literacy\, and communication\, providing a nurturing space for toddlers to explore and grow together with their caregivers. Come enjoy the fun while fostering essential skills for your child’s early years!
URL:https://pimaparenting.org/event/stay-play-toddler-time-family-resource-center-at-sahuarita-food-bank-8/
LOCATION:Family Resource Center at Sahuarita Food Bank\, 17750 S. La Canada\, Sahuarita\, AZ\, 85629\, United States
CATEGORIES:Families with Children Birth to Five
ATTACH;FMTTYPE=image/jpeg:https://pimaparenting.org/wp-content/uploads/2024/12/Toddler-Time-at-SFB-2.0.jpg
ORGANIZER;CN="Lela Messick-UWTSA":MAILTO:lmessick@unitedwaytucson.org
END:VEVENT
BEGIN:VEVENT
DTSTART;TZID=America/Phoenix:20260507T090000
DTEND;TZID=America/Phoenix:20260507T100000
DTSTAMP:20260423T081156
CREATED:20260413T185151Z
LAST-MODIFIED:20260413T185151Z
UID:10004783-1778144400-1778148000@pimaparenting.org
SUMMARY:Garden Discovery Days
DESCRIPTION:This class connects you and your child to the garden through hands-on activities\, where you’ll learn where food comes from\, explore nature\, and create fun nature-inspired crafts. \n  \n 
URL:https://pimaparenting.org/event/garden-discovery-days-22/
LOCATION:Family Resource Center at Robles Elementary\, 9875 S Sasabe Rd\, Tucson\, AZ\, 85736\, United States
CATEGORIES:Families with Children Birth to Five
ATTACH;FMTTYPE=image/jpeg:https://pimaparenting.org/wp-content/uploads/2024/11/GDD-at-AVSD-2.0.jpg
ORGANIZER;CN="Cassie Burrel - UACE":MAILTO:cassieb@ag.arizona.edu
END:VEVENT
BEGIN:VEVENT
DTSTART;TZID=America/Phoenix:20260507T113000
DTEND;TZID=America/Phoenix:20260507T123000
DTSTAMP:20260423T081156
CREATED:20260413T184222Z
LAST-MODIFIED:20260413T184222Z
UID:10004777-1778153400-1778157000@pimaparenting.org
SUMMARY:Bubble Play
DESCRIPTION:Join us for a whimsical and joyful Bubble Play Class designed for both children and adults to rediscover the magic of bubbles! This interactive and fun-filled experience offers a delightful way to unwind\, connect\, and unleash creativity through the simple pleasure of blowing bubbles.
URL:https://pimaparenting.org/event/bubble-play-2/
LOCATION:Family Resource Center at Los Ranchitos\, 2054 E Ginter Rd\, Tucson\, AZ\, 85706\, United States
CATEGORIES:Families with Children Birth to Five
ATTACH;FMTTYPE=image/png:https://pimaparenting.org/wp-content/uploads/2025/03/Bubble-Play-at-SUSD.png
ORGANIZER;CN="Vanessa Batson- PA":MAILTO:vanessa@parentaid.org
END:VEVENT
BEGIN:VEVENT
DTSTART;TZID=America/Phoenix:20260507T130000
DTEND;TZID=America/Phoenix:20260507T140000
DTSTAMP:20260423T081156
CREATED:20260413T181744Z
LAST-MODIFIED:20260413T181744Z
UID:10004766-1778158800-1778162400@pimaparenting.org
SUMMARY:Fine Arts for Kids
DESCRIPTION:This fun and interactive class for children and their parents or caregivers is packed with creative activities designed to help little ones develop important life skills like focus\, self-control\, and communication—all while having a great time together!
URL:https://pimaparenting.org/event/fine-arts-for-kids-33/
LOCATION:Family Resource Center at Robles Elementary\, 9875 S Sasabe Rd\, Tucson\, AZ\, 85736\, United States
CATEGORIES:Families with Children Birth to Five
ATTACH;FMTTYPE=image/jpeg:https://pimaparenting.org/wp-content/uploads/2024/11/Fine-Arts-at-AVSD-2.0.jpg
ORGANIZER;CN="Stephaine Carl - UACE":MAILTO:sacarl@arizona.edu
END:VEVENT
BEGIN:VEVENT
DTSTART;TZID=America/Phoenix:20260507T163000
DTEND;TZID=America/Phoenix:20260507T173000
DTSTAMP:20260423T081156
CREATED:20260325T152114Z
LAST-MODIFIED:20260325T152114Z
UID:10004715-1778171400-1778175000@pimaparenting.org
SUMMARY:Story School Session 10: Making Books Come Alive/Dando Vida a los Libros
DESCRIPTION:STORY SCHOOL  \nStory School is a fun\, family-centered early literacy program for families with children ages 0–5. Caregivers learn how to support their child’s reading growth while building school readiness. Families enjoy music\, movement\, and hands-on literacy activities together—and receive up to 22 free books to build a home library. Families are encouraged to join us for all 12 sessions to get the most out of this shared learning experience. \nVisit www.mystoryschool.org/apply to register today! \nStory School es un programa de alfabetización temprana divertido y centrado en la familia para familias con niños de 0 a 5 años. Los cuidadores aprenden cómo apoyar el crecimiento lectoescritor de su hijo mientras desarrollan la preparación escolar. Las familias disfrutan de música\, movimiento y actividades prácticas de alfabetización juntos\, y reciben hasta 22 libros gratuitos para construir una biblioteca en casa. Se anima a las familias a unirse a nosotros en las 12 sesiones para aprovechar al máximo esta experiencia de aprendizaje compartido. \n¡Visita www.mystoryschool.org/apply para registrarte hoy! \n  \nSession 1    Program Overview/Visión General del Programa \nSession 2    The Joy of Sharing Books and Stories/La Alegría de Compartir Libros e Historias \nSession 3    The Magic of Sharing Stories and Reading/La Magia de Compartir Historias y Leer \nSession 4    The Superpower of Vocabulary/El Superpoder del Vocabulario \nSession 5    Building your Child’s Word Power/Desarrollando el Poder de las Palabras de tu Hijo \nSession 6    Let’s Play with the Sounds of Language/Juguemos con los Sonidos del Lenguaje \nSession 7    Discovering the Rhythm and Sounds of Words/ Descubriendo el Ritmo y los Sonidos de las Palabras \nSession 8    ABCs- Shapes to Symbols to Letters/ABC- De Formas a Símbolos a Letras \nSession 9    ABCs- Transforming Shapes into Symbols and Alphabet Letters/ABC- Transformando Formas en Símbolos y Letras del Alfabeto \nSession 10  Making Books Come Alive/Dando Vida a los Libros \nSession 11  Turning Every Book Into an Adventure/Convirtiendo Cada Libro en una Aventura \nSession 12  Celebration/Celebración \n  \n  \n  \n  \n 
URL:https://pimaparenting.org/event/story-school-session-10-making-books-come-alive-dando-vida-a-los-libros/
LOCATION:Family Resource Center at Los Ranchitos\, 2054 E Ginter Rd\, Tucson\, AZ\, 85706\, United States
CATEGORIES:Families with Children Birth to Five
ATTACH;FMTTYPE=image/png:https://pimaparenting.org/wp-content/uploads/2025/07/Story-School-at-SUSD-2.0.png
ORGANIZER;CN="Nando Trujillo-MWFB":MAILTO:nando@makewayforbooks.org
END:VEVENT
END:VCALENDAR