BEGIN:VCALENDAR
VERSION:2.0
PRODID:-//Pima County Parenting Coalition - ECPv6.15.16.1//NONSGML v1.0//EN
CALSCALE:GREGORIAN
METHOD:PUBLISH
X-ORIGINAL-URL:https://pimaparenting.org
X-WR-CALDESC:Events for Pima County Parenting Coalition
REFRESH-INTERVAL;VALUE=DURATION:PT1H
X-Robots-Tag:noindex
X-PUBLISHED-TTL:PT1H
BEGIN:VTIMEZONE
TZID:America/Phoenix
BEGIN:STANDARD
TZOFFSETFROM:-0700
TZOFFSETTO:-0700
TZNAME:MST
DTSTART:20250101T000000
END:STANDARD
END:VTIMEZONE
BEGIN:VEVENT
DTSTART;TZID=America/Phoenix:20260515T100000
DTEND;TZID=America/Phoenix:20260515T110000
DTSTAMP:20260423T080641
CREATED:20260414T162348Z
LAST-MODIFIED:20260414T162348Z
UID:10004807-1778839200-1778842800@pimaparenting.org
SUMMARY:Stay & Play- Family Resource Center at Robles Elementary
DESCRIPTION:Join our Stay and Play class designed for families with children 0-5 years of age and their grownups! This engaging program invites grownups and little ones to play and socialize together using a diverse range of materials aimed at fostering all areas of development. We emphasize social skills\, literacy\, and communication\, creating a supportive environment where children can explore\, learn\, and make new friends. Come enjoy quality time while helping your child thrive in their early learning journey!
URL:https://pimaparenting.org/event/stay-play-family-resource-center-at-robles-elementary-8/
LOCATION:Family Resource Center at Robles Elementary\, 9875 S Sasabe Rd\, Tucson\, AZ\, 85736\, United States
CATEGORIES:Families with Children Birth to Five
ATTACH;FMTTYPE=image/jpeg:https://pimaparenting.org/wp-content/uploads/2024/12/Stay-and-Play-at-AVSD-2.0.jpg
ORGANIZER;CN="Lela Messick-UWTSA":MAILTO:lmessick@unitedwaytucson.org
END:VEVENT
BEGIN:VEVENT
DTSTART;TZID=America/Phoenix:20260515T103000
DTEND;TZID=America/Phoenix:20260515T113000
DTSTAMP:20260423T080641
CREATED:20260413T180812Z
LAST-MODIFIED:20260413T180812Z
UID:10004758-1778841000-1778844600@pimaparenting.org
SUMMARY:Cardio Beats: Family Drum Fitness
DESCRIPTION:Get ready to move\, groove\, and sweat — Cardio Beats is a high-energy\, family-friendly fitness class designed to bring parents and kids together through rhythm and movement! Led by Noah at Parent Aid\, this unique experience combines upbeat cardio exercises for adults with fun\, age-appropriate drumming for little ones\, creating a shared space for wellness and connection. \nWhether you’re looking to boost your energy\, bond with your child\, or just have a blast — this class is for you!\n👟 Wear comfy clothes and sneakers\n💧 Bring your water bottle\n🎶 And get ready to find your family rhythm! \nFREE in-person class at the Family Resource Center at the Sahuarita Food Bank.\nGot questions? Reach out to Noah — we’re happy to help! \nSpaces are limited — register today and join the beat!
URL:https://pimaparenting.org/event/cardio-beats-family-drum-fitness-30/
LOCATION:Family Resource Center at Sahuarita Food Bank\, 17750 S. La Canada\, Sahuarita\, AZ\, 85629\, United States
CATEGORIES:Families with Children Birth to Five
ATTACH;FMTTYPE=image/png:https://pimaparenting.org/wp-content/uploads/2025/07/Cardio-Beats-at-SFB.png
ORGANIZER;CN="Noah Paul - PA":MAILTO:noah@parentaid.org
END:VEVENT
BEGIN:VEVENT
DTSTART;TZID=America/Phoenix:20260515T103000
DTEND;TZID=America/Phoenix:20260515T113000
DTSTAMP:20260423T080641
CREATED:20260413T184632Z
LAST-MODIFIED:20260413T184632Z
UID:10004780-1778841000-1778844600@pimaparenting.org
SUMMARY:Musical Expressions/Expresiones Musicales
DESCRIPTION:This class will encourage children to artistically express what they feel through music onto paper and through fun dance moves. Art and music invigorate young children’s minds to be creative\, imaginative\, expressive\, confident\, engaged and so much more! \nEsta clase animará a los niños a expresarse artísticamente a través de la música en papel y mediante divertidos movimientos de baile. El arte y la música invigorizan la mente de los niños pequeños para ser creativos\, imaginativos\, expresivos\, seguros\, comprometidos y mucho más.
URL:https://pimaparenting.org/event/musical-expressions-expresiones-musicales-7/
LOCATION:Family Resource Center at Los Ranchitos\, 2054 E Ginter Rd\, Tucson\, AZ\, 85706\, United States
CATEGORIES:Families with Children Birth to Five
ATTACH;FMTTYPE=image/jpeg:https://pimaparenting.org/wp-content/uploads/2024/11/Music-Exp-at-SUSD-2.0.jpg
ORGANIZER;CN="Nataly Quiroz- UACE":MAILTO:natalyquiroz@arizona.edu
END:VEVENT
BEGIN:VEVENT
DTSTART;TZID=America/Phoenix:20260515T113000
DTEND;TZID=America/Phoenix:20260515T123000
DTSTAMP:20260423T080641
CREATED:20260413T181155Z
LAST-MODIFIED:20260413T181155Z
UID:10004762-1778844600-1778848200@pimaparenting.org
SUMMARY:Happy Hour: Family Playtime
DESCRIPTION:Join Amanda at Parent Aid for a playful\, stress-free hour of connection\, creativity\, and community! Happy Hour: Family Playtime is a warm and welcoming space where parents and children explore the joy of free play — together. \nThis interactive experience helps little ones build important social skills while giving parents the chance to connect with one another\, share experiences\, and step into their child’s world through play. It’s a perfect blend of bonding\, support\, and fun — no agenda\, no pressure\, just quality time. \n✨ Meet other parents\n🧸 Support your child’s growth through play\n💬 Enjoy thoughtful conversations in a relaxed environment \nCome as you are — stay for the smiles.\nBecause connection is the real happy hour.
URL:https://pimaparenting.org/event/happy-hour-family-playtime-33/
LOCATION:Family Resource Center at Sahuarita Food Bank\, 17750 S. La Canada\, Sahuarita\, AZ\, 85629\, United States
CATEGORIES:Families with Children Birth to Five
ATTACH;FMTTYPE=image/png:https://pimaparenting.org/wp-content/uploads/2025/07/Happy-Hour-at-SFB.png
ORGANIZER;CN="Amanda Ward McNeal- PA":MAILTO:amanda@parentaid.org
END:VEVENT
END:VCALENDAR