BEGIN:VCALENDAR
VERSION:2.0
PRODID:-//Pima County Parenting Coalition - ECPv6.15.16.1//NONSGML v1.0//EN
CALSCALE:GREGORIAN
METHOD:PUBLISH
X-ORIGINAL-URL:https://pimaparenting.org
X-WR-CALDESC:Events for Pima County Parenting Coalition
REFRESH-INTERVAL;VALUE=DURATION:PT1H
X-Robots-Tag:noindex
X-PUBLISHED-TTL:PT1H
BEGIN:VTIMEZONE
TZID:America/Phoenix
BEGIN:STANDARD
TZOFFSETFROM:-0700
TZOFFSETTO:-0700
TZNAME:MST
DTSTART:20250101T000000
END:STANDARD
END:VTIMEZONE
BEGIN:VEVENT
DTSTART;TZID=America/Phoenix:20260519T103000
DTEND;TZID=America/Phoenix:20260519T113000
DTSTAMP:20260423T081251
CREATED:20260414T161705Z
LAST-MODIFIED:20260414T161705Z
UID:10004802-1779186600-1779190200@pimaparenting.org
SUMMARY:Baby Signs Too
DESCRIPTION:Come join Parent Aid and Vanessa for a great opportunity to learn sign language with your little one! Learn how to enhance early communication skills\, reduce tantrums\, and promote language development with the addition to nurturing your bond and understanding your child’s needs. Baby Signs Too is designed to be used with families with hearing infants and toddlers. \nRegistration is FREE! \nClass is offered in-person at the Family Resource Center at Robles Elementary. \nWe look forward to seeing you there!
URL:https://pimaparenting.org/event/baby-signs-too-35/
LOCATION:Family Resource Center at Robles Elementary\, 9875 S Sasabe Rd\, Tucson\, AZ\, 85736\, United States
CATEGORIES:All Caregivers,Families with Children Birth to Five
ATTACH;FMTTYPE=image/jpeg:https://pimaparenting.org/wp-content/uploads/2024/11/BST-at-AVSD-2.0.jpg
ORGANIZER;CN="Vanessa Batson- PA":MAILTO:vanessa@parentaid.org
END:VEVENT
BEGIN:VEVENT
DTSTART;TZID=America/Phoenix:20260519T113000
DTEND;TZID=America/Phoenix:20260519T123000
DTSTAMP:20260423T081251
CREATED:20260414T161928Z
LAST-MODIFIED:20260414T161928Z
UID:10004805-1779190200-1779193800@pimaparenting.org
SUMMARY:Happy Hour: Family Playtime
DESCRIPTION:Join Vanessa at Parent Aid for a playful\, stress-free hour of connection\, creativity\, and community! Happy Hour: Family Playtime is a warm and welcoming space where parents and children explore the joy of free play — together. \nThis interactive experience helps little ones build important social skills while giving parents the chance to connect with one another\, share experiences\, and step into their child’s world through play. It’s a perfect blend of bonding\, support\, and fun — no agenda\, no pressure\, just quality time. \n✨ Meet other parents\n🧸 Support your child’s growth through play\n💬 Enjoy thoughtful conversations in a relaxed environment \nCome as you are — stay for the smiles.\nBecause connection is the real happy hour.
URL:https://pimaparenting.org/event/happy-hour-family-playtime-36/
LOCATION:Family Resource Center at Robles Elementary\, 9875 S Sasabe Rd\, Tucson\, AZ\, 85736\, United States
CATEGORIES:Families with Children Birth to Five
ATTACH;FMTTYPE=image/png:https://pimaparenting.org/wp-content/uploads/2025/07/Happy-Hour-at-AVSD.png
ORGANIZER;CN="Vanessa Batson- PA":MAILTO:vanessa@parentaid.org
END:VEVENT
BEGIN:VEVENT
DTSTART;TZID=America/Phoenix:20260519T173000
DTEND;TZID=America/Phoenix:20260519T193000
DTSTAMP:20260423T081251
CREATED:20260414T172039Z
LAST-MODIFIED:20260414T172039Z
UID:10004833-1779211800-1779219000@pimaparenting.org
SUMMARY:Recognizing & Understanding Children’s Feelings/ VIRTUAL CLASS
DESCRIPTION:This class is from the Nurturing Parenting Program \nHow we prepare our children to handle their feelings will\, likely\, affect the quality of their life more than just about any other element of parenting. The goal of this class is to increase empathetic responses to children’s feelings. \nRegister at Recognizing & Understanding Children’s Feelings (English) – Casa de los Ninos
URL:https://pimaparenting.org/event/recognizing-understanding-childrens-feelings-virtual-class-7/
LOCATION:Family Resource Center at Sahuarita Food Bank\, 17750 S. La Canada\, Sahuarita\, AZ\, 85629\, United States
CATEGORIES:Families with Children Birth to Five
ATTACH;FMTTYPE=image/jpeg:https://pimaparenting.org/wp-content/uploads/2024/03/Casa-logo.jpg
ORGANIZER;CN="Casa de los Ninos":MAILTO:cbolger@casadelosninos.org
END:VEVENT
BEGIN:VEVENT
DTSTART;TZID=America/Phoenix:20260519T173000
DTEND;TZID=America/Phoenix:20260519T193000
DTSTAMP:20260423T081251
CREATED:20260414T172101Z
LAST-MODIFIED:20260414T172101Z
UID:10004834-1779211800-1779219000@pimaparenting.org
SUMMARY:Recognizing & Understanding Children’s Feelings/ VIRTUAL CLASS
DESCRIPTION:This class is from the Nurturing Parenting Program \nHow we prepare our children to handle their feelings will\, likely\, affect the quality of their life more than just about any other element of parenting. The goal of this class is to increase empathetic responses to children’s feelings. \nRegister at Recognizing & Understanding Children’s Feelings (English) – Casa de los Ninos
URL:https://pimaparenting.org/event/recognizing-understanding-childrens-feelings-virtual-class-8/
LOCATION:Family Resource Center at Robles Elementary\, 9875 S Sasabe Rd\, Tucson\, AZ\, 85736\, United States
CATEGORIES:Families with Children Birth to Five
ATTACH;FMTTYPE=image/jpeg:https://pimaparenting.org/wp-content/uploads/2024/03/Casa-logo.jpg
ORGANIZER;CN="Casa de los Ninos":MAILTO:cbolger@casadelosninos.org
END:VEVENT
BEGIN:VEVENT
DTSTART;TZID=America/Phoenix:20260519T173000
DTEND;TZID=America/Phoenix:20260519T193000
DTSTAMP:20260423T081251
CREATED:20260414T172119Z
LAST-MODIFIED:20260414T172119Z
UID:10004835-1779211800-1779219000@pimaparenting.org
SUMMARY:Recognizing & Understanding Children’s Feelings/ VIRTUAL CLASS
DESCRIPTION:This class is from the Nurturing Parenting Program \nHow we prepare our children to handle their feelings will\, likely\, affect the quality of their life more than just about any other element of parenting. The goal of this class is to increase empathetic responses to children’s feelings. \nRegister at Recognizing & Understanding Children’s Feelings (English) – Casa de los Ninos
URL:https://pimaparenting.org/event/recognizing-understanding-childrens-feelings-virtual-class-9/
LOCATION:Family Resource Center at Los Ranchitos\, 2054 E Ginter Rd\, Tucson\, AZ\, 85706\, United States
CATEGORIES:Families with Children Birth to Five
ATTACH;FMTTYPE=image/jpeg:https://pimaparenting.org/wp-content/uploads/2024/03/Casa-logo.jpg
ORGANIZER;CN="Casa de los Ninos":MAILTO:cbolger@casadelosninos.org
END:VEVENT
END:VCALENDAR