BEGIN:VCALENDAR
VERSION:2.0
PRODID:-//Pima County Parenting Coalition - ECPv6.15.16.1//NONSGML v1.0//EN
CALSCALE:GREGORIAN
METHOD:PUBLISH
X-ORIGINAL-URL:https://pimaparenting.org
X-WR-CALDESC:Events for Pima County Parenting Coalition
REFRESH-INTERVAL;VALUE=DURATION:PT1H
X-Robots-Tag:noindex
X-PUBLISHED-TTL:PT1H
BEGIN:VTIMEZONE
TZID:America/Phoenix
BEGIN:STANDARD
TZOFFSETFROM:-0700
TZOFFSETTO:-0700
TZNAME:MST
DTSTART:20250101T000000
END:STANDARD
END:VTIMEZONE
BEGIN:VEVENT
DTSTART;TZID=America/Phoenix:20260604T090000
DTEND;TZID=America/Phoenix:20260604T100000
DTSTAMP:20260423T091524
CREATED:20260413T182802Z
LAST-MODIFIED:20260413T182802Z
UID:10004772-1780563600-1780567200@pimaparenting.org
SUMMARY:Stay & Play- Toddler Time / Family Resource Center at Sahuarita Food Bank
DESCRIPTION:Join us for our Toddler Time class\, designed for families with children from infants to 2 years old! In this interactive environment\, grownups and little ones will engage in play and socialization using a variety of carefully selected materials that promote holistic development. Our focus is on enhancing social skills\, literacy\, and communication\, providing a nurturing space for toddlers to explore and grow together with their caregivers. Come enjoy the fun while fostering essential skills for your child’s early years!
URL:https://pimaparenting.org/event/stay-play-toddler-time-family-resource-center-at-sahuarita-food-bank-9/
LOCATION:Family Resource Center at Sahuarita Food Bank\, 17750 S. La Canada\, Sahuarita\, AZ\, 85629\, United States
CATEGORIES:Families with Children Birth to Five
ATTACH;FMTTYPE=image/jpeg:https://pimaparenting.org/wp-content/uploads/2024/12/Toddler-Time-at-SFB-2.0.jpg
ORGANIZER;CN="Lela Messick-UWTSA":MAILTO:lmessick@unitedwaytucson.org
END:VEVENT
END:VCALENDAR