BEGIN:VCALENDAR
VERSION:2.0
PRODID:-//Pima County Parenting Coalition - ECPv6.15.16.1//NONSGML v1.0//EN
CALSCALE:GREGORIAN
METHOD:PUBLISH
X-ORIGINAL-URL:https://pimaparenting.org
X-WR-CALDESC:Events for Pima County Parenting Coalition
REFRESH-INTERVAL;VALUE=DURATION:PT1H
X-Robots-Tag:noindex
X-PUBLISHED-TTL:PT1H
BEGIN:VTIMEZONE
TZID:America/Phoenix
BEGIN:STANDARD
TZOFFSETFROM:-0700
TZOFFSETTO:-0700
TZNAME:MST
DTSTART:20250101T000000
END:STANDARD
END:VTIMEZONE
BEGIN:VEVENT
DTSTART;TZID=America/Phoenix:20260617T090000
DTEND;TZID=America/Phoenix:20260617T100000
DTSTAMP:20260423T102755
CREATED:20260220T173012Z
LAST-MODIFIED:20260220T173012Z
UID:10004503-1781686800-1781690400@pimaparenting.org
SUMMARY:Fun Family Fitness
DESCRIPTION:Have fun getting fit with your child while building healthy habits for life! Enjoy playful movement\, games\, and bonding time in a supportive\, active class that makes fitness fun for the whole family. A great way to inspire a lifelong love of wellness—together!
URL:https://pimaparenting.org/event/fun-family-fitness-55/
LOCATION:Family Resource Center at Sahuarita Food Bank\, 17750 S. La Canada\, Sahuarita\, AZ\, 85629\, United States
CATEGORIES:Families with Children Birth to Five
ATTACH;FMTTYPE=image/jpeg:https://pimaparenting.org/wp-content/uploads/2024/11/FFF-at-SFB-2.0.jpg
ORGANIZER;CN="Julia with UWTSA":MAILTO:bootcampmama16@yahoo.com
END:VEVENT
BEGIN:VEVENT
DTSTART;TZID=America/Phoenix:20260617T130000
DTEND;TZID=America/Phoenix:20260617T140000
DTSTAMP:20260423T102755
CREATED:20260413T190148Z
LAST-MODIFIED:20260413T190148Z
UID:10004791-1781701200-1781704800@pimaparenting.org
SUMMARY:Kids in Motion
DESCRIPTION:Kids in Motion is an active and fun class that promotes your child’s gross motor skill development through energetic and exciting activities. \n  \nPlease note: Videos are used in class to support instruction and curriculum \n 
URL:https://pimaparenting.org/event/kids-in-motion-22/
LOCATION:Family Resource Center at Los Ranchitos\, 2054 E Ginter Rd\, Tucson\, AZ\, 85706\, United States
CATEGORIES:Families with Children Birth to Five
ATTACH;FMTTYPE=image/jpeg:https://pimaparenting.org/wp-content/uploads/2024/11/Kids-in-Motion-at-SUSD-2.0.jpg
ORGANIZER;CN="Garrett Lilly-Ramirez - UWTSA":MAILTO:gkidsinmotion@gmail.com
END:VEVENT
END:VCALENDAR