BEGIN:VCALENDAR
VERSION:2.0
PRODID:-//Pima County Parenting Coalition - ECPv6.15.16.1//NONSGML v1.0//EN
CALSCALE:GREGORIAN
METHOD:PUBLISH
X-WR-CALNAME:Pima County Parenting Coalition
X-ORIGINAL-URL:https://pimaparenting.org
X-WR-CALDESC:Events for Pima County Parenting Coalition
REFRESH-INTERVAL;VALUE=DURATION:PT1H
X-Robots-Tag:noindex
X-PUBLISHED-TTL:PT1H
BEGIN:VTIMEZONE
TZID:America/Phoenix
BEGIN:STANDARD
TZOFFSETFROM:-0700
TZOFFSETTO:-0700
TZNAME:MST
DTSTART:20250101T000000
END:STANDARD
END:VTIMEZONE
BEGIN:VEVENT
DTSTART;TZID=America/Phoenix:20260129T173000
DTEND;TZID=America/Phoenix:20260129T193000
DTSTAMP:20260425T035346
CREATED:20251222T162438Z
LAST-MODIFIED:20251222T164933Z
UID:10004350-1769707800-1769715000@pimaparenting.org
SUMMARY:COMUNICARSE CON RESPETO/CLASE VIRTUAL
DESCRIPTION:Hablar con sus hijos no tiene por que ser dificil. La clave para los padres escomunicar sus pensamientos y sentimientos a sus hijos sin herirlos intencionalmente. Esta clase ayunda a los padres a aprender estrategias para mejorar la communicacion con sus hijos. \nRegístrate en Communicating with Respect- Spanish ⋆ Casa de los Niños \n  \n 
URL:https://pimaparenting.org/event/comunicarse-con-respeto-clase-virtual-4/
LOCATION:Family Resource Center at Sahuarita Food Bank\, 17750 S. La Canada\, Sahuarita\, AZ\, 85629\, United States
CATEGORIES:All Caregivers,Families with Children Birth to Five
ATTACH;FMTTYPE=image/jpeg:https://pimaparenting.org/wp-content/uploads/2024/03/Casa-logo.jpg
ORGANIZER;CN="Casa de los Ninos":MAILTO:cbolger@casadelosninos.org
END:VEVENT
BEGIN:VEVENT
DTSTART;TZID=America/Phoenix:20260129T173000
DTEND;TZID=America/Phoenix:20260129T193000
DTSTAMP:20260425T035346
CREATED:20251222T162521Z
LAST-MODIFIED:20251222T165025Z
UID:10004351-1769707800-1769715000@pimaparenting.org
SUMMARY:COMUNICARSE CON RESPETO/CLASE VIRTUAL
DESCRIPTION:Hablar con sus hijos no tiene por que ser dificil. La clave para los padres escomunicar sus pensamientos y sentimientos a sus hijos sin herirlos intencionalmente. Esta clase ayunda a los padres a aprender estrategias para mejorar la communicacion con sus hijos. \nRegístrate en Communicating with Respect- Spanish ⋆ Casa de los Niños \n  \n 
URL:https://pimaparenting.org/event/comunicarse-con-respeto-clase-virtual-5/
LOCATION:Family Resource Center at Robles Elementary\, 9875 S Sasabe Rd\, Tucson\, AZ\, 85736\, United States
CATEGORIES:All Caregivers,Families with Children Birth to Five
ATTACH;FMTTYPE=image/jpeg:https://pimaparenting.org/wp-content/uploads/2024/03/Casa-logo.jpg
ORGANIZER;CN="Casa de los Ninos":MAILTO:cbolger@casadelosninos.org
END:VEVENT
BEGIN:VEVENT
DTSTART;TZID=America/Phoenix:20260129T173000
DTEND;TZID=America/Phoenix:20260129T193000
DTSTAMP:20260425T035346
CREATED:20251222T162554Z
LAST-MODIFIED:20251222T165055Z
UID:10004352-1769707800-1769715000@pimaparenting.org
SUMMARY:COMUNICARSE CON RESPETO/CLASE VIRTUAL
DESCRIPTION:Hablar con sus hijos no tiene por que ser dificil. La clave para los padres escomunicar sus pensamientos y sentimientos a sus hijos sin herirlos intencionalmente. Esta clase ayunda a los padres a aprender estrategias para mejorar la communicacion con sus hijos. \nRegístrate en Communicating with Respect- Spanish ⋆ Casa de los Niños \n  \n 
URL:https://pimaparenting.org/event/comunicarse-con-respeto-clase-virtual-6/
LOCATION:Family Resource Center at Los Ranchitos\, 2054 E Ginter Rd\, Tucson\, AZ\, 85706\, United States
CATEGORIES:All Caregivers,Families with Children Birth to Five
ATTACH;FMTTYPE=image/jpeg:https://pimaparenting.org/wp-content/uploads/2024/03/Casa-logo.jpg
ORGANIZER;CN="Casa de los Ninos":MAILTO:cbolger@casadelosninos.org
END:VEVENT
END:VCALENDAR