BEGIN:VCALENDAR
VERSION:2.0
PRODID:-//Pima County Parenting Coalition - ECPv6.15.16.1//NONSGML v1.0//EN
CALSCALE:GREGORIAN
METHOD:PUBLISH
X-ORIGINAL-URL:https://pimaparenting.org
X-WR-CALDESC:Events for Pima County Parenting Coalition
REFRESH-INTERVAL;VALUE=DURATION:PT1H
X-Robots-Tag:noindex
X-PUBLISHED-TTL:PT1H
BEGIN:VTIMEZONE
TZID:America/Phoenix
BEGIN:STANDARD
TZOFFSETFROM:-0700
TZOFFSETTO:-0700
TZNAME:MST
DTSTART:20250101T000000
END:STANDARD
END:VTIMEZONE
BEGIN:VEVENT
DTSTART;TZID=America/Phoenix:20260217T103000
DTEND;TZID=America/Phoenix:20260217T113000
DTSTAMP:20260425T035614
CREATED:20260118T222504Z
LAST-MODIFIED:20260118T222504Z
UID:10004399-1771324200-1771327800@pimaparenting.org
SUMMARY:Baby Signs Too
DESCRIPTION:Come join Parent Aid and Vanessa for a great opportunity to learn sign language with your little one! Learn how to enhance early communication skills\, reduce tantrums\, and promote language development with the addition to nurturing your bond and understanding your child’s needs. Baby Signs Too is designed to be used with families with hearing infants and toddlers. \nRegistration is FREE! \nClass is offered in-person at the Family Resource Center at Robles Elementary. \nWe look forward to seeing you there!
URL:https://pimaparenting.org/event/baby-signs-too-23/
LOCATION:Family Resource Center at Robles Elementary\, 9875 S Sasabe Rd\, Tucson\, AZ\, 85736\, United States
CATEGORIES:All Caregivers,Families with Children Birth to Five
ATTACH;FMTTYPE=image/jpeg:https://pimaparenting.org/wp-content/uploads/2024/11/BST-at-AVSD-2.0.jpg
ORGANIZER;CN="Vanessa Batson- PA":MAILTO:vanessa@parentaid.org
END:VEVENT
BEGIN:VEVENT
DTSTART;TZID=America/Phoenix:20260217T120000
DTEND;TZID=America/Phoenix:20260217T140000
DTSTAMP:20260425T035614
CREATED:20260118T220309Z
LAST-MODIFIED:20260209T165249Z
UID:10004393-1771329600-1771336800@pimaparenting.org
SUMMARY:Positive Parenting Program/Triple P Series - CLASS #2: Helping Children Develop
DESCRIPTION:Join us to better understand your child’s behavior and learn effective tools to build positive skills\, manage misbehavior\, and prepare for challenging situations. This four-class series offers practical guidance parents can use right away. \n\nMonday\, February 9       Class 1: Positive Parenting\nTuesday\, February 17    Class 2: Helping Children Develop\nMonday\, February 23     Class 3: Managing Misbehavior\nMonday\, March 2            Class 4: Planning Ahead\n\n\nChildcare will be available for children ages 1 year (walking) through 5 years. Children younger than 1 year or not yet walking will remain with their parent or caregiver.
URL:https://pimaparenting.org/event/positive-parenting-program-triple-p-series-class-2-helping-children-develop/
LOCATION:Family Resource Center at Robles Elementary\, 9875 S Sasabe Rd\, Tucson\, AZ\, 85736\, United States
CATEGORIES:All Caregivers,Families with Children Birth to Five
ATTACH;FMTTYPE=image/jpeg:https://pimaparenting.org/wp-content/uploads/2024/11/PPP-at-AVSD-2.0.jpg
ORGANIZER;CN="Nataly Quiroz- UACE":MAILTO:natalyquiroz@arizona.edu
END:VEVENT
END:VCALENDAR