BEGIN:VCALENDAR
VERSION:2.0
PRODID:-//Pima County Parenting Coalition - ECPv6.15.16.1//NONSGML v1.0//EN
CALSCALE:GREGORIAN
METHOD:PUBLISH
X-WR-CALNAME:Pima County Parenting Coalition
X-ORIGINAL-URL:https://pimaparenting.org
X-WR-CALDESC:Events for Pima County Parenting Coalition
REFRESH-INTERVAL;VALUE=DURATION:PT1H
X-Robots-Tag:noindex
X-PUBLISHED-TTL:PT1H
BEGIN:VTIMEZONE
TZID:America/Phoenix
BEGIN:STANDARD
TZOFFSETFROM:-0700
TZOFFSETTO:-0700
TZNAME:MST
DTSTART:20250101T000000
END:STANDARD
END:VTIMEZONE
BEGIN:VEVENT
DTSTART;TZID=America/Phoenix:20260113T103000
DTEND;TZID=America/Phoenix:20260113T113000
DTSTAMP:20260425T051121
CREATED:20251220T235111Z
LAST-MODIFIED:20251220T235111Z
UID:10004292-1768300200-1768303800@pimaparenting.org
SUMMARY:Zumbini- Robles Elem. Family Resource Center
DESCRIPTION:Come join Vanessa and Parent Aid for a fun hour of music and movement! This class will enhance your child’s development of their social-emotional\, cognitive and physical skills. Zumbini is designed for families with kiddos birth to 5-years old. Zumbini is an interactive activity for Parents and Kiddos! Bring your most comfortable dancing shoes and we’ll see you there! \nPlease note: Videos are used in class to support instruction and curriculum. \n  \n  \n 
URL:https://pimaparenting.org/event/zumbini-robles-elem-family-resource-center-2/
LOCATION:Family Resource Center at Robles Elementary\, 9875 S Sasabe Rd\, Tucson\, AZ\, 85736\, United States
CATEGORIES:All Caregivers,Families with Children Birth to Five
ATTACH;FMTTYPE=image/jpeg:https://pimaparenting.org/wp-content/uploads/2024/11/Zumbini-at-AVSD-2.0.jpg
ORGANIZER;CN="Vanessa Batson- PA":MAILTO:vanessa@parentaid.org
END:VEVENT
BEGIN:VEVENT
DTSTART;TZID=America/Phoenix:20260113T110000
DTEND;TZID=America/Phoenix:20260113T120000
DTSTAMP:20260425T051121
CREATED:20251217T204111Z
LAST-MODIFIED:20251217T204111Z
UID:10004209-1768302000-1768305600@pimaparenting.org
SUMMARY:Rx 360 Substance Misuse and Naloxone training
DESCRIPTION:Learn how to store and dispose of RX drugs safely.  Learn how to use Narcan to reverse an opioid overdose.
URL:https://pimaparenting.org/event/rx-360-substance-misuse-and-naloxone-training-2/2026-01-13/
LOCATION:Zoom\, Arizona
CATEGORIES:All Caregivers,Behavioral Health,Families with Children Birth to Five,Families with School-aged (6-12) Children,Families with Teens,Foster Parents,Grandparents Raising Kids,Providers
ATTACH;FMTTYPE=image/png:https://pimaparenting.org/wp-content/uploads/2025/12/Rx360-January.png
END:VEVENT
BEGIN:VEVENT
DTSTART;TZID=America/Phoenix:20260114T093000
DTEND;TZID=America/Phoenix:20260114T113000
DTSTAMP:20260425T051121
CREATED:20251220T231345Z
LAST-MODIFIED:20251220T231530Z
UID:10004280-1768383000-1768390200@pimaparenting.org
SUMMARY:AÑOS INCREÍBLES CLASE #1 - Resumen del Programa (Esta serie tiene un total de 8 clases)
DESCRIPTION:Este programa está especialmente diseñado para padres de bebés de 0 a 9 meses. Proporciona estrategias valiosas para mejorar sus habilidades de crianza mientras apoya el desarrollo social\, emocional\, físico y cognitivo de su bebé para un buen comienzo en la vida. \nEl servicio de guardería está disponible y se proporcionará la cena. \nClase 1: Resumen del Programa \nClase 2: Convertirse en Padre \nClase 3: Comunicarse con el Bebé \nClase 4: Estimulación Física y Visual \nClase 5: Leer la Mente de los Bebés \nClase 6: Obtener Apoyo \nClase 7: Surgimiento del Sentido de Sí Mismo \nClase 8: Graduación
URL:https://pimaparenting.org/event/anos-increibles-clase-1-resumen-del-programa-esta-serie-tiene-un-total-de-8-clases-2/
LOCATION:Family Resource Center at Los Ranchitos\, 2054 E Ginter Rd\, Tucson\, AZ\, 85706\, United States
CATEGORIES:All Caregivers,Families with Children Birth to Five
ATTACH;FMTTYPE=image/jpeg:https://pimaparenting.org/wp-content/uploads/2024/11/IY-at-SUSD-2.0.jpg
ORGANIZER;CN="Laura Ontiveros-EBF":MAILTO:lontiveros@blake.easterseals.com
END:VEVENT
BEGIN:VEVENT
DTSTART;TZID=America/Phoenix:20260114T153000
DTEND;TZID=America/Phoenix:20260114T163000
DTSTAMP:20260425T051121
CREATED:20251216T235824Z
LAST-MODIFIED:20251216T235824Z
UID:10004198-1768404600-1768408200@pimaparenting.org
SUMMARY:Soothing Strokes Baby Massage
DESCRIPTION:An infant massage class based on ancient traditions teaches gentle\, rhythmic techniques passed down through generations to promote bonding\, relaxation\, and healthy development for babies. Soothing Strokes is 5 weekly 90-minute sessions. We cover something different each class ending in the culmination being able to do a thorough infant massage. \nInfant massage is focused on children birth to 12 months. \nChild care for your older children can be provided as necessary with notice. \nYou bring your baby and we will bring the oil and the relaxed vibes. See you there!
URL:https://pimaparenting.org/event/soothing-strokes-baby-massage-19/
LOCATION:Family Resource Center at Sahuarita Food Bank\, 17750 S. La Canada\, Sahuarita\, AZ\, 85629\, United States
CATEGORIES:All Caregivers,Families with Children Birth to Five
ATTACH;FMTTYPE=image/png:https://pimaparenting.org/wp-content/uploads/2025/04/Soothing-Strokes-at-SFB.png
ORGANIZER;CN="Amanda Ward McNeal- PA":MAILTO:amanda@parentaid.org
END:VEVENT
BEGIN:VEVENT
DTSTART;TZID=America/Phoenix:20260116T103000
DTEND;TZID=America/Phoenix:20260116T113000
DTSTAMP:20260425T051121
CREATED:20251217T000929Z
LAST-MODIFIED:20251217T002207Z
UID:10004205-1768559400-1768563000@pimaparenting.org
SUMMARY:Baby Signs Too
DESCRIPTION:Come join Parent Aid and Amanda for a great opportunity to learn sign language with your little one! Learn how to enhance early communication skills\, reduce tantrums\, and promote language development with the addition to nurturing your bond and understanding your child’s needs. Baby Signs Too is designed to be used with families with hearing infants and toddlers. \nRegistration is FREE! \nPlease note: Videos are used in class to support instruction and curriculum
URL:https://pimaparenting.org/event/baby-signs-too-18/
LOCATION:Family Resource Center at Sahuarita Food Bank\, 17750 S. La Canada\, Sahuarita\, AZ\, 85629\, United States
CATEGORIES:All Caregivers,Families with Children Birth to Five
ATTACH;FMTTYPE=image/jpeg:https://pimaparenting.org/wp-content/uploads/2024/11/BST-at-SFB-2.0.jpg
ORGANIZER;CN="Amanda Ward McNeal- PA":MAILTO:amanda@parentaid.org
END:VEVENT
BEGIN:VEVENT
DTSTART;TZID=America/Phoenix:20260117T093000
DTEND;TZID=America/Phoenix:20260117T103000
DTSTAMP:20260425T051121
CREATED:20251216T204649Z
LAST-MODIFIED:20251216T204649Z
UID:10004186-1768642200-1768645800@pimaparenting.org
SUMMARY:The Secret to Gentle Parenting - Virtual Class
DESCRIPTION:Effective parenting is possible without yelling\, threatening and harsh punishments. Explore the skills and strategies of “Conscious Discipline” and receive valuable resources to help you in your parenting journey.
URL:https://pimaparenting.org/event/the-secret-to-gentle-parenting-virtual-class-5/
LOCATION:Family Resource Center at Robles Elementary\, 9875 S Sasabe Rd\, Tucson\, AZ\, 85736\, United States
CATEGORIES:All Caregivers,Families with Children Birth to Five
ATTACH;FMTTYPE=image/jpeg:https://pimaparenting.org/wp-content/uploads/2024/03/EBF-logo.jpg
ORGANIZER;CN="Jeanne  Velasquez- EBF":MAILTO:jvelasquez@amphi.com
END:VEVENT
BEGIN:VEVENT
DTSTART;TZID=America/Phoenix:20260117T093000
DTEND;TZID=America/Phoenix:20260117T103000
DTSTAMP:20260425T051121
CREATED:20251216T205352Z
LAST-MODIFIED:20251216T205352Z
UID:10004189-1768642200-1768645800@pimaparenting.org
SUMMARY:The Secret to Gentle Parenting - Virtual Class
DESCRIPTION:Effective parenting is possible without yelling\, threatening and harsh punishments. Explore the skills and strategies of “Conscious Discipline” and receive valuable resources to help you in your parenting journey.
URL:https://pimaparenting.org/event/the-secret-to-gentle-parenting-virtual-class-41/
LOCATION:Family Resource Center at Sahuarita Food Bank\, 17750 S. La Canada\, Sahuarita\, AZ\, 85629\, United States
CATEGORIES:All Caregivers,Families with Children Birth to Five
ATTACH;FMTTYPE=image/jpeg:https://pimaparenting.org/wp-content/uploads/2024/03/EBF-logo.jpg
ORGANIZER;CN="Jeanne  Velasquez- EBF":MAILTO:jvelasquez@amphi.com
END:VEVENT
BEGIN:VEVENT
DTSTART;TZID=America/Phoenix:20260117T093000
DTEND;TZID=America/Phoenix:20260117T103000
DTSTAMP:20260425T051121
CREATED:20251216T205520Z
LAST-MODIFIED:20251216T205520Z
UID:10004190-1768642200-1768645800@pimaparenting.org
SUMMARY:The Secret to Gentle Parenting - Virtual Class
DESCRIPTION:Effective parenting is possible without yelling\, threatening and harsh punishments. Explore the skills and strategies of “Conscious Discipline” and receive valuable resources to help you in your parenting journey.
URL:https://pimaparenting.org/event/the-secret-to-gentle-parenting-virtual-class-42/
LOCATION:Family Resource Center at Los Ranchitos\, 2054 E Ginter Rd\, Tucson\, AZ\, 85706\, United States
CATEGORIES:All Caregivers,Families with Children Birth to Five
ATTACH;FMTTYPE=image/jpeg:https://pimaparenting.org/wp-content/uploads/2024/03/EBF-logo.jpg
ORGANIZER;CN="Jeanne  Velasquez- EBF":MAILTO:jvelasquez@amphi.com
END:VEVENT
END:VCALENDAR