BEGIN:VCALENDAR
VERSION:2.0
PRODID:-//Pima County Parenting Coalition - ECPv6.15.16.1//NONSGML v1.0//EN
CALSCALE:GREGORIAN
METHOD:PUBLISH
X-ORIGINAL-URL:https://pimaparenting.org
X-WR-CALDESC:Events for Pima County Parenting Coalition
REFRESH-INTERVAL;VALUE=DURATION:PT1H
X-Robots-Tag:noindex
X-PUBLISHED-TTL:PT1H
BEGIN:VTIMEZONE
TZID:America/Phoenix
BEGIN:STANDARD
TZOFFSETFROM:-0700
TZOFFSETTO:-0700
TZNAME:MST
DTSTART:20250101T000000
END:STANDARD
END:VTIMEZONE
BEGIN:VEVENT
DTSTART;TZID=America/Phoenix:20260120T103000
DTEND;TZID=America/Phoenix:20260120T113000
DTSTAMP:20260425T051253
CREATED:20251220T235151Z
LAST-MODIFIED:20251220T235151Z
UID:10004293-1768905000-1768908600@pimaparenting.org
SUMMARY:Zumbini- Robles Elem. Family Resource Center
DESCRIPTION:Come join Vanessa and Parent Aid for a fun hour of music and movement! This class will enhance your child’s development of their social-emotional\, cognitive and physical skills. Zumbini is designed for families with kiddos birth to 5-years old. Zumbini is an interactive activity for Parents and Kiddos! Bring your most comfortable dancing shoes and we’ll see you there! \nPlease note: Videos are used in class to support instruction and curriculum. \n  \n  \n 
URL:https://pimaparenting.org/event/zumbini-robles-elem-family-resource-center-3/
LOCATION:Family Resource Center at Robles Elementary\, 9875 S Sasabe Rd\, Tucson\, AZ\, 85736\, United States
CATEGORIES:All Caregivers,Families with Children Birth to Five
ATTACH;FMTTYPE=image/jpeg:https://pimaparenting.org/wp-content/uploads/2024/11/Zumbini-at-AVSD-2.0.jpg
ORGANIZER;CN="Vanessa Batson- PA":MAILTO:vanessa@parentaid.org
END:VEVENT
BEGIN:VEVENT
DTSTART;TZID=America/Phoenix:20260120T130000
DTEND;TZID=America/Phoenix:20260120T140000
DTSTAMP:20260425T051253
CREATED:20251217T205844Z
LAST-MODIFIED:20251217T205844Z
UID:10004220-1768914000-1768917600@pimaparenting.org
SUMMARY:Marijuana 360 Substance Misuse Training
DESCRIPTION:Learn about marijuana and edibles\, why youth are misusing this substance\, and ways to protect youth in your life.
URL:https://pimaparenting.org/event/marijuana-360-substance-misuse-training/2026-01-20/
LOCATION:Zoom\, Arizona
CATEGORIES:All Caregivers,Behavioral Health,Families with Children Birth to Five,Families with School-aged (6-12) Children,Families with Teens,Foster Parents,Grandparents Raising Kids,Providers
ATTACH;FMTTYPE=image/png:https://pimaparenting.org/wp-content/uploads/2025/12/Marijuana-360-January.png
END:VEVENT
BEGIN:VEVENT
DTSTART;TZID=America/Phoenix:20260120T173000
DTEND;TZID=America/Phoenix:20260120T193000
DTSTAMP:20260425T051253
CREATED:20251222T160656Z
LAST-MODIFIED:20251222T160656Z
UID:10004341-1768930200-1768937400@pimaparenting.org
SUMMARY:WAYS TO ENHANCE POSITIVE BRAIN DEVELOPMENT/VIRTUAL CLASS
DESCRIPTION:This topic is from the Nurturing Parenting Program \nParents gain an understanding of the developmental changes occurring in the brains of young children and teenagers\, and techniques parents can utilize to improve that development. \nTo Register Ways to Enhance Positive Brain Development ⋆ Casa de los Niños \n 
URL:https://pimaparenting.org/event/ways-to-enhance-positive-brain-development-virtual-class/
LOCATION:Family Resource Center at Sahuarita Food Bank\, 17750 S. La Canada\, Sahuarita\, AZ\, 85629\, United States
CATEGORIES:All Caregivers,Families with Children Birth to Five
ATTACH;FMTTYPE=image/jpeg:https://pimaparenting.org/wp-content/uploads/2024/03/Casa-logo.jpg
ORGANIZER;CN="Casa de los Ninos":MAILTO:cbolger@casadelosninos.org
END:VEVENT
BEGIN:VEVENT
DTSTART;TZID=America/Phoenix:20260120T173000
DTEND;TZID=America/Phoenix:20260120T193000
DTSTAMP:20260425T051253
CREATED:20251222T160757Z
LAST-MODIFIED:20251222T160757Z
UID:10004342-1768930200-1768937400@pimaparenting.org
SUMMARY:WAYS TO ENHANCE POSITIVE BRAIN DEVELOPMENT/VIRTUAL CLASS
DESCRIPTION:This topic is from the Nurturing Parenting Program \nParents gain an understanding of the developmental changes occurring in the brains of young children and teenagers\, and techniques parents can utilize to improve that development. \nTo Register Ways to Enhance Positive Brain Development ⋆ Casa de los Niños \n 
URL:https://pimaparenting.org/event/ways-to-enhance-positive-brain-development-virtual-class-2/
LOCATION:Family Resource Center at Robles Elementary\, 9875 S Sasabe Rd\, Tucson\, AZ\, 85736\, United States
CATEGORIES:All Caregivers,Families with Children Birth to Five
ATTACH;FMTTYPE=image/jpeg:https://pimaparenting.org/wp-content/uploads/2024/03/Casa-logo.jpg
ORGANIZER;CN="Casa de los Ninos":MAILTO:cbolger@casadelosninos.org
END:VEVENT
BEGIN:VEVENT
DTSTART;TZID=America/Phoenix:20260120T173000
DTEND;TZID=America/Phoenix:20260120T193000
DTSTAMP:20260425T051253
CREATED:20251222T160814Z
LAST-MODIFIED:20251222T160814Z
UID:10004343-1768930200-1768937400@pimaparenting.org
SUMMARY:WAYS TO ENHANCE POSITIVE BRAIN DEVELOPMENT/VIRTUAL CLASS
DESCRIPTION:This topic is from the Nurturing Parenting Program \nParents gain an understanding of the developmental changes occurring in the brains of young children and teenagers\, and techniques parents can utilize to improve that development. \nTo Register Ways to Enhance Positive Brain Development ⋆ Casa de los Niños \n 
URL:https://pimaparenting.org/event/ways-to-enhance-positive-brain-development-virtual-class-3/
LOCATION:Family Resource Center at Los Ranchitos\, 2054 E Ginter Rd\, Tucson\, AZ\, 85706\, United States
CATEGORIES:All Caregivers,Families with Children Birth to Five
ATTACH;FMTTYPE=image/jpeg:https://pimaparenting.org/wp-content/uploads/2024/03/Casa-logo.jpg
ORGANIZER;CN="Casa de los Ninos":MAILTO:cbolger@casadelosninos.org
END:VEVENT
BEGIN:VEVENT
DTSTART;TZID=America/Phoenix:20260121T093000
DTEND;TZID=America/Phoenix:20260121T113000
DTSTAMP:20260425T051253
CREATED:20251220T231556Z
LAST-MODIFIED:20251220T231556Z
UID:10004281-1768987800-1768995000@pimaparenting.org
SUMMARY:AÑOS INCREÍBLES CLASE #2 -Convertirse en Padre (Esta serie tiene un total de 8 clases)
DESCRIPTION:Este programa está especialmente diseñado para padres de bebés de 0 a 9 meses. Proporciona estrategias valiosas para mejorar sus habilidades de crianza mientras apoya el desarrollo social\, emocional\, físico y cognitivo de su bebé para un buen comienzo en la vida. \nEl servicio de guardería está disponible y se proporcionará la cena. \nClase 1: Resumen del Programa \nClase 2: Convertirse en Padre \nClase 3: Comunicarse con el Bebé \nClase 4: Estimulación Física y Visual \nClase 5: Leer la Mente de los Bebés \nClase 6: Obtener Apoyo \nClase 7: Surgimiento del Sentido de Sí Mismo \nClase 8: Graduación
URL:https://pimaparenting.org/event/anos-increibles-clase-2-convertirse-en-padre-esta-serie-tiene-un-total-de-8-clases-2/
LOCATION:Family Resource Center at Los Ranchitos\, 2054 E Ginter Rd\, Tucson\, AZ\, 85706\, United States
CATEGORIES:All Caregivers,Families with Children Birth to Five
ATTACH;FMTTYPE=image/jpeg:https://pimaparenting.org/wp-content/uploads/2024/11/IY-at-SUSD-2.0.jpg
ORGANIZER;CN="Laura Ontiveros-EBF":MAILTO:lontiveros@blake.easterseals.com
END:VEVENT
BEGIN:VEVENT
DTSTART;TZID=America/Phoenix:20260121T103000
DTEND;TZID=America/Phoenix:20260121T113000
DTSTAMP:20260425T051253
CREATED:20251216T235903Z
LAST-MODIFIED:20251216T235903Z
UID:10004199-1768991400-1768995000@pimaparenting.org
SUMMARY:Soothing Strokes Baby Massage
DESCRIPTION:An infant massage class based on ancient traditions teaches gentle\, rhythmic techniques passed down through generations to promote bonding\, relaxation\, and healthy development for babies. Soothing Strokes is 5 weekly 90-minute sessions. We cover something different each class ending in the culmination being able to do a thorough infant massage. \nInfant massage is focused on children birth to 12 months. \nChild care for your older children can be provided as necessary with notice. \nYou bring your baby and we will bring the oil and the relaxed vibes. See you there!
URL:https://pimaparenting.org/event/soothing-strokes-baby-massage-20/
LOCATION:Family Resource Center at Sahuarita Food Bank\, 17750 S. La Canada\, Sahuarita\, AZ\, 85629\, United States
CATEGORIES:All Caregivers,Families with Children Birth to Five
ATTACH;FMTTYPE=image/png:https://pimaparenting.org/wp-content/uploads/2025/04/Soothing-Strokes-at-SFB.png
ORGANIZER;CN="Amanda Ward McNeal- PA":MAILTO:amanda@parentaid.org
END:VEVENT
BEGIN:VEVENT
DTSTART;TZID=America/Phoenix:20260121T130000
DTEND;TZID=America/Phoenix:20260121T140000
DTSTAMP:20260425T051253
CREATED:20251217T204701Z
LAST-MODIFIED:20251217T204701Z
UID:10004214-1769000400-1769004000@pimaparenting.org
SUMMARY:Trauma-Informed Rx 360 Substance Misuse and Naloxone training
DESCRIPTION:Learn how toxic stress and trauma impacts the brain.  Learn about the connection between trauma and substance misuse.  Learn how to use Narcan to reverse an opioid overdose.
URL:https://pimaparenting.org/event/trauma-informed-rx-360-substance-misuse-and-naloxone-training-8/2026-01-21/
LOCATION:Zoom\, Arizona
CATEGORIES:All Caregivers,Behavioral Health,Families with Children Birth to Five,Families with School-aged (6-12) Children,Families with Teens,Foster Parents,Grandparents Raising Kids,Providers
ATTACH;FMTTYPE=image/png:https://pimaparenting.org/wp-content/uploads/2025/12/Trauma-Informed-Rx360-January.png
END:VEVENT
BEGIN:VEVENT
DTSTART;TZID=America/Phoenix:20260122T173000
DTEND;TZID=America/Phoenix:20260122T193000
DTSTAMP:20260425T051253
CREATED:20251222T161130Z
LAST-MODIFIED:20251222T161130Z
UID:10004344-1769103000-1769110200@pimaparenting.org
SUMMARY:FORMAS DE MEJORAR EL DESARROLLO POSITIVO DEL CEREBRO/CLASE VIRTUAL
DESCRIPTION:Los padres adquieren una comprension de los cambios de desarrollo que ocurren en los cerebros de los ninos pequenos y adolescentes y las tecnicas que los padres pueden utilizar para mejorar ese desarrollo. \nRegístrate en Ways to Enhance Positive Brain Development- Spanish ⋆ Casa de los Niños
URL:https://pimaparenting.org/event/formas-de-mejorar-el-desarrollo-positivo-del-cerebro-clase-virtual/
LOCATION:Family Resource Center at Sahuarita Food Bank\, 17750 S. La Canada\, Sahuarita\, AZ\, 85629\, United States
CATEGORIES:All Caregivers,Families with Children Birth to Five
ATTACH;FMTTYPE=image/jpeg:https://pimaparenting.org/wp-content/uploads/2024/03/Casa-logo.jpg
ORGANIZER;CN="Casa de los Ninos":MAILTO:cbolger@casadelosninos.org
END:VEVENT
BEGIN:VEVENT
DTSTART;TZID=America/Phoenix:20260122T173000
DTEND;TZID=America/Phoenix:20260122T193000
DTSTAMP:20260425T051253
CREATED:20251222T161210Z
LAST-MODIFIED:20251222T161210Z
UID:10004345-1769103000-1769110200@pimaparenting.org
SUMMARY:FORMAS DE MEJORAR EL DESARROLLO POSITIVO DEL CEREBRO/CLASE VIRTUAL
DESCRIPTION:Los padres adquieren una comprension de los cambios de desarrollo que ocurren en los cerebros de los ninos pequenos y adolescentes y las tecnicas que los padres pueden utilizar para mejorar ese desarrollo. \nRegístrate en Ways to Enhance Positive Brain Development- Spanish ⋆ Casa de los Niños
URL:https://pimaparenting.org/event/formas-de-mejorar-el-desarrollo-positivo-del-cerebro-clase-virtual-2/
LOCATION:Family Resource Center at Robles Elementary\, 9875 S Sasabe Rd\, Tucson\, AZ\, 85736\, United States
CATEGORIES:All Caregivers,Families with Children Birth to Five
ATTACH;FMTTYPE=image/jpeg:https://pimaparenting.org/wp-content/uploads/2024/03/Casa-logo.jpg
ORGANIZER;CN="Casa de los Ninos":MAILTO:cbolger@casadelosninos.org
END:VEVENT
BEGIN:VEVENT
DTSTART;TZID=America/Phoenix:20260122T173000
DTEND;TZID=America/Phoenix:20260122T193000
DTSTAMP:20260425T051253
CREATED:20251222T161227Z
LAST-MODIFIED:20251222T161227Z
UID:10004346-1769103000-1769110200@pimaparenting.org
SUMMARY:FORMAS DE MEJORAR EL DESARROLLO POSITIVO DEL CEREBRO/CLASE VIRTUAL
DESCRIPTION:Los padres adquieren una comprension de los cambios de desarrollo que ocurren en los cerebros de los ninos pequenos y adolescentes y las tecnicas que los padres pueden utilizar para mejorar ese desarrollo. \nRegístrate en Ways to Enhance Positive Brain Development- Spanish ⋆ Casa de los Niños
URL:https://pimaparenting.org/event/formas-de-mejorar-el-desarrollo-positivo-del-cerebro-clase-virtual-3/
LOCATION:Family Resource Center at Los Ranchitos\, 2054 E Ginter Rd\, Tucson\, AZ\, 85706\, United States
CATEGORIES:All Caregivers,Families with Children Birth to Five
ATTACH;FMTTYPE=image/jpeg:https://pimaparenting.org/wp-content/uploads/2024/03/Casa-logo.jpg
ORGANIZER;CN="Casa de los Ninos":MAILTO:cbolger@casadelosninos.org
END:VEVENT
BEGIN:VEVENT
DTSTART;TZID=America/Phoenix:20260123T103000
DTEND;TZID=America/Phoenix:20260123T113000
DTSTAMP:20260425T051253
CREATED:20251217T001010Z
LAST-MODIFIED:20251217T002138Z
UID:10004206-1769164200-1769167800@pimaparenting.org
SUMMARY:Baby Signs Too
DESCRIPTION:Come join Parent Aid and Amanda for a great opportunity to learn sign language with your little one! Learn how to enhance early communication skills\, reduce tantrums\, and promote language development with the addition to nurturing your bond and understanding your child’s needs. Baby Signs Too is designed to be used with families with hearing infants and toddlers. \nRegistration is FREE! \nPlease note: Videos are used in class to support instruction and curriculum
URL:https://pimaparenting.org/event/baby-signs-too-19/
LOCATION:Family Resource Center at Sahuarita Food Bank\, 17750 S. La Canada\, Sahuarita\, AZ\, 85629\, United States
CATEGORIES:All Caregivers,Families with Children Birth to Five
ATTACH;FMTTYPE=image/jpeg:https://pimaparenting.org/wp-content/uploads/2024/11/BST-at-SFB-2.0.jpg
ORGANIZER;CN="Amanda Ward McNeal- PA":MAILTO:amanda@parentaid.org
END:VEVENT
END:VCALENDAR