BEGIN:VCALENDAR
VERSION:2.0
PRODID:-//Pima County Parenting Coalition - ECPv6.15.16.1//NONSGML v1.0//EN
CALSCALE:GREGORIAN
METHOD:PUBLISH
X-WR-CALNAME:Pima County Parenting Coalition
X-ORIGINAL-URL:https://pimaparenting.org
X-WR-CALDESC:Events for Pima County Parenting Coalition
REFRESH-INTERVAL;VALUE=DURATION:PT1H
X-Robots-Tag:noindex
X-PUBLISHED-TTL:PT1H
BEGIN:VTIMEZONE
TZID:America/Phoenix
BEGIN:STANDARD
TZOFFSETFROM:-0700
TZOFFSETTO:-0700
TZNAME:MST
DTSTART:20250101T000000
END:STANDARD
END:VTIMEZONE
BEGIN:VEVENT
DTSTART;TZID=America/Phoenix:20260126T140000
DTEND;TZID=America/Phoenix:20260126T150000
DTSTAMP:20260425T035304
CREATED:20251217T204111Z
LAST-MODIFIED:20251217T204111Z
UID:10004210-1769436000-1769439600@pimaparenting.org
SUMMARY:Rx 360 Substance Misuse and Naloxone training
DESCRIPTION:Learn how to store and dispose of RX drugs safely.  Learn how to use Narcan to reverse an opioid overdose.
URL:https://pimaparenting.org/event/rx-360-substance-misuse-and-naloxone-training-2/2026-01-26/
LOCATION:Zoom\, Arizona
CATEGORIES:All Caregivers,Behavioral Health,Families with Children Birth to Five,Families with School-aged (6-12) Children,Families with Teens,Foster Parents,Grandparents Raising Kids,Providers
ATTACH;FMTTYPE=image/png:https://pimaparenting.org/wp-content/uploads/2025/12/Rx360-January.png
END:VEVENT
BEGIN:VEVENT
DTSTART;TZID=America/Phoenix:20260127T103000
DTEND;TZID=America/Phoenix:20260127T113000
DTSTAMP:20260425T035304
CREATED:20251220T235226Z
LAST-MODIFIED:20251220T235226Z
UID:10004294-1769509800-1769513400@pimaparenting.org
SUMMARY:Zumbini- Robles Elem. Family Resource Center
DESCRIPTION:Come join Vanessa and Parent Aid for a fun hour of music and movement! This class will enhance your child’s development of their social-emotional\, cognitive and physical skills. Zumbini is designed for families with kiddos birth to 5-years old. Zumbini is an interactive activity for Parents and Kiddos! Bring your most comfortable dancing shoes and we’ll see you there! \nPlease note: Videos are used in class to support instruction and curriculum. \n  \n  \n 
URL:https://pimaparenting.org/event/zumbini-robles-elem-family-resource-center-4/
LOCATION:Family Resource Center at Robles Elementary\, 9875 S Sasabe Rd\, Tucson\, AZ\, 85736\, United States
CATEGORIES:All Caregivers,Families with Children Birth to Five
ATTACH;FMTTYPE=image/jpeg:https://pimaparenting.org/wp-content/uploads/2024/11/Zumbini-at-AVSD-2.0.jpg
ORGANIZER;CN="Vanessa Batson- PA":MAILTO:vanessa@parentaid.org
END:VEVENT
BEGIN:VEVENT
DTSTART;TZID=America/Phoenix:20260128T093000
DTEND;TZID=America/Phoenix:20260128T113000
DTSTAMP:20260425T035304
CREATED:20251220T231728Z
LAST-MODIFIED:20251220T231728Z
UID:10004282-1769592600-1769599800@pimaparenting.org
SUMMARY:AÑOS INCREÍBLES CLASE #3-Comunicarse con el Bebé (Esta serie tiene un total de 8 clases)
DESCRIPTION:Este programa está especialmente diseñado para padres de bebés de 0 a 9 meses. Proporciona estrategias valiosas para mejorar sus habilidades de crianza mientras apoya el desarrollo social\, emocional\, físico y cognitivo de su bebé para un buen comienzo en la vida. \nEl servicio de guardería está disponible y se proporcionará la cena. \nClase 1: Resumen del Programa \nClase 2: Convertirse en Padre \nClase 3: Comunicarse con el Bebé \nClase 4: Estimulación Física y Visual \nClase 5: Leer la Mente de los Bebés \nClase 6: Obtener Apoyo \nClase 7: Surgimiento del Sentido de Sí Mismo \nClase 8: Graduación
URL:https://pimaparenting.org/event/anos-increibles-clase-3-comunicarse-con-el-bebe-esta-serie-tiene-un-total-de-8-clases-2/
LOCATION:Family Resource Center at Los Ranchitos\, 2054 E Ginter Rd\, Tucson\, AZ\, 85706\, United States
CATEGORIES:All Caregivers,Families with Children Birth to Five
ATTACH;FMTTYPE=image/jpeg:https://pimaparenting.org/wp-content/uploads/2024/11/IY-at-SUSD-2.0.jpg
ORGANIZER;CN="Laura Ontiveros-EBF":MAILTO:lontiveros@blake.easterseals.com
END:VEVENT
BEGIN:VEVENT
DTSTART;TZID=America/Phoenix:20260129T173000
DTEND;TZID=America/Phoenix:20260129T193000
DTSTAMP:20260425T035304
CREATED:20251222T162438Z
LAST-MODIFIED:20251222T164933Z
UID:10004350-1769707800-1769715000@pimaparenting.org
SUMMARY:COMUNICARSE CON RESPETO/CLASE VIRTUAL
DESCRIPTION:Hablar con sus hijos no tiene por que ser dificil. La clave para los padres escomunicar sus pensamientos y sentimientos a sus hijos sin herirlos intencionalmente. Esta clase ayunda a los padres a aprender estrategias para mejorar la communicacion con sus hijos. \nRegístrate en Communicating with Respect- Spanish ⋆ Casa de los Niños \n  \n 
URL:https://pimaparenting.org/event/comunicarse-con-respeto-clase-virtual-4/
LOCATION:Family Resource Center at Sahuarita Food Bank\, 17750 S. La Canada\, Sahuarita\, AZ\, 85629\, United States
CATEGORIES:All Caregivers,Families with Children Birth to Five
ATTACH;FMTTYPE=image/jpeg:https://pimaparenting.org/wp-content/uploads/2024/03/Casa-logo.jpg
ORGANIZER;CN="Casa de los Ninos":MAILTO:cbolger@casadelosninos.org
END:VEVENT
BEGIN:VEVENT
DTSTART;TZID=America/Phoenix:20260129T173000
DTEND;TZID=America/Phoenix:20260129T193000
DTSTAMP:20260425T035304
CREATED:20251222T162521Z
LAST-MODIFIED:20251222T165025Z
UID:10004351-1769707800-1769715000@pimaparenting.org
SUMMARY:COMUNICARSE CON RESPETO/CLASE VIRTUAL
DESCRIPTION:Hablar con sus hijos no tiene por que ser dificil. La clave para los padres escomunicar sus pensamientos y sentimientos a sus hijos sin herirlos intencionalmente. Esta clase ayunda a los padres a aprender estrategias para mejorar la communicacion con sus hijos. \nRegístrate en Communicating with Respect- Spanish ⋆ Casa de los Niños \n  \n 
URL:https://pimaparenting.org/event/comunicarse-con-respeto-clase-virtual-5/
LOCATION:Family Resource Center at Robles Elementary\, 9875 S Sasabe Rd\, Tucson\, AZ\, 85736\, United States
CATEGORIES:All Caregivers,Families with Children Birth to Five
ATTACH;FMTTYPE=image/jpeg:https://pimaparenting.org/wp-content/uploads/2024/03/Casa-logo.jpg
ORGANIZER;CN="Casa de los Ninos":MAILTO:cbolger@casadelosninos.org
END:VEVENT
BEGIN:VEVENT
DTSTART;TZID=America/Phoenix:20260129T173000
DTEND;TZID=America/Phoenix:20260129T193000
DTSTAMP:20260425T035304
CREATED:20251222T162554Z
LAST-MODIFIED:20251222T165055Z
UID:10004352-1769707800-1769715000@pimaparenting.org
SUMMARY:COMUNICARSE CON RESPETO/CLASE VIRTUAL
DESCRIPTION:Hablar con sus hijos no tiene por que ser dificil. La clave para los padres escomunicar sus pensamientos y sentimientos a sus hijos sin herirlos intencionalmente. Esta clase ayunda a los padres a aprender estrategias para mejorar la communicacion con sus hijos. \nRegístrate en Communicating with Respect- Spanish ⋆ Casa de los Niños \n  \n 
URL:https://pimaparenting.org/event/comunicarse-con-respeto-clase-virtual-6/
LOCATION:Family Resource Center at Los Ranchitos\, 2054 E Ginter Rd\, Tucson\, AZ\, 85706\, United States
CATEGORIES:All Caregivers,Families with Children Birth to Five
ATTACH;FMTTYPE=image/jpeg:https://pimaparenting.org/wp-content/uploads/2024/03/Casa-logo.jpg
ORGANIZER;CN="Casa de los Ninos":MAILTO:cbolger@casadelosninos.org
END:VEVENT
BEGIN:VEVENT
DTSTART;TZID=America/Phoenix:20260130T103000
DTEND;TZID=America/Phoenix:20260130T113000
DTSTAMP:20260425T035304
CREATED:20251217T002107Z
LAST-MODIFIED:20251217T002107Z
UID:10004208-1769769000-1769772600@pimaparenting.org
SUMMARY:Baby Signs Too
DESCRIPTION:Come join Parent Aid and Amanda for a great opportunity to learn sign language with your little one! Learn how to enhance early communication skills\, reduce tantrums\, and promote language development with the addition to nurturing your bond and understanding your child’s needs. Baby Signs Too is designed to be used with families with hearing infants and toddlers. \nRegistration is FREE! \nPlease note: Videos are used in class to support instruction and curriculum
URL:https://pimaparenting.org/event/baby-signs-too-20/
LOCATION:Family Resource Center at Sahuarita Food Bank\, 17750 S. La Canada\, Sahuarita\, AZ\, 85629\, United States
CATEGORIES:All Caregivers,Families with Children Birth to Five
ATTACH;FMTTYPE=image/jpeg:https://pimaparenting.org/wp-content/uploads/2024/11/BST-at-SFB-2.0.jpg
ORGANIZER;CN="Amanda Ward McNeal- PA":MAILTO:amanda@parentaid.org
END:VEVENT
END:VCALENDAR