BEGIN:VCALENDAR
VERSION:2.0
PRODID:-//Pima County Parenting Coalition - ECPv6.15.16.1//NONSGML v1.0//EN
CALSCALE:GREGORIAN
METHOD:PUBLISH
X-ORIGINAL-URL:https://pimaparenting.org
X-WR-CALDESC:Events for Pima County Parenting Coalition
REFRESH-INTERVAL;VALUE=DURATION:PT1H
X-Robots-Tag:noindex
X-PUBLISHED-TTL:PT1H
BEGIN:VTIMEZONE
TZID:America/Phoenix
BEGIN:STANDARD
TZOFFSETFROM:-0700
TZOFFSETTO:-0700
TZNAME:MST
DTSTART:20250101T000000
END:STANDARD
END:VTIMEZONE
BEGIN:VEVENT
DTSTART;TZID=America/Phoenix:20260223T120000
DTEND;TZID=America/Phoenix:20260223T140000
DTSTAMP:20260425T034951
CREATED:20260118T220524Z
LAST-MODIFIED:20260203T211442Z
UID:10004394-1771848000-1771855200@pimaparenting.org
SUMMARY:Positive Parenting Program/Triple P Series - CLASS #3: Managing Misbehavior
DESCRIPTION:Join us to better understand your child’s behavior and learn effective tools to build positive skills\, manage misbehavior\, and prepare for challenging situations. This four-class series offers practical guidance parents can use right away. \n\nMonday\, February 9       Class 1: Positive Parenting\nTuesday\, February 17    Class 2: Helping Children Develop\nMonday\, February 23     Class 3: Managing Misbehavior\nMonday\, March 2            Class 4: Planning Ahead\n\nChildcare will be available for children ages 1 year (walking) through 5 years. Children younger than 1 year or not yet walking will remain with their parent or caregiver.
URL:https://pimaparenting.org/event/positive-parenting-program-triple-p-series-class-3-managing-misbehavior/
LOCATION:Family Resource Center at Robles Elementary\, 9875 S Sasabe Rd\, Tucson\, AZ\, 85736\, United States
CATEGORIES:All Caregivers,Families with Children Birth to Five
ATTACH;FMTTYPE=image/jpeg:https://pimaparenting.org/wp-content/uploads/2024/11/PPP-at-AVSD-2.0.jpg
ORGANIZER;CN="Nataly Quiroz- UACE":MAILTO:natalyquiroz@arizona.edu
END:VEVENT
BEGIN:VEVENT
DTSTART;TZID=America/Phoenix:20260224T103000
DTEND;TZID=America/Phoenix:20260224T113000
DTSTAMP:20260425T034951
CREATED:20260118T222601Z
LAST-MODIFIED:20260118T222601Z
UID:10004400-1771929000-1771932600@pimaparenting.org
SUMMARY:Baby Signs Too
DESCRIPTION:Come join Parent Aid and Vanessa for a great opportunity to learn sign language with your little one! Learn how to enhance early communication skills\, reduce tantrums\, and promote language development with the addition to nurturing your bond and understanding your child’s needs. Baby Signs Too is designed to be used with families with hearing infants and toddlers. \nRegistration is FREE! \nClass is offered in-person at the Family Resource Center at Robles Elementary. \nWe look forward to seeing you there!
URL:https://pimaparenting.org/event/baby-signs-too-24/
LOCATION:Family Resource Center at Robles Elementary\, 9875 S Sasabe Rd\, Tucson\, AZ\, 85736\, United States
CATEGORIES:All Caregivers,Families with Children Birth to Five
ATTACH;FMTTYPE=image/jpeg:https://pimaparenting.org/wp-content/uploads/2024/11/BST-at-AVSD-2.0.jpg
ORGANIZER;CN="Vanessa Batson- PA":MAILTO:vanessa@parentaid.org
END:VEVENT
BEGIN:VEVENT
DTSTART;TZID=America/Phoenix:20260225T093000
DTEND;TZID=America/Phoenix:20260225T110000
DTSTAMP:20260425T034951
CREATED:20251220T233341Z
LAST-MODIFIED:20260118T231548Z
UID:10004286-1772011800-1772017200@pimaparenting.org
SUMMARY:AÑOS INCREÍBLES CLASE #7- Surgimiento del Sentido de Sí Mismo (Esta serie tiene un total de 8 clases)
DESCRIPTION:Este programa está especialmente diseñado para padres de bebés de 0 a 9 meses. Proporciona estrategias valiosas para mejorar sus habilidades de crianza mientras apoya el desarrollo social\, emocional\, físico y cognitivo de su bebé para un buen comienzo en la vida. \nSe ofrece cuidado infantil para niños que caminan hasta los 5 años de edad. \nClase 1: Resumen del Programa \nClase 2: Convertirse en Padre \nClase 3: Comunicarse con el Bebé \nClase 4: Estimulación Física y Visual \nClase 5: Leer la Mente de los Bebés \nClase 6: Obtener Apoyo \nClase 7: Surgimiento del Sentido de Sí Mismo \nClase 8: Graduación
URL:https://pimaparenting.org/event/anos-increibles-clase-7-surgimiento-del-sentido-de-si-mismo-esta-serie-tiene-un-total-de-8-clases-3/
LOCATION:Family Resource Center at Los Ranchitos\, 2054 E Ginter Rd\, Tucson\, AZ\, 85706\, United States
CATEGORIES:All Caregivers,Families with Children Birth to Five
ATTACH;FMTTYPE=image/jpeg:https://pimaparenting.org/wp-content/uploads/2024/11/IY-at-SUSD-2.0.jpg
ORGANIZER;CN="Laura Ontiveros-EBF":MAILTO:lontiveros@blake.easterseals.com
END:VEVENT
BEGIN:VEVENT
DTSTART;TZID=America/Phoenix:20260225T103000
DTEND;TZID=America/Phoenix:20260225T113000
DTSTAMP:20260425T034951
CREATED:20260118T173200Z
LAST-MODIFIED:20260118T173200Z
UID:10004375-1772015400-1772019000@pimaparenting.org
SUMMARY:Soothing Strokes Baby Massage
DESCRIPTION:An infant massage class based on ancient traditions teaches gentle\, rhythmic techniques passed down through generations to promote bonding\, relaxation\, and healthy development for babies. Soothing Strokes is 5 weekly 90-minute sessions. We cover something different each class ending in the culmination being able to do a thorough infant massage. \nInfant massage is focused on children birth to 12 months. \nChild care for your older children can be provided as necessary with notice. \nYou bring your baby and we will bring the oil and the relaxed vibes. See you there!
URL:https://pimaparenting.org/event/soothing-strokes-baby-massage-4/
LOCATION:Family Resource Center at Sahuarita Food Bank\, 17750 S. La Canada\, Sahuarita\, AZ\, 85629\, United States
CATEGORIES:All Caregivers,Families with Children Birth to Five
ATTACH;FMTTYPE=image/png:https://pimaparenting.org/wp-content/uploads/2025/04/Soothing-Strokes-at-SFB.png
ORGANIZER;CN="Amanda Ward McNeal- PA":MAILTO:amanda@parentaid.org
END:VEVENT
BEGIN:VEVENT
DTSTART;TZID=America/Phoenix:20260226T140000
DTEND;TZID=America/Phoenix:20260226T150000
DTSTAMP:20260425T034951
CREATED:20251217T204356Z
LAST-MODIFIED:20260210T180901Z
UID:10004212-1772114400-1772118000@pimaparenting.org
SUMMARY:Rx 360 Substance Misuse and Naloxone training
DESCRIPTION:Learn how to store and dispose of RX drugs safely.  Learn how to use Narcan to reverse an opioid overdose.
URL:https://pimaparenting.org/event/rx-360-substance-misuse-and-naloxone-training-8/2026-02-26/
LOCATION:Zoom\, Arizona
CATEGORIES:All Caregivers,Behavioral Health,Families with Children Birth to Five,Families with School-aged (6-12) Children,Families with Teens,Foster Parents,Grandparents Raising Kids,Providers
ATTACH;FMTTYPE=image/png:https://pimaparenting.org/wp-content/uploads/2025/12/Rx360-February.png
END:VEVENT
END:VCALENDAR