BEGIN:VCALENDAR
VERSION:2.0
PRODID:-//Pima County Parenting Coalition - ECPv6.15.16.1//NONSGML v1.0//EN
CALSCALE:GREGORIAN
METHOD:PUBLISH
X-ORIGINAL-URL:https://pimaparenting.org
X-WR-CALDESC:Events for Pima County Parenting Coalition
REFRESH-INTERVAL;VALUE=DURATION:PT1H
X-Robots-Tag:noindex
X-PUBLISHED-TTL:PT1H
BEGIN:VTIMEZONE
TZID:America/Phoenix
BEGIN:STANDARD
TZOFFSETFROM:-0700
TZOFFSETTO:-0700
TZNAME:MST
DTSTART:20240101T000000
END:STANDARD
END:VTIMEZONE
BEGIN:VEVENT
DTSTART;TZID=America/Phoenix:20250909T100000
DTEND;TZID=America/Phoenix:20250909T110000
DTSTAMP:20260424T034004
CREATED:20250822T210424Z
LAST-MODIFIED:20250822T210424Z
UID:10003816-1757412000-1757415600@pimaparenting.org
SUMMARY:Rx 360 Substance Misuse and Naloxone training
DESCRIPTION:Learn how to store and dispose of RX drugs safely.  Learn how to use Narcan to reverse an opioid overdose.
URL:https://pimaparenting.org/event/rx-360-substance-misuse-and-naloxone-training-6/2025-09-09/
LOCATION:Zoom\, Arizona
CATEGORIES:All Caregivers,Behavioral Health,Families with Children Birth to Five,Families with School-aged (6-12) Children,Families with Teens,Foster Parents,Grandparents Raising Kids,Providers
ATTACH;FMTTYPE=image/png:https://pimaparenting.org/wp-content/uploads/2025/08/Rx360-September.png
END:VEVENT
BEGIN:VEVENT
DTSTART;TZID=America/Phoenix:20250911T140000
DTEND;TZID=America/Phoenix:20250911T150000
DTSTAMP:20260424T034004
CREATED:20250822T210924Z
LAST-MODIFIED:20250822T210924Z
UID:10003821-1757599200-1757602800@pimaparenting.org
SUMMARY:The Dangers of Vaping
DESCRIPTION:Learn about the risks of e-cigarettes\, also known as “vapes.” Learn why youth are using vapes and ways to protect youth in your life.
URL:https://pimaparenting.org/event/the-dangers-of-vaping/2025-09-11/
LOCATION:Zoom\, Arizona
CATEGORIES:All Caregivers,Behavioral Health,Families with Children Birth to Five,Families with School-aged (6-12) Children,Families with Teens,Foster Parents,Grandparents Raising Kids,Providers
ATTACH;FMTTYPE=image/png:https://pimaparenting.org/wp-content/uploads/2025/08/Dangers-of-Vaping-September.png
END:VEVENT
END:VCALENDAR