BEGIN:VCALENDAR
VERSION:2.0
PRODID:-//Pima County Parenting Coalition - ECPv6.15.16.1//NONSGML v1.0//EN
CALSCALE:GREGORIAN
METHOD:PUBLISH
X-ORIGINAL-URL:https://pimaparenting.org
X-WR-CALDESC:Events for Pima County Parenting Coalition
REFRESH-INTERVAL;VALUE=DURATION:PT1H
X-Robots-Tag:noindex
X-PUBLISHED-TTL:PT1H
BEGIN:VTIMEZONE
TZID:America/Phoenix
BEGIN:STANDARD
TZOFFSETFROM:-0700
TZOFFSETTO:-0700
TZNAME:MST
DTSTART:20240101T000000
END:STANDARD
END:VTIMEZONE
BEGIN:VEVENT
DTSTART;TZID=America/Phoenix:20250825T090000
DTEND;TZID=America/Phoenix:20250825T100000
DTSTAMP:20260424T173550
CREATED:20250717T043859Z
LAST-MODIFIED:20250717T043859Z
UID:10003671-1756112400-1756116000@pimaparenting.org
SUMMARY:Masaje de manos nutritivas para bebés-Los Ranchitos Family Resource Center
DESCRIPTION:Los padres aprenderán varias técnicas de masaje mientras aprenden sobre las ventajas de la terapia de masaje para su bebé. Tenga en cuenta que los padres y el bebé (0-9 meses) deben asistir juntos a esta clase.
URL:https://pimaparenting.org/event/masaje-de-manos-nutritivas-para-bebes-los-ranchitos-family-resource-center-22/
LOCATION:Family Resource Center at Los Ranchitos\, 2054 E Ginter Rd\, Tucson\, AZ\, 85706\, United States
CATEGORIES:Families with Children Birth to Five
ATTACH;FMTTYPE=image/jpeg:https://pimaparenting.org/wp-content/uploads/2024/03/Baby-Massage-at-SUSD.jpg
ORGANIZER;CN="Family Resource Center at Los Ranchitos":MAILTO:MyrnaL@susd12.org
END:VEVENT
BEGIN:VEVENT
DTSTART;TZID=America/Phoenix:20250825T103000
DTEND;TZID=America/Phoenix:20250825T113000
DTSTAMP:20260424T173550
CREATED:20250717T133307Z
LAST-MODIFIED:20250717T133307Z
UID:10003697-1756117800-1756121400@pimaparenting.org
SUMMARY:HANDS IN NATURE: Art\, Exploration\, and Creative Play
DESCRIPTION:This is a nature-inspired class for children ages 2-5. Each session invites children to explore unique materials for art\, construction\, science\, literacy\, and more. Whether painting with mud\, building with sticks\, experimenting with water\, or storytelling with found objects\, children will engage in hands-on discovery that nurtures creativity\, problem solving\, and sensory exploration.
URL:https://pimaparenting.org/event/hands-in-nature-art-exploration-and-creative-play-16/
LOCATION:Family Resource Center at Los Ranchitos\, 2054 E Ginter Rd\, Tucson\, AZ\, 85706\, United States
CATEGORIES:Families with Children Birth to Five
ATTACH;FMTTYPE=image/jpeg:https://pimaparenting.org/wp-content/uploads/2024/11/UWTSA-Logo-2024-RBG.jpg
ORGANIZER;CN="Family Resource Center at Los Ranchitos":MAILTO:MyrnaL@susd12.org
END:VEVENT
BEGIN:VEVENT
DTSTART;TZID=America/Phoenix:20250825T103000
DTEND;TZID=America/Phoenix:20250825T120000
DTSTAMP:20260424T173550
CREATED:20250717T034701Z
LAST-MODIFIED:20250717T034701Z
UID:10003650-1756117800-1756123200@pimaparenting.org
SUMMARY:Postpartum Support Group
DESCRIPTION:A support group for mothers adjusting to the physical\, emotional and relational demands of new parenthood. Becoming a parent is a significant life change. Many women experience perinatal emotional complications that affect the whole family. Having support from professionals and peers can make the transition easier.
URL:https://pimaparenting.org/event/postpartum-support-group-8/
LOCATION:Family Resource Center at Sahuarita Food Bank\, 17750 S. La Canada\, Sahuarita\, AZ\, 85629\, United States
CATEGORIES:Families with Children Birth to Five
ATTACH;FMTTYPE=image/jpeg:https://pimaparenting.org/wp-content/uploads/2024/11/Casa3-at-SFB-2.0.jpg
ORGANIZER;CN="Casa de los Ninos":MAILTO:cbolger@casadelosninos.org
END:VEVENT
END:VCALENDAR