BEGIN:VCALENDAR
VERSION:2.0
PRODID:-//Pima County Parenting Coalition - ECPv6.15.16.1//NONSGML v1.0//EN
CALSCALE:GREGORIAN
METHOD:PUBLISH
X-WR-CALNAME:Pima County Parenting Coalition
X-ORIGINAL-URL:https://pimaparenting.org
X-WR-CALDESC:Events for Pima County Parenting Coalition
REFRESH-INTERVAL;VALUE=DURATION:PT1H
X-Robots-Tag:noindex
X-PUBLISHED-TTL:PT1H
BEGIN:VTIMEZONE
TZID:America/Phoenix
BEGIN:STANDARD
TZOFFSETFROM:-0700
TZOFFSETTO:-0700
TZNAME:MST
DTSTART:20240101T000000
END:STANDARD
END:VTIMEZONE
BEGIN:VEVENT
DTSTART;TZID=America/Phoenix:20250924T090000
DTEND;TZID=America/Phoenix:20250924T100000
DTSTAMP:20260424T161840
CREATED:20250813T202343Z
LAST-MODIFIED:20250813T202343Z
UID:10003712-1758704400-1758708000@pimaparenting.org
SUMMARY:Fun Family Fitness
DESCRIPTION:Have fun getting fit with your child while building healthy habits for life! Enjoy playful movement\, games\, and bonding time in a supportive\, active class that makes fitness fun for the whole family. A great way to inspire a lifelong love of wellness—together!
URL:https://pimaparenting.org/event/fun-family-fitness-4/
LOCATION:Family Resource Center at Sahuarita Food Bank\, 17750 S. La Canada\, Sahuarita\, AZ\, 85629\, United States
CATEGORIES:Families with Children Birth to Five
ATTACH;FMTTYPE=image/jpeg:https://pimaparenting.org/wp-content/uploads/2024/11/FFF-at-SFB-2.0.jpg
ORGANIZER;CN="Family Resource Center at Sahuarita Food Bank":MAILTO:irodela@sfb-crc.org
END:VEVENT
BEGIN:VEVENT
DTSTART;TZID=America/Phoenix:20250924T090000
DTEND;TZID=America/Phoenix:20250924T100000
DTSTAMP:20260424T161840
CREATED:20250818T192802Z
LAST-MODIFIED:20250818T192802Z
UID:10003778-1758704400-1758708000@pimaparenting.org
SUMMARY:Masaje de manos nutritivas para bebés-Los Ranchitos Family Resource Center
DESCRIPTION:Los padres aprenderán varias técnicas de masaje mientras aprenden sobre las ventajas de la terapia de masaje para su bebé. Tenga en cuenta que los padres y el bebé (0-9 meses) deben asistir juntos a esta clase.
URL:https://pimaparenting.org/event/masaje-de-manos-nutritivas-para-bebes-los-ranchitos-family-resource-center-26/
LOCATION:Family Resource Center at Los Ranchitos\, 2054 E Ginter Rd\, Tucson\, AZ\, 85706\, United States
CATEGORIES:Families with Children Birth to Five
ATTACH;FMTTYPE=image/jpeg:https://pimaparenting.org/wp-content/uploads/2024/03/Baby-Massage-at-SUSD.jpg
ORGANIZER;CN="Laura Ontiveros-EBF":MAILTO:lontiveros@blake.easterseals.com
END:VEVENT
BEGIN:VEVENT
DTSTART;TZID=America/Phoenix:20250924T090000
DTEND;TZID=America/Phoenix:20250924T100000
DTSTAMP:20260424T161840
CREATED:20250818T204549Z
LAST-MODIFIED:20250818T204549Z
UID:10003783-1758704400-1758708000@pimaparenting.org
SUMMARY:Wonders of the Desert: Nature Play & Storytime
DESCRIPTION:Wonders of the Desert: Nature Play & Storytime-Lizards \nJoin us for an enriching sensory adventure in Wonders of the Desert\, where young children (ages 2–5) explore the natural world through play-based\, developmentally appropriate outdoor activities. Guided by a trained nature-based educator\, each session offers three to four fun hands-on experiences—like digging\, building\, crafting\, and observing—designed to spark curiosity and build early learning skills. We’ll wrap up with a themed Storytime that ties everything together\, helping little ones connect\, imagine\, and grow in nature. All participants will be given a Family Activity page in English & Spanish to extend the learning and fun at home. \nThis week’s class Lizards- Families will observe and pretend to be desert lizards\, learning how they move\, stay cool\, and hide in their environment. Through playful games and activities\, children build body awareness\, practice observation skills\, and discover how lizards survive in the desert.
URL:https://pimaparenting.org/event/wonders-of-the-desert-nature-play-storytime-10/
LOCATION:Family Resource Center at Robles Elementary\, 9875 S Sasabe Rd\, Tucson\, AZ\, 85736\, United States
CATEGORIES:Families with Children Birth to Five
ATTACH;FMTTYPE=image/png:https://pimaparenting.org/wp-content/uploads/2025/07/Wonders-of-the-Desert-at-AVSD.png
ORGANIZER;CN="Debi with CFNPPC":MAILTO:debimorgan4@gmail.com
END:VEVENT
BEGIN:VEVENT
DTSTART;TZID=America/Phoenix:20250924T103000
DTEND;TZID=America/Phoenix:20250924T120000
DTSTAMP:20260424T161840
CREATED:20250717T045157Z
LAST-MODIFIED:20250717T045157Z
UID:10003680-1758709800-1758715200@pimaparenting.org
SUMMARY:Clase de Cocina Nutrición Familiar/Clase #8 Tomar decisiones inteligentes al comer fuera
DESCRIPTION:¡Los participantes recibirán recursos para crear comidas nutritivas que ¡a tus hijos les encantarán! Asiste a las 8 clases y recibirás una bolsa grande aislada llena de recetas y utensilios de cocina. \nClase #1 Introducción a MiPlato\nClase #2 Elegir más frutas y verduras\nClase #3 Planificar\, saber qué habrá para la cena\nClase #4 Comprar\, obtener lo mejor por menos / Comprar con valor\, revisar las etiquetas\nClase #5 Preparar de manera segura / Preparar rápido\, comer en casa\nClase #6 Desayuno inteligente / Almuerzo inteligente\nClase #7 Elecciones inteligentes de comida rápida\nClase #8 Tomar decisiones inteligentes al comer fuera \n 
URL:https://pimaparenting.org/event/clase-de-cocina-nutricion-familiar-clase-8-tomar-decisiones-inteligentes-al-comer-fuera-2/
LOCATION:Family Resource Center at Los Ranchitos\, 2054 E Ginter Rd\, Tucson\, AZ\, 85706\, United States
CATEGORIES:Families with Children Birth to Five
ATTACH;FMTTYPE=image/jpeg:https://pimaparenting.org/wp-content/uploads/2024/11/Family-Resource-Center-Logo-1.jpg
ORGANIZER;CN="Family Resource Center at Los Ranchitos":MAILTO:MyrnaL@susd12.org
END:VEVENT
BEGIN:VEVENT
DTSTART;TZID=America/Phoenix:20250924T123000
DTEND;TZID=America/Phoenix:20250924T133000
DTSTAMP:20260424T161840
CREATED:20250815T230948Z
LAST-MODIFIED:20250906T031741Z
UID:10003770-1758717000-1758720600@pimaparenting.org
SUMMARY:Kids in Motion/Niños en Movimiento
DESCRIPTION:Kids in Motion is an active and fun class that promotes your child’s gross motor skill development through energetic and exciting activities.  \nNiños en Movimiento es una clase activa y divertida que promueve el desarrollo de la motricidad gruesa de su hijo a través de actividades enérgicas y emocionantes.
URL:https://pimaparenting.org/event/kids-in-motion-ninos-en-movimiento-28/
LOCATION:Family Resource Center at Los Ranchitos\, 2054 E Ginter Rd\, Tucson\, AZ\, 85706\, United States
CATEGORIES:Families with Children Birth to Five
ATTACH;FMTTYPE=image/jpeg:https://pimaparenting.org/wp-content/uploads/2024/11/Kids-in-Motion-at-SUSD-2.0.jpg
ORGANIZER;CN="Jeannette with UWTSA":MAILTO:jlillyrmrz@gmail.com
END:VEVENT
END:VCALENDAR