BEGIN:VCALENDAR
VERSION:2.0
PRODID:-//Pima County Parenting Coalition - ECPv6.15.16.1//NONSGML v1.0//EN
CALSCALE:GREGORIAN
METHOD:PUBLISH
X-WR-CALNAME:Pima County Parenting Coalition
X-ORIGINAL-URL:https://pimaparenting.org
X-WR-CALDESC:Events for Pima County Parenting Coalition
REFRESH-INTERVAL;VALUE=DURATION:PT1H
X-Robots-Tag:noindex
X-PUBLISHED-TTL:PT1H
BEGIN:VTIMEZONE
TZID:America/Phoenix
BEGIN:STANDARD
TZOFFSETFROM:-0700
TZOFFSETTO:-0700
TZNAME:MST
DTSTART:20250101T000000
END:STANDARD
END:VTIMEZONE
BEGIN:VEVENT
DTSTART;TZID=America/Phoenix:20260409T090000
DTEND;TZID=America/Phoenix:20260409T100000
DTSTAMP:20260423T111310
CREATED:20260323T181240Z
LAST-MODIFIED:20260323T181240Z
UID:10004632-1775725200-1775728800@pimaparenting.org
SUMMARY:Stay & Play- Toddler Time / Family Resource Center at Sahuarita Food Bank
DESCRIPTION:Join us for our Toddler Time class\, designed for families with children from infants to 2 years old! In this interactive environment\, grownups and little ones will engage in play and socialization using a variety of carefully selected materials that promote holistic development. Our focus is on enhancing social skills\, literacy\, and communication\, providing a nurturing space for toddlers to explore and grow together with their caregivers. Come enjoy the fun while fostering essential skills for your child’s early years!
URL:https://pimaparenting.org/event/stay-play-toddler-time-family-resource-center-at-sahuarita-food-bank-7/
LOCATION:Family Resource Center at Sahuarita Food Bank\, 17750 S. La Canada\, Sahuarita\, AZ\, 85629\, United States
CATEGORIES:Families with Children Birth to Five
ATTACH;FMTTYPE=image/jpeg:https://pimaparenting.org/wp-content/uploads/2024/12/Toddler-Time-at-SFB-2.0.jpg
ORGANIZER;CN="Lela Messick-UWTSA":MAILTO:lmessick@unitedwaytucson.org
END:VEVENT
BEGIN:VEVENT
DTSTART;TZID=America/Phoenix:20260409T103000
DTEND;TZID=America/Phoenix:20260409T113000
DTSTAMP:20260423T111310
CREATED:20260324T154552Z
LAST-MODIFIED:20260324T155518Z
UID:10004649-1775730600-1775734200@pimaparenting.org
SUMMARY:Wonders of the Desert: Nature Play & Storytime
DESCRIPTION:Wonders of the Desert: Nature Play & Storytime: Rain and Rainbows \nWonders of the Desert invites children ages 2–5 their caregivers to explore nature through playful\, hands-on outdoor activities led by a trained educator. Each session includes engaging experiences like digging\, building\, and crafting\, plus a themed Storytime. Families also receive a bilingual activity page to continue learning at home. \nRain and Rainbows: Children and caregivers learn about how rain brings life to the desert by helping plants grow and filling water sources. They explore the magic of rainbows as a colorful sign of rain and renewal. This experience inspires curiosity about weather\, nature’s cycles\, and the beauty of the desert after rain\, fostering a deeper connection to the environment. \n  \n 
URL:https://pimaparenting.org/event/wonders-of-the-desert-nature-play-storytime-38/
LOCATION:Family Resource Center at Sahuarita Food Bank\, 17750 S. La Canada\, Sahuarita\, AZ\, 85629\, United States
CATEGORIES:Families with Children Birth to Five
ATTACH;FMTTYPE=image/png:https://pimaparenting.org/wp-content/uploads/2025/07/Wonders-of-the-Desert-at-SFB.png
ORGANIZER;CN="Debi Morgan":MAILTO:debimorgan4@gmail.com
END:VEVENT
BEGIN:VEVENT
DTSTART;TZID=America/Phoenix:20260409T103000
DTEND;TZID=America/Phoenix:20260409T113000
DTSTAMP:20260423T111310
CREATED:20260324T220432Z
LAST-MODIFIED:20260324T220432Z
UID:10004690-1775730600-1775734200@pimaparenting.org
SUMMARY:Cardio Beats: Family Drum Fitness
DESCRIPTION:Get ready to move\, groove\, and sweat — Cardio Beats is a high-energy\, family-friendly fitness class designed to bring parents and kids together through rhythm and movement! Led by Noah at Parent Aid\, this unique experience combines upbeat cardio exercises for adults with fun\, age-appropriate drumming for little ones\, creating a shared space for wellness and connection. \nWhether you’re looking to boost your energy\, bond with your child\, or just have a blast — this class is for you!\n👟 Wear comfy clothes and sneakers\n💧 Bring your water bottle\n🎶 And get ready to find your family rhythm! \nFREE in-person class at the Family Resource Center at the Sahuarita Food Bank.\nGot questions? Reach out to Noah — we’re happy to help! \nSpaces are limited — register today and join the beat!
URL:https://pimaparenting.org/event/cardio-beats-family-drum-fitness-24/
LOCATION:Family Resource Center at Los Ranchitos\, 2054 E Ginter Rd\, Tucson\, AZ\, 85706\, United States
CATEGORIES:Families with Children Birth to Five
ATTACH;FMTTYPE=image/png:https://pimaparenting.org/wp-content/uploads/2025/07/Cardio-Beats-at-SUSD.png
ORGANIZER;CN="Noah Paul - PA":MAILTO:noah@parentaid.org
END:VEVENT
BEGIN:VEVENT
DTSTART;TZID=America/Phoenix:20260409T110000
DTEND;TZID=America/Phoenix:20260409T120000
DTSTAMP:20260423T111310
CREATED:20260210T180902Z
LAST-MODIFIED:20260210T180902Z
UID:10004486-1775732400-1775736000@pimaparenting.org
SUMMARY:Rx 360 Substance Misuse and Naloxone training
DESCRIPTION:Learn how to store and dispose of RX drugs safely.  Learn how to use Narcan to reverse an opioid overdose.
URL:https://pimaparenting.org/event/rx-360-substance-misuse-and-naloxone-training-4/2026-04-09/
LOCATION:Zoom\, Arizona
CATEGORIES:All Caregivers,Behavioral Health,Families with Children Birth to Five,Families with School-aged (6-12) Children,Families with Teens,Foster Parents,Grandparents Raising Kids,Providers
ATTACH;FMTTYPE=image/png:https://pimaparenting.org/wp-content/uploads/2026/02/prescription-drugs-and-fentanyl-training.png
END:VEVENT
BEGIN:VEVENT
DTSTART;TZID=America/Phoenix:20260409T163000
DTEND;TZID=America/Phoenix:20260409T173000
DTSTAMP:20260423T111310
CREATED:20260325T151242Z
LAST-MODIFIED:20260325T151242Z
UID:10004707-1775752200-1775755800@pimaparenting.org
SUMMARY:Story School Session 2: The Joy of Sharing Books and Stories/La Alegría de Compartir Libros e Historias
DESCRIPTION:STORY SCHOOL  \nStory School is a fun\, family-centered early literacy program for families with children ages 0–5. Caregivers learn how to support their child’s reading growth while building school readiness. Families enjoy music\, movement\, and hands-on literacy activities together—and receive up to 22 free books to build a home library. Families are encouraged to join us for all 12 sessions to get the most out of this shared learning experience. \nVisit www.mystoryschool.org/apply to register today! \nStory School es un programa de alfabetización temprana divertido y centrado en la familia para familias con niños de 0 a 5 años. Los cuidadores aprenden cómo apoyar el crecimiento lectoescritor de su hijo mientras desarrollan la preparación escolar. Las familias disfrutan de música\, movimiento y actividades prácticas de alfabetización juntos\, y reciben hasta 22 libros gratuitos para construir una biblioteca en casa. Se anima a las familias a unirse a nosotros en las 12 sesiones para aprovechar al máximo esta experiencia de aprendizaje compartido. \n¡Visita www.mystoryschool.org/apply para registrarte hoy! \n  \nSession 1    Program Overview/Visión General del Programa \nSession 2     The Joy of Sharing Books and Stories/La Alegría de Compartir Libros e Historias \nSession 3    The Magic of Sharing Stories and Reading/La Magia de Compartir Historias y Leer \nSession 4     The Superpower of Vocabulary/El Superpoder del Vocabulario \nSession 5    Building your Child’s Word Power/Desarrollando el Poder de las Palabras de tu Hijo \nSession 6      Let’s Play with the Sounds of Language/Juguemos con los Sonidos del Lenguaje \nSession 7    Discovering the Rhythm and Sounds of Words/ Descubriendo el Ritmo y los Sonidos de las Palabras \nSession 8    ABCs- Shapes to Symbols to Letters/ABC- De Formas a Símbolos a Letras \nSession 9     ABCs- Transforming Shapes into Symbols and Alphabet Letters/ABC- Transformando Formas en Símbolos y Letras del Alfabeto \nSession 10  Making Books Come Alive/Dando Vida a los Libros \nSession 11  Turning Every Book Into an Adventure/Convirtiendo Cada Libro en una Aventura \nSession 12 Celebration/Celebración \n  \n  \n  \n  \n 
URL:https://pimaparenting.org/event/story-school-session-2-the-joy-of-sharing-books-and-stories-la-alegria-de-compartir-libros-e-historias/
LOCATION:Family Resource Center at Los Ranchitos\, 2054 E Ginter Rd\, Tucson\, AZ\, 85706\, United States
CATEGORIES:Families with Children Birth to Five
ATTACH;FMTTYPE=image/png:https://pimaparenting.org/wp-content/uploads/2025/07/Story-School-at-SUSD-2.0.png
ORGANIZER;CN="Nando Trujillo-MWFB":MAILTO:nando@makewayforbooks.org
END:VEVENT
BEGIN:VEVENT
DTSTART;TZID=America/Phoenix:20260409T173000
DTEND;TZID=America/Phoenix:20260409T193000
DTSTAMP:20260423T111310
CREATED:20260325T160005Z
LAST-MODIFIED:20260325T224133Z
UID:10004735-1775755800-1775763000@pimaparenting.org
SUMMARY:Ignorar como técnica de crianza-CLASE VIRTUAL
DESCRIPTION:Ignorar como técnica de crianza \nEl objetivo de esta clase es aprender a ignorar el comportamiento irritante y no deseado de los ninos. \nRegístrate en Ignorar como tecnica de crianza ⋆ Casa de los Niños
URL:https://pimaparenting.org/event/ignorar-como-tecnica-de-crianza-4/
LOCATION:Family Resource Center at Sahuarita Food Bank\, 17750 S. La Canada\, Sahuarita\, AZ\, 85629\, United States
CATEGORIES:Families with Children Birth to Five
ATTACH;FMTTYPE=image/jpeg:https://pimaparenting.org/wp-content/uploads/2024/03/Casa-logo.jpg
ORGANIZER;CN="Casa de los Ninos":MAILTO:cbolger@casadelosninos.org
END:VEVENT
BEGIN:VEVENT
DTSTART;TZID=America/Phoenix:20260409T173000
DTEND;TZID=America/Phoenix:20260409T193000
DTSTAMP:20260423T111310
CREATED:20260325T160032Z
LAST-MODIFIED:20260325T230859Z
UID:10004736-1775755800-1775763000@pimaparenting.org
SUMMARY:Ignorar como técnica de crianza-CLASE VIRTUAL
DESCRIPTION:Ignorar como técnica de crianza \nEl objetivo de esta clase es aprender a ignorar el comportamiento irritante y no deseado de los ninos. \nRegístrate en Ignorar como tecnica de crianza ⋆ Casa de los Niños
URL:https://pimaparenting.org/event/ignorar-como-tecnica-de-crianza-5/
LOCATION:Family Resource Center at Los Ranchitos\, 2054 E Ginter Rd\, Tucson\, AZ\, 85706\, United States
CATEGORIES:Families with Children Birth to Five
ATTACH;FMTTYPE=image/jpeg:https://pimaparenting.org/wp-content/uploads/2024/03/Casa-logo.jpg
ORGANIZER;CN="Casa de los Ninos":MAILTO:cbolger@casadelosninos.org
END:VEVENT
BEGIN:VEVENT
DTSTART;TZID=America/Phoenix:20260409T173000
DTEND;TZID=America/Phoenix:20260409T193000
DTSTAMP:20260423T111310
CREATED:20260325T160056Z
LAST-MODIFIED:20260325T230110Z
UID:10004737-1775755800-1775763000@pimaparenting.org
SUMMARY:Ignorar como técnica de crianza-CLASE VIRTUAL
DESCRIPTION:Ignorar como técnica de crianza \nEl objetivo de esta clase es aprender a ignorar el comportamiento irritante y no deseado de los ninos. \nRegístrate en Ignorar como tecnica de crianza ⋆ Casa de los Niños
URL:https://pimaparenting.org/event/ignorar-como-tecnica-de-crianza-6/
LOCATION:Family Resource Center at Robles Elementary\, 9875 S Sasabe Rd\, Tucson\, AZ\, 85736\, United States
CATEGORIES:Families with Children Birth to Five
ATTACH;FMTTYPE=image/jpeg:https://pimaparenting.org/wp-content/uploads/2024/03/Casa-logo.jpg
ORGANIZER;CN="Casa de los Ninos":MAILTO:cbolger@casadelosninos.org
END:VEVENT
END:VCALENDAR