BEGIN:VCALENDAR
VERSION:2.0
PRODID:-//Pima County Parenting Coalition - ECPv6.15.16.1//NONSGML v1.0//EN
CALSCALE:GREGORIAN
METHOD:PUBLISH
X-ORIGINAL-URL:https://pimaparenting.org
X-WR-CALDESC:Events for Pima County Parenting Coalition
REFRESH-INTERVAL;VALUE=DURATION:PT1H
X-Robots-Tag:noindex
X-PUBLISHED-TTL:PT1H
BEGIN:VTIMEZONE
TZID:America/Phoenix
BEGIN:STANDARD
TZOFFSETFROM:-0700
TZOFFSETTO:-0700
TZNAME:MST
DTSTART:20250101T000000
END:STANDARD
END:VTIMEZONE
BEGIN:VEVENT
DTSTART;TZID=America/Phoenix:20260421T103000
DTEND;TZID=America/Phoenix:20260421T113000
DTSTAMP:20260423T111407
CREATED:20260223T174158Z
LAST-MODIFIED:20260223T174158Z
UID:10004556-1776767400-1776771000@pimaparenting.org
SUMMARY:Family Nutrition-Class #5 Fix it Safe/Fix it Fast\, Eat at Home
DESCRIPTION:Participants will receive resources to create nutritious meals your kids will eat! Attend all 8 classes and receive a large\, insulated bag filled with recipes and cooking items! \nClass #1 Introduction to MyPlate\nClass #2 Choosing more Fruits and Veggies\nClass #3 Plan\, Know what’s for Dinner\nClass #4 Shop\, Get the Best for less/Shop for Value\, Check the Facts\nClass #5 Fix it Safe/Fix it Fast\, Eat at Home\nClass #6 Smart Breakfast/Smart Lunch\nClass #7 Smart Fast-Food Choices\nClass #8 Making Smart Choices when Eating Out \n  \n 
URL:https://pimaparenting.org/event/family-nutrition-class-5-fix-it-safe-fix-it-fast-eat-at-home/
LOCATION:Family Resource Center at Sahuarita Food Bank\, 17750 S. La Canada\, Sahuarita\, AZ\, 85629\, United States
CATEGORIES:Families with Children Birth to Five
ATTACH;FMTTYPE=image/jpeg:https://pimaparenting.org/wp-content/uploads/2024/11/Family-Resource-Center-Logo-1.jpg
ORGANIZER;CN="Ivonne Martinez":MAILTO:imartine@arizona.edu
END:VEVENT
BEGIN:VEVENT
DTSTART;TZID=America/Phoenix:20260421T103000
DTEND;TZID=America/Phoenix:20260421T113000
DTSTAMP:20260423T111407
CREATED:20260324T155830Z
LAST-MODIFIED:20260324T155830Z
UID:10004653-1776767400-1776771000@pimaparenting.org
SUMMARY:Wonders of the Desert: Nature Play & Storytime
DESCRIPTION:Wonders of the Desert: Nature Play & Storytime: Butterflies and Caterpillars \nWonders of the Desert invites children ages 2–5 their caregivers to explore nature through playful\, hands-on outdoor activities led by a trained educator. Each session includes engaging experiences like digging\, building\, and crafting\, plus a themed Storytime. Families also receive a bilingual activity page to continue learning at home. \nButterflies and Caterpillars: Children and caregivers learn about the unique butterflies and caterpillars that live in the Sonoran Desert\, discovering their life cycle and how they adapt to the desert environment. They explore the important role these insects play in pollination and the ecosystem. This experience fosters curiosity\, observation skills\, and a deeper appreciation for desert wildlife. \n 
URL:https://pimaparenting.org/event/wonders-of-the-desert-nature-play-storytime-42/
LOCATION:Family Resource Center at Los Ranchitos\, 2054 E Ginter Rd\, Tucson\, AZ\, 85706\, United States
CATEGORIES:Families with Children Birth to Five
ATTACH;FMTTYPE=image/png:https://pimaparenting.org/wp-content/uploads/2025/07/Wonders-of-the-Desert-at-SUSD.png
ORGANIZER;CN="Debi Morgan":MAILTO:debimorgan4@gmail.com
END:VEVENT
BEGIN:VEVENT
DTSTART;TZID=America/Phoenix:20260421T103000
DTEND;TZID=America/Phoenix:20260421T113000
DTSTAMP:20260423T111407
CREATED:20260324T160935Z
LAST-MODIFIED:20260324T160935Z
UID:10004657-1776767400-1776771000@pimaparenting.org
SUMMARY:Zumbini- Robles Elem. Family Resource Center
DESCRIPTION:Come join Vanessa and Parent Aid for a fun hour of music and movement! This class will enhance your child’s development of their social-emotional\, cognitive and physical skills. Zumbini is designed for families with kiddos birth to 5-years old. Zumbini is an interactive activity for Parents and Kiddos! Bring your most comfortable dancing shoes and we’ll see you there! \nPlease note: Videos are used in class to support instruction and curriculum. \n  \n  \n 
URL:https://pimaparenting.org/event/zumbini-robles-elem-family-resource-center-7/
LOCATION:Family Resource Center at Robles Elementary\, 9875 S Sasabe Rd\, Tucson\, AZ\, 85736\, United States
CATEGORIES:All Caregivers,Families with Children Birth to Five
ATTACH;FMTTYPE=image/jpeg:https://pimaparenting.org/wp-content/uploads/2024/11/Zumbini-at-AVSD-2.0.jpg
ORGANIZER;CN="Vanessa Batson- PA":MAILTO:vanessa@parentaid.org
END:VEVENT
BEGIN:VEVENT
DTSTART;TZID=America/Phoenix:20260421T113000
DTEND;TZID=America/Phoenix:20260421T123000
DTSTAMP:20260423T111407
CREATED:20260324T161410Z
LAST-MODIFIED:20260324T161410Z
UID:10004660-1776771000-1776774600@pimaparenting.org
SUMMARY:Happy Hour: Family Playtime
DESCRIPTION:Join Vanessa at Parent Aid for a playful\, stress-free hour of connection\, creativity\, and community! Happy Hour: Family Playtime is a warm and welcoming space where parents and children explore the joy of free play — together. \nThis interactive experience helps little ones build important social skills while giving parents the chance to connect with one another\, share experiences\, and step into their child’s world through play. It’s a perfect blend of bonding\, support\, and fun — no agenda\, no pressure\, just quality time. \n✨ Meet other parents\n🧸 Support your child’s growth through play\n💬 Enjoy thoughtful conversations in a relaxed environment \nCome as you are — stay for the smiles.\nBecause connection is the real happy hour.
URL:https://pimaparenting.org/event/happy-hour-family-playtime-31/
LOCATION:Family Resource Center at Robles Elementary\, 9875 S Sasabe Rd\, Tucson\, AZ\, 85736\, United States
CATEGORIES:Families with Children Birth to Five
ATTACH;FMTTYPE=image/png:https://pimaparenting.org/wp-content/uploads/2025/07/Happy-Hour-at-AVSD.png
ORGANIZER;CN="Vanessa Batson- PA":MAILTO:vanessa@parentaid.org
END:VEVENT
BEGIN:VEVENT
DTSTART;TZID=America/Phoenix:20260421T130000
DTEND;TZID=America/Phoenix:20260421T140000
DTSTAMP:20260423T111407
CREATED:20260210T175619Z
LAST-MODIFIED:20260210T175619Z
UID:10004482-1776776400-1776780000@pimaparenting.org
SUMMARY:The Dangers of Vaping
DESCRIPTION:Learn about the risks of e-cigarettes\, also known as “vapes.” Learn why youth are using vapes and ways to protect youth in your life.
URL:https://pimaparenting.org/event/the-dangers-of-vaping-4/2026-04-21/
LOCATION:Zoom\, Arizona
CATEGORIES:All Caregivers,Behavioral Health,Families with Children Birth to Five,Families with School-aged (6-12) Children,Families with Teens,Foster Parents,Grandparents Raising Kids,Providers
ATTACH;FMTTYPE=image/png:https://pimaparenting.org/wp-content/uploads/2026/02/vaping-and-e-cigarettes.png
END:VEVENT
BEGIN:VEVENT
DTSTART;TZID=America/Phoenix:20260421T130000
DTEND;TZID=America/Phoenix:20260421T140000
DTSTAMP:20260423T111407
CREATED:20260325T144923Z
LAST-MODIFIED:20260325T144923Z
UID:10004701-1776776400-1776780000@pimaparenting.org
SUMMARY:Fine Arts for Kids
DESCRIPTION:Join us for a fun and creative class designed for children and their parents or caregivers! Together\, you’ll explore hands-on activities that encourage focus\, help build self-control and promote teamwork and communication. It’s a great way to bond\, learn\, and get inspired through art!
URL:https://pimaparenting.org/event/fine-arts-for-kids-36/
LOCATION:Family Resource Center at Los Ranchitos\, 2054 E Ginter Rd\, Tucson\, AZ\, 85706\, United States
CATEGORIES:Families with Children Birth to Five
ATTACH;FMTTYPE=image/jpeg:https://pimaparenting.org/wp-content/uploads/2024/11/Fine-Arts-at-SUSD-2.0.jpg
ORGANIZER;CN="Nataly Quiroz- UACE":MAILTO:natalyquiroz@arizona.edu
END:VEVENT
BEGIN:VEVENT
DTSTART;TZID=America/Phoenix:20260421T130000
DTEND;TZID=America/Phoenix:20260421T140000
DTSTAMP:20260423T111407
CREATED:20260325T153509Z
LAST-MODIFIED:20260325T153509Z
UID:10004723-1776776400-1776780000@pimaparenting.org
SUMMARY:Kids Yoga
DESCRIPTION:Kids Yoga is an interactive activity for parents and children to connect with each other and their bodies.  A great and fun way to improve your child’s mobility\, and help them learn techniques to manage stress and emotions.
URL:https://pimaparenting.org/event/kids-yoga-17/
LOCATION:Family Resource Center at Robles Elementary\, 9875 S Sasabe Rd\, Tucson\, AZ\, 85736\, United States
CATEGORIES:Families with Children Birth to Five
ATTACH;FMTTYPE=image/jpeg:https://pimaparenting.org/wp-content/uploads/2024/11/Yoga-at-AVSD-2.0.jpg
ORGANIZER;CN="Stephaine Carl - UACE":MAILTO:sacarl@arizona.edu
END:VEVENT
BEGIN:VEVENT
DTSTART;TZID=America/Phoenix:20260421T163000
DTEND;TZID=America/Phoenix:20260421T173000
DTSTAMP:20260423T111407
CREATED:20260325T151531Z
LAST-MODIFIED:20260325T151531Z
UID:10004710-1776789000-1776792600@pimaparenting.org
SUMMARY:Story School Session 5: Building your Child’s Word Power/Desarrollando el Poder de las Palabras de tu Hijo
DESCRIPTION:STORY SCHOOL  \nStory School is a fun\, family-centered early literacy program for families with children ages 0–5. Caregivers learn how to support their child’s reading growth while building school readiness. Families enjoy music\, movement\, and hands-on literacy activities together—and receive up to 22 free books to build a home library. Families are encouraged to join us for all 12 sessions to get the most out of this shared learning experience. \nVisit www.mystoryschool.org/apply to register today! \nStory School es un programa de alfabetización temprana divertido y centrado en la familia para familias con niños de 0 a 5 años. Los cuidadores aprenden cómo apoyar el crecimiento lectoescritor de su hijo mientras desarrollan la preparación escolar. Las familias disfrutan de música\, movimiento y actividades prácticas de alfabetización juntos\, y reciben hasta 22 libros gratuitos para construir una biblioteca en casa. Se anima a las familias a unirse a nosotros en las 12 sesiones para aprovechar al máximo esta experiencia de aprendizaje compartido. \n¡Visita www.mystoryschool.org/apply para registrarte hoy! \n  \nSession 1    Program Overview/Visión General del Programa \nSession 2     The Joy of Sharing Books and Stories/La Alegría de Compartir Libros e Historias \nSession 3    The Magic of Sharing Stories and Reading/La Magia de Compartir Historias y Leer \nSession 4     The Superpower of Vocabulary/El Superpoder del Vocabulario \nSession 5    Building your Child’s Word Power/Desarrollando el Poder de las Palabras de tu Hijo \nSession 6      Let’s Play with the Sounds of Language/Juguemos con los Sonidos del Lenguaje \nSession 7    Discovering the Rhythm and Sounds of Words/ Descubriendo el Ritmo y los Sonidos de las Palabras \nSession 8    ABCs- Shapes to Symbols to Letters/ABC- De Formas a Símbolos a Letras \nSession 9     ABCs- Transforming Shapes into Symbols and Alphabet Letters/ABC- Transformando Formas en Símbolos y Letras del Alfabeto \nSession 10  Making Books Come Alive/Dando Vida a los Libros \nSession 11  Turning Every Book Into an Adventure/Convirtiendo Cada Libro en una Aventura \nSession 12 Celebration/Celebración \n  \n  \n  \n  \n 
URL:https://pimaparenting.org/event/story-school-session-5-building-your-childs-word-power-desarrollando-el-poder-de-las-palabras-de-tu-hijo/
LOCATION:Family Resource Center at Los Ranchitos\, 2054 E Ginter Rd\, Tucson\, AZ\, 85706\, United States
CATEGORIES:Families with Children Birth to Five
ATTACH;FMTTYPE=image/png:https://pimaparenting.org/wp-content/uploads/2025/07/Story-School-at-SUSD-2.0.png
ORGANIZER;CN="Nando Trujillo-MWFB":MAILTO:nando@makewayforbooks.org
END:VEVENT
BEGIN:VEVENT
DTSTART;TZID=America/Phoenix:20260421T173000
DTEND;TZID=America/Phoenix:20260421T193000
DTSTAMP:20260423T111407
CREATED:20260325T160952Z
LAST-MODIFIED:20260325T224614Z
UID:10004744-1776792600-1776799800@pimaparenting.org
SUMMARY:Parenting to Prevent Bullying-VIRTUAL CLASS
DESCRIPTION:Bullying is a serious problem in our schools today. Parents learn what to do to help their child deal with bullying and identify key social skills that can help prevent young people from becoming victims or bullies \nRegístrate en Parenting to Prevent Bullying ⋆ Casa de los Niños
URL:https://pimaparenting.org/event/parenting-to-prevent-bullying/
LOCATION:Family Resource Center at Sahuarita Food Bank\, 17750 S. La Canada\, Sahuarita\, AZ\, 85629\, United States
CATEGORIES:Families with Children Birth to Five
ATTACH;FMTTYPE=image/jpeg:https://pimaparenting.org/wp-content/uploads/2024/03/Casa-logo.jpg
ORGANIZER;CN="Casa de los Ninos":MAILTO:cbolger@casadelosninos.org
END:VEVENT
BEGIN:VEVENT
DTSTART;TZID=America/Phoenix:20260421T173000
DTEND;TZID=America/Phoenix:20260421T193000
DTSTAMP:20260423T111407
CREATED:20260325T161012Z
LAST-MODIFIED:20260325T231124Z
UID:10004745-1776792600-1776799800@pimaparenting.org
SUMMARY:Parenting to Prevent Bullying-VIRTUAL CLASS
DESCRIPTION:Bullying is a serious problem in our schools today. Parents learn what to do to help their child deal with bullying and identify key social skills that can help prevent young people from becoming victims or bullies \nRegístrate en Parenting to Prevent Bullying ⋆ Casa de los Niños
URL:https://pimaparenting.org/event/parenting-to-prevent-bullying-2/
LOCATION:Family Resource Center at Los Ranchitos\, 2054 E Ginter Rd\, Tucson\, AZ\, 85706\, United States
CATEGORIES:Families with Children Birth to Five
ATTACH;FMTTYPE=image/jpeg:https://pimaparenting.org/wp-content/uploads/2024/03/Casa-logo.jpg
ORGANIZER;CN="Casa de los Ninos":MAILTO:cbolger@casadelosninos.org
END:VEVENT
BEGIN:VEVENT
DTSTART;TZID=America/Phoenix:20260421T173000
DTEND;TZID=America/Phoenix:20260421T193000
DTSTAMP:20260423T111407
CREATED:20260325T161029Z
LAST-MODIFIED:20260325T230245Z
UID:10004746-1776792600-1776799800@pimaparenting.org
SUMMARY:Parenting to Prevent Bullying-VIRTUAL CLASS
DESCRIPTION:Bullying is a serious problem in our schools today. Parents learn what to do to help their child deal with bullying and identify key social skills that can help prevent young people from becoming victims or bullies \nRegístrate en Parenting to Prevent Bullying ⋆ Casa de los Niños
URL:https://pimaparenting.org/event/parenting-to-prevent-bullying-3/
LOCATION:Family Resource Center at Robles Elementary\, 9875 S Sasabe Rd\, Tucson\, AZ\, 85736\, United States
CATEGORIES:Families with Children Birth to Five
ATTACH;FMTTYPE=image/jpeg:https://pimaparenting.org/wp-content/uploads/2024/03/Casa-logo.jpg
ORGANIZER;CN="Casa de los Ninos":MAILTO:cbolger@casadelosninos.org
END:VEVENT
END:VCALENDAR