BEGIN:VCALENDAR
VERSION:2.0
PRODID:-//Pima County Parenting Coalition - ECPv6.15.16.1//NONSGML v1.0//EN
CALSCALE:GREGORIAN
METHOD:PUBLISH
X-WR-CALNAME:Pima County Parenting Coalition
X-ORIGINAL-URL:https://pimaparenting.org
X-WR-CALDESC:Events for Pima County Parenting Coalition
REFRESH-INTERVAL;VALUE=DURATION:PT1H
X-Robots-Tag:noindex
X-PUBLISHED-TTL:PT1H
BEGIN:VTIMEZONE
TZID:America/Phoenix
BEGIN:STANDARD
TZOFFSETFROM:-0700
TZOFFSETTO:-0700
TZNAME:MST
DTSTART:20250101T000000
END:STANDARD
END:VTIMEZONE
BEGIN:VEVENT
DTSTART;TZID=America/Phoenix:20260203T110000
DTEND;TZID=America/Phoenix:20260203T120000
DTSTAMP:20260423T141308
CREATED:20251217T204956Z
LAST-MODIFIED:20251217T204956Z
UID:10004215-1770116400-1770120000@pimaparenting.org
SUMMARY:Trauma-Informed Rx 360 Substance Misuse and Naloxone training
DESCRIPTION:Learn how toxic stress and trauma impacts the brain.  Learn about the connection between trauma and substance misuse.  Learn how to use Narcan to reverse an opioid overdose.
URL:https://pimaparenting.org/event/trauma-informed-rx-360-substance-misuse-and-naloxone-training-9/2026-02-03/
LOCATION:Zoom\, Arizona
CATEGORIES:All Caregivers,Behavioral Health,Families with Children Birth to Five,Families with School-aged (6-12) Children,Families with Teens,Foster Parents,Grandparents Raising Kids,Providers
ATTACH;FMTTYPE=image/png:https://pimaparenting.org/wp-content/uploads/2025/12/Trauma-Informed-Rx360-February.png
END:VEVENT
BEGIN:VEVENT
DTSTART;TZID=America/Phoenix:20260204T100000
DTEND;TZID=America/Phoenix:20260204T110000
DTSTAMP:20260423T141308
CREATED:20251217T205238Z
LAST-MODIFIED:20251217T205238Z
UID:10004217-1770199200-1770202800@pimaparenting.org
SUMMARY:The Dangers of Vaping
DESCRIPTION:Learn about the risks of e-cigarettes\, also known as “vapes.” Learn why youth are using vapes and ways to protect youth in your life.
URL:https://pimaparenting.org/event/the-dangers-of-vaping-3/2026-02-04/
LOCATION:Zoom\, Arizona
CATEGORIES:All Caregivers,Behavioral Health,Families with Children Birth to Five,Families with School-aged (6-12) Children,Families with Teens,Foster Parents,Grandparents Raising Kids,Providers
ATTACH;FMTTYPE=image/png:https://pimaparenting.org/wp-content/uploads/2025/12/Dangers-of-Vaping-February.png
END:VEVENT
BEGIN:VEVENT
DTSTART;TZID=America/Phoenix:20260211T100000
DTEND;TZID=America/Phoenix:20260211T110000
DTSTAMP:20260423T141308
CREATED:20251217T204356Z
LAST-MODIFIED:20260210T180901Z
UID:10004211-1770804000-1770807600@pimaparenting.org
SUMMARY:Rx 360 Substance Misuse and Naloxone training
DESCRIPTION:Learn how to store and dispose of RX drugs safely.  Learn how to use Narcan to reverse an opioid overdose.
URL:https://pimaparenting.org/event/rx-360-substance-misuse-and-naloxone-training-8/2026-02-11/
LOCATION:Zoom\, Arizona
CATEGORIES:All Caregivers,Behavioral Health,Families with Children Birth to Five,Families with School-aged (6-12) Children,Families with Teens,Foster Parents,Grandparents Raising Kids,Providers
ATTACH;FMTTYPE=image/png:https://pimaparenting.org/wp-content/uploads/2025/12/Rx360-February.png
END:VEVENT
BEGIN:VEVENT
DTSTART;TZID=America/Phoenix:20260216T130000
DTEND;TZID=America/Phoenix:20260216T140000
DTSTAMP:20260423T141308
CREATED:20251217T204956Z
LAST-MODIFIED:20251217T204956Z
UID:10004216-1771246800-1771250400@pimaparenting.org
SUMMARY:Trauma-Informed Rx 360 Substance Misuse and Naloxone training
DESCRIPTION:Learn how toxic stress and trauma impacts the brain.  Learn about the connection between trauma and substance misuse.  Learn how to use Narcan to reverse an opioid overdose.
URL:https://pimaparenting.org/event/trauma-informed-rx-360-substance-misuse-and-naloxone-training-9/2026-02-16/
LOCATION:Zoom\, Arizona
CATEGORIES:All Caregivers,Behavioral Health,Families with Children Birth to Five,Families with School-aged (6-12) Children,Families with Teens,Foster Parents,Grandparents Raising Kids,Providers
ATTACH;FMTTYPE=image/png:https://pimaparenting.org/wp-content/uploads/2025/12/Trauma-Informed-Rx360-February.png
END:VEVENT
BEGIN:VEVENT
DTSTART;TZID=America/Phoenix:20260219T130000
DTEND;TZID=America/Phoenix:20260219T140000
DTSTAMP:20260423T141309
CREATED:20251217T205238Z
LAST-MODIFIED:20251217T205238Z
UID:10004218-1771506000-1771509600@pimaparenting.org
SUMMARY:The Dangers of Vaping
DESCRIPTION:Learn about the risks of e-cigarettes\, also known as “vapes.” Learn why youth are using vapes and ways to protect youth in your life.
URL:https://pimaparenting.org/event/the-dangers-of-vaping-3/2026-02-19/
LOCATION:Zoom\, Arizona
CATEGORIES:All Caregivers,Behavioral Health,Families with Children Birth to Five,Families with School-aged (6-12) Children,Families with Teens,Foster Parents,Grandparents Raising Kids,Providers
ATTACH;FMTTYPE=image/png:https://pimaparenting.org/wp-content/uploads/2025/12/Dangers-of-Vaping-February.png
END:VEVENT
BEGIN:VEVENT
DTSTART;TZID=America/Phoenix:20260226T140000
DTEND;TZID=America/Phoenix:20260226T150000
DTSTAMP:20260423T141309
CREATED:20251217T204356Z
LAST-MODIFIED:20260210T180901Z
UID:10004212-1772114400-1772118000@pimaparenting.org
SUMMARY:Rx 360 Substance Misuse and Naloxone training
DESCRIPTION:Learn how to store and dispose of RX drugs safely.  Learn how to use Narcan to reverse an opioid overdose.
URL:https://pimaparenting.org/event/rx-360-substance-misuse-and-naloxone-training-8/2026-02-26/
LOCATION:Zoom\, Arizona
CATEGORIES:All Caregivers,Behavioral Health,Families with Children Birth to Five,Families with School-aged (6-12) Children,Families with Teens,Foster Parents,Grandparents Raising Kids,Providers
ATTACH;FMTTYPE=image/png:https://pimaparenting.org/wp-content/uploads/2025/12/Rx360-February.png
END:VEVENT
END:VCALENDAR