BEGIN:VCALENDAR
VERSION:2.0
PRODID:-//Pima County Parenting Coalition - ECPv6.15.16.1//NONSGML v1.0//EN
CALSCALE:GREGORIAN
METHOD:PUBLISH
X-ORIGINAL-URL:https://pimaparenting.org
X-WR-CALDESC:Events for Pima County Parenting Coalition
REFRESH-INTERVAL;VALUE=DURATION:PT1H
X-Robots-Tag:noindex
X-PUBLISHED-TTL:PT1H
BEGIN:VTIMEZONE
TZID:America/Phoenix
BEGIN:STANDARD
TZOFFSETFROM:-0700
TZOFFSETTO:-0700
TZNAME:MST
DTSTART:20240101T000000
END:STANDARD
END:VTIMEZONE
BEGIN:VEVENT
DTSTART;TZID=America/Phoenix:20250901T130000
DTEND;TZID=America/Phoenix:20250901T140000
DTSTAMP:20260423T110510
CREATED:20250822T210647Z
LAST-MODIFIED:20250822T210647Z
UID:10003818-1756731600-1756735200@pimaparenting.org
SUMMARY:Trauma-Informed Rx 360 Substance Misuse and Naloxone training
DESCRIPTION:Learn how toxic stress and trauma impacts the brain.  Learn about the connection between trauma and substance misuse.  Learn how to use Narcan to reverse an opioid overdose.
URL:https://pimaparenting.org/event/trauma-informed-rx-360-substance-misuse-and-naloxone-training-6/2025-09-01/
LOCATION:Zoom\, Arizona
CATEGORIES:All Caregivers,Behavioral Health,Families with Children Birth to Five,Families with School-aged (6-12) Children,Families with Teens,Foster Parents,Grandparents Raising Kids,Providers
ATTACH;FMTTYPE=image/png:https://pimaparenting.org/wp-content/uploads/2025/08/Trauma-Informed-Rx360-September.png
END:VEVENT
BEGIN:VEVENT
DTSTART;TZID=America/Phoenix:20250905T100000
DTEND;TZID=America/Phoenix:20250905T110000
DTSTAMP:20260423T110510
CREATED:20250822T210924Z
LAST-MODIFIED:20250822T210924Z
UID:10003820-1757066400-1757070000@pimaparenting.org
SUMMARY:The Dangers of Vaping
DESCRIPTION:Learn about the risks of e-cigarettes\, also known as “vapes.” Learn why youth are using vapes and ways to protect youth in your life.
URL:https://pimaparenting.org/event/the-dangers-of-vaping/2025-09-05/
LOCATION:Zoom\, Arizona
CATEGORIES:All Caregivers,Behavioral Health,Families with Children Birth to Five,Families with School-aged (6-12) Children,Families with Teens,Foster Parents,Grandparents Raising Kids,Providers
ATTACH;FMTTYPE=image/png:https://pimaparenting.org/wp-content/uploads/2025/08/Dangers-of-Vaping-September.png
END:VEVENT
BEGIN:VEVENT
DTSTART;TZID=America/Phoenix:20250909T100000
DTEND;TZID=America/Phoenix:20250909T110000
DTSTAMP:20260423T110510
CREATED:20250822T210424Z
LAST-MODIFIED:20250822T210424Z
UID:10003816-1757412000-1757415600@pimaparenting.org
SUMMARY:Rx 360 Substance Misuse and Naloxone training
DESCRIPTION:Learn how to store and dispose of RX drugs safely.  Learn how to use Narcan to reverse an opioid overdose.
URL:https://pimaparenting.org/event/rx-360-substance-misuse-and-naloxone-training-6/2025-09-09/
LOCATION:Zoom\, Arizona
CATEGORIES:All Caregivers,Behavioral Health,Families with Children Birth to Five,Families with School-aged (6-12) Children,Families with Teens,Foster Parents,Grandparents Raising Kids,Providers
ATTACH;FMTTYPE=image/png:https://pimaparenting.org/wp-content/uploads/2025/08/Rx360-September.png
END:VEVENT
BEGIN:VEVENT
DTSTART;TZID=America/Phoenix:20250911T140000
DTEND;TZID=America/Phoenix:20250911T150000
DTSTAMP:20260423T110510
CREATED:20250822T210924Z
LAST-MODIFIED:20250822T210924Z
UID:10003821-1757599200-1757602800@pimaparenting.org
SUMMARY:The Dangers of Vaping
DESCRIPTION:Learn about the risks of e-cigarettes\, also known as “vapes.” Learn why youth are using vapes and ways to protect youth in your life.
URL:https://pimaparenting.org/event/the-dangers-of-vaping/2025-09-11/
LOCATION:Zoom\, Arizona
CATEGORIES:All Caregivers,Behavioral Health,Families with Children Birth to Five,Families with School-aged (6-12) Children,Families with Teens,Foster Parents,Grandparents Raising Kids,Providers
ATTACH;FMTTYPE=image/png:https://pimaparenting.org/wp-content/uploads/2025/08/Dangers-of-Vaping-September.png
END:VEVENT
BEGIN:VEVENT
DTSTART;TZID=America/Phoenix:20250922T130000
DTEND;TZID=America/Phoenix:20250922T140000
DTSTAMP:20260423T110510
CREATED:20250822T210924Z
LAST-MODIFIED:20250822T210924Z
UID:10003822-1758546000-1758549600@pimaparenting.org
SUMMARY:The Dangers of Vaping
DESCRIPTION:Learn about the risks of e-cigarettes\, also known as “vapes.” Learn why youth are using vapes and ways to protect youth in your life.
URL:https://pimaparenting.org/event/the-dangers-of-vaping/2025-09-22/
LOCATION:Zoom\, Arizona
CATEGORIES:All Caregivers,Behavioral Health,Families with Children Birth to Five,Families with School-aged (6-12) Children,Families with Teens,Foster Parents,Grandparents Raising Kids,Providers
ATTACH;FMTTYPE=image/png:https://pimaparenting.org/wp-content/uploads/2025/08/Dangers-of-Vaping-September.png
END:VEVENT
BEGIN:VEVENT
DTSTART;TZID=America/Phoenix:20250925T140000
DTEND;TZID=America/Phoenix:20250925T150000
DTSTAMP:20260423T110510
CREATED:20250822T210647Z
LAST-MODIFIED:20250822T210647Z
UID:10003819-1758808800-1758812400@pimaparenting.org
SUMMARY:Trauma-Informed Rx 360 Substance Misuse and Naloxone training
DESCRIPTION:Learn how toxic stress and trauma impacts the brain.  Learn about the connection between trauma and substance misuse.  Learn how to use Narcan to reverse an opioid overdose.
URL:https://pimaparenting.org/event/trauma-informed-rx-360-substance-misuse-and-naloxone-training-6/2025-09-25/
LOCATION:Zoom\, Arizona
CATEGORIES:All Caregivers,Behavioral Health,Families with Children Birth to Five,Families with School-aged (6-12) Children,Families with Teens,Foster Parents,Grandparents Raising Kids,Providers
ATTACH;FMTTYPE=image/png:https://pimaparenting.org/wp-content/uploads/2025/08/Trauma-Informed-Rx360-September.png
END:VEVENT
BEGIN:VEVENT
DTSTART;TZID=America/Phoenix:20250929T130000
DTEND;TZID=America/Phoenix:20250929T140000
DTSTAMP:20260423T110510
CREATED:20250822T210424Z
LAST-MODIFIED:20250822T210424Z
UID:10003817-1759150800-1759154400@pimaparenting.org
SUMMARY:Rx 360 Substance Misuse and Naloxone training
DESCRIPTION:Learn how to store and dispose of RX drugs safely.  Learn how to use Narcan to reverse an opioid overdose.
URL:https://pimaparenting.org/event/rx-360-substance-misuse-and-naloxone-training-6/2025-09-29/
LOCATION:Zoom\, Arizona
CATEGORIES:All Caregivers,Behavioral Health,Families with Children Birth to Five,Families with School-aged (6-12) Children,Families with Teens,Foster Parents,Grandparents Raising Kids,Providers
ATTACH;FMTTYPE=image/png:https://pimaparenting.org/wp-content/uploads/2025/08/Rx360-September.png
END:VEVENT
BEGIN:VEVENT
DTSTART;TZID=America/Phoenix:20251121T130000
DTEND;TZID=America/Phoenix:20251121T140000
DTSTAMP:20260423T110510
CREATED:20251118T202316Z
LAST-MODIFIED:20251118T202316Z
UID:10004082-1763730000-1763733600@pimaparenting.org
SUMMARY:Trauma-Informed Rx 360 Substance Misuse and Naloxone training
DESCRIPTION:Learn how toxic stress and trauma impacts the brain.  Learn about the connection between trauma and substance misuse.  Learn how to use Narcan to reverse an opioid overdose.
URL:https://pimaparenting.org/event/trauma-informed-rx-360-substance-misuse-and-naloxone-training/
LOCATION:Zoom\, Arizona
CATEGORIES:All Caregivers,Behavioral Health,Families with Children Birth to Five,Families with School-aged (6-12) Children,Families with Teens,Foster Parents,Grandparents Raising Kids,Providers
ATTACH;FMTTYPE=image/png:https://pimaparenting.org/wp-content/uploads/2025/11/Trauma-Informed-Rx360-November.png
END:VEVENT
BEGIN:VEVENT
DTSTART;TZID=America/Phoenix:20251124T130000
DTEND;TZID=America/Phoenix:20251124T140000
DTSTAMP:20260423T110510
CREATED:20251118T201848Z
LAST-MODIFIED:20251118T201848Z
UID:10004079-1763989200-1763992800@pimaparenting.org
SUMMARY:Rx 360 Substance Misuse and Naloxone training
DESCRIPTION:Learn how to store and dispose of RX drugs safely.  Learn how to use Narcan to reverse an opioid overdose.
URL:https://pimaparenting.org/event/rx-360-substance-misuse-and-naloxone-training/
LOCATION:Zoom\, Arizona
CATEGORIES:All Caregivers,Behavioral Health,Families with Children Birth to Five,Families with School-aged (6-12) Children,Families with Teens,Foster Parents,Grandparents Raising Kids,Providers
ATTACH;FMTTYPE=image/png:https://pimaparenting.org/wp-content/uploads/2025/11/Rx360-November.png
END:VEVENT
BEGIN:VEVENT
DTSTART;TZID=America/Phoenix:20251202T100000
DTEND;TZID=America/Phoenix:20251202T110000
DTSTAMP:20260423T110510
CREATED:20251118T202828Z
LAST-MODIFIED:20251118T202828Z
UID:10004085-1764669600-1764673200@pimaparenting.org
SUMMARY:The Dangers of Vaping
DESCRIPTION:Learn about the risks of e-cigarettes\, also known as “vapes.” Learn why youth are using vapes and ways to protect youth in your life.
URL:https://pimaparenting.org/event/the-dangers-of-vaping-2/2025-12-02/
LOCATION:Zoom\, Arizona
CATEGORIES:All Caregivers,Behavioral Health,Families with Children Birth to Five,Families with School-aged (6-12) Children,Families with Teens,Foster Parents,Grandparents Raising Kids,Providers
ATTACH;FMTTYPE=image/png:https://pimaparenting.org/wp-content/uploads/2025/11/Dangers-of-Vaping-December.png
END:VEVENT
BEGIN:VEVENT
DTSTART;TZID=America/Phoenix:20251203T100000
DTEND;TZID=America/Phoenix:20251203T110000
DTSTAMP:20260423T110510
CREATED:20251118T202544Z
LAST-MODIFIED:20251118T202544Z
UID:10004083-1764756000-1764759600@pimaparenting.org
SUMMARY:Trauma-Informed Rx 360 Substance Misuse and Naloxone training
DESCRIPTION:Learn how toxic stress and trauma impacts the brain.  Learn about the connection between trauma and substance misuse.  Learn how to use Narcan to reverse an opioid overdose.
URL:https://pimaparenting.org/event/trauma-informed-rx-360-substance-misuse-and-naloxone-training-7/2025-12-03/
LOCATION:Zoom\, Arizona
CATEGORIES:All Caregivers,Families with Children Birth to Five,Families with School-aged (6-12) Children,Families with Teens,Foster Parents,Grandparents Raising Kids,Providers
ATTACH;FMTTYPE=image/png:https://pimaparenting.org/wp-content/uploads/2025/11/Trauma-Informed-Rx360-December.png
END:VEVENT
BEGIN:VEVENT
DTSTART;TZID=America/Phoenix:20251209T110000
DTEND;TZID=America/Phoenix:20251209T120000
DTSTAMP:20260423T110510
CREATED:20251118T202108Z
LAST-MODIFIED:20251118T202108Z
UID:10004080-1765278000-1765281600@pimaparenting.org
SUMMARY:Rx 360 Substance Misuse and Naloxone training
DESCRIPTION:Learn how to store and dispose of RX drugs safely.  Learn how to use Narcan to reverse an opioid overdose.
URL:https://pimaparenting.org/event/rx-360-substance-misuse-and-naloxone-training-7/2025-12-09/
LOCATION:Zoom\, Arizona
CATEGORIES:All Caregivers,Behavioral Health,Families with Children Birth to Five,Families with School-aged (6-12) Children,Families with Teens,Foster Parents,Grandparents Raising Kids,Providers
ATTACH;FMTTYPE=image/png:https://pimaparenting.org/wp-content/uploads/2025/11/Rx360-December.png
END:VEVENT
BEGIN:VEVENT
DTSTART;TZID=America/Phoenix:20251212T110000
DTEND;TZID=America/Phoenix:20251212T120000
DTSTAMP:20260423T110510
CREATED:20251118T203142Z
LAST-MODIFIED:20251118T203142Z
UID:10004087-1765537200-1765540800@pimaparenting.org
SUMMARY:The Rise of Fentanyl
DESCRIPTION:Learn about fentanyl\, why people are using it\, and how to reverse an opioid overdose using Narcan in this no-cost virtual training.
URL:https://pimaparenting.org/event/the-rise-of-fentanyl/
LOCATION:Zoom\, Arizona
CATEGORIES:All Caregivers,Behavioral Health,Families with Children Birth to Five,Families with School-aged (6-12) Children,Families with Teens,Foster Parents,Grandparents Raising Kids,Providers
ATTACH;FMTTYPE=image/png:https://pimaparenting.org/wp-content/uploads/2025/11/The-Rise-of-Fentanyl-December.png
END:VEVENT
BEGIN:VEVENT
DTSTART;TZID=America/Phoenix:20251216T130000
DTEND;TZID=America/Phoenix:20251216T140000
DTSTAMP:20260423T110510
CREATED:20251118T202544Z
LAST-MODIFIED:20251118T202544Z
UID:10004084-1765890000-1765893600@pimaparenting.org
SUMMARY:Trauma-Informed Rx 360 Substance Misuse and Naloxone training
DESCRIPTION:Learn how toxic stress and trauma impacts the brain.  Learn about the connection between trauma and substance misuse.  Learn how to use Narcan to reverse an opioid overdose.
URL:https://pimaparenting.org/event/trauma-informed-rx-360-substance-misuse-and-naloxone-training-7/2025-12-16/
LOCATION:Zoom\, Arizona
CATEGORIES:All Caregivers,Families with Children Birth to Five,Families with School-aged (6-12) Children,Families with Teens,Foster Parents,Grandparents Raising Kids,Providers
ATTACH;FMTTYPE=image/png:https://pimaparenting.org/wp-content/uploads/2025/11/Trauma-Informed-Rx360-December.png
END:VEVENT
BEGIN:VEVENT
DTSTART;TZID=America/Phoenix:20251217T180000
DTEND;TZID=America/Phoenix:20251217T190000
DTSTAMP:20260423T110510
CREATED:20251118T202828Z
LAST-MODIFIED:20251118T202828Z
UID:10004086-1765994400-1765998000@pimaparenting.org
SUMMARY:The Dangers of Vaping
DESCRIPTION:Learn about the risks of e-cigarettes\, also known as “vapes.” Learn why youth are using vapes and ways to protect youth in your life.
URL:https://pimaparenting.org/event/the-dangers-of-vaping-2/2025-12-17/
LOCATION:Zoom\, Arizona
CATEGORIES:All Caregivers,Behavioral Health,Families with Children Birth to Five,Families with School-aged (6-12) Children,Families with Teens,Foster Parents,Grandparents Raising Kids,Providers
ATTACH;FMTTYPE=image/png:https://pimaparenting.org/wp-content/uploads/2025/11/Dangers-of-Vaping-December.png
END:VEVENT
BEGIN:VEVENT
DTSTART;TZID=America/Phoenix:20251229T130000
DTEND;TZID=America/Phoenix:20251229T140000
DTSTAMP:20260423T110510
CREATED:20251118T202108Z
LAST-MODIFIED:20251118T202108Z
UID:10004081-1767013200-1767016800@pimaparenting.org
SUMMARY:Rx 360 Substance Misuse and Naloxone training
DESCRIPTION:Learn how to store and dispose of RX drugs safely.  Learn how to use Narcan to reverse an opioid overdose.
URL:https://pimaparenting.org/event/rx-360-substance-misuse-and-naloxone-training-7/2025-12-29/
LOCATION:Zoom\, Arizona
CATEGORIES:All Caregivers,Behavioral Health,Families with Children Birth to Five,Families with School-aged (6-12) Children,Families with Teens,Foster Parents,Grandparents Raising Kids,Providers
ATTACH;FMTTYPE=image/png:https://pimaparenting.org/wp-content/uploads/2025/11/Rx360-December.png
END:VEVENT
BEGIN:VEVENT
DTSTART;TZID=America/Phoenix:20260106T110000
DTEND;TZID=America/Phoenix:20260106T120000
DTSTAMP:20260423T110510
CREATED:20251217T204701Z
LAST-MODIFIED:20251217T204701Z
UID:10004213-1767697200-1767700800@pimaparenting.org
SUMMARY:Trauma-Informed Rx 360 Substance Misuse and Naloxone training
DESCRIPTION:Learn how toxic stress and trauma impacts the brain.  Learn about the connection between trauma and substance misuse.  Learn how to use Narcan to reverse an opioid overdose.
URL:https://pimaparenting.org/event/trauma-informed-rx-360-substance-misuse-and-naloxone-training-8/2026-01-06/
LOCATION:Zoom\, Arizona
CATEGORIES:All Caregivers,Behavioral Health,Families with Children Birth to Five,Families with School-aged (6-12) Children,Families with Teens,Foster Parents,Grandparents Raising Kids,Providers
ATTACH;FMTTYPE=image/png:https://pimaparenting.org/wp-content/uploads/2025/12/Trauma-Informed-Rx360-January.png
END:VEVENT
BEGIN:VEVENT
DTSTART;TZID=America/Phoenix:20260109T110000
DTEND;TZID=America/Phoenix:20260109T120000
DTSTAMP:20260423T110510
CREATED:20251217T205844Z
LAST-MODIFIED:20251217T205844Z
UID:10004219-1767956400-1767960000@pimaparenting.org
SUMMARY:Marijuana 360 Substance Misuse Training
DESCRIPTION:Learn about marijuana and edibles\, why youth are misusing this substance\, and ways to protect youth in your life.
URL:https://pimaparenting.org/event/marijuana-360-substance-misuse-training/2026-01-09/
LOCATION:Zoom\, Arizona
CATEGORIES:All Caregivers,Behavioral Health,Families with Children Birth to Five,Families with School-aged (6-12) Children,Families with Teens,Foster Parents,Grandparents Raising Kids,Providers
ATTACH;FMTTYPE=image/png:https://pimaparenting.org/wp-content/uploads/2025/12/Marijuana-360-January.png
END:VEVENT
BEGIN:VEVENT
DTSTART;TZID=America/Phoenix:20260113T110000
DTEND;TZID=America/Phoenix:20260113T120000
DTSTAMP:20260423T110510
CREATED:20251217T204111Z
LAST-MODIFIED:20251217T204111Z
UID:10004209-1768302000-1768305600@pimaparenting.org
SUMMARY:Rx 360 Substance Misuse and Naloxone training
DESCRIPTION:Learn how to store and dispose of RX drugs safely.  Learn how to use Narcan to reverse an opioid overdose.
URL:https://pimaparenting.org/event/rx-360-substance-misuse-and-naloxone-training-2/2026-01-13/
LOCATION:Zoom\, Arizona
CATEGORIES:All Caregivers,Behavioral Health,Families with Children Birth to Five,Families with School-aged (6-12) Children,Families with Teens,Foster Parents,Grandparents Raising Kids,Providers
ATTACH;FMTTYPE=image/png:https://pimaparenting.org/wp-content/uploads/2025/12/Rx360-January.png
END:VEVENT
BEGIN:VEVENT
DTSTART;TZID=America/Phoenix:20260120T130000
DTEND;TZID=America/Phoenix:20260120T140000
DTSTAMP:20260423T110510
CREATED:20251217T205844Z
LAST-MODIFIED:20251217T205844Z
UID:10004220-1768914000-1768917600@pimaparenting.org
SUMMARY:Marijuana 360 Substance Misuse Training
DESCRIPTION:Learn about marijuana and edibles\, why youth are misusing this substance\, and ways to protect youth in your life.
URL:https://pimaparenting.org/event/marijuana-360-substance-misuse-training/2026-01-20/
LOCATION:Zoom\, Arizona
CATEGORIES:All Caregivers,Behavioral Health,Families with Children Birth to Five,Families with School-aged (6-12) Children,Families with Teens,Foster Parents,Grandparents Raising Kids,Providers
ATTACH;FMTTYPE=image/png:https://pimaparenting.org/wp-content/uploads/2025/12/Marijuana-360-January.png
END:VEVENT
BEGIN:VEVENT
DTSTART;TZID=America/Phoenix:20260121T130000
DTEND;TZID=America/Phoenix:20260121T140000
DTSTAMP:20260423T110510
CREATED:20251217T204701Z
LAST-MODIFIED:20251217T204701Z
UID:10004214-1769000400-1769004000@pimaparenting.org
SUMMARY:Trauma-Informed Rx 360 Substance Misuse and Naloxone training
DESCRIPTION:Learn how toxic stress and trauma impacts the brain.  Learn about the connection between trauma and substance misuse.  Learn how to use Narcan to reverse an opioid overdose.
URL:https://pimaparenting.org/event/trauma-informed-rx-360-substance-misuse-and-naloxone-training-8/2026-01-21/
LOCATION:Zoom\, Arizona
CATEGORIES:All Caregivers,Behavioral Health,Families with Children Birth to Five,Families with School-aged (6-12) Children,Families with Teens,Foster Parents,Grandparents Raising Kids,Providers
ATTACH;FMTTYPE=image/png:https://pimaparenting.org/wp-content/uploads/2025/12/Trauma-Informed-Rx360-January.png
END:VEVENT
BEGIN:VEVENT
DTSTART;TZID=America/Phoenix:20260126T140000
DTEND;TZID=America/Phoenix:20260126T150000
DTSTAMP:20260423T110510
CREATED:20251217T204111Z
LAST-MODIFIED:20251217T204111Z
UID:10004210-1769436000-1769439600@pimaparenting.org
SUMMARY:Rx 360 Substance Misuse and Naloxone training
DESCRIPTION:Learn how to store and dispose of RX drugs safely.  Learn how to use Narcan to reverse an opioid overdose.
URL:https://pimaparenting.org/event/rx-360-substance-misuse-and-naloxone-training-2/2026-01-26/
LOCATION:Zoom\, Arizona
CATEGORIES:All Caregivers,Behavioral Health,Families with Children Birth to Five,Families with School-aged (6-12) Children,Families with Teens,Foster Parents,Grandparents Raising Kids,Providers
ATTACH;FMTTYPE=image/png:https://pimaparenting.org/wp-content/uploads/2025/12/Rx360-January.png
END:VEVENT
BEGIN:VEVENT
DTSTART;TZID=America/Phoenix:20260203T110000
DTEND;TZID=America/Phoenix:20260203T120000
DTSTAMP:20260423T110510
CREATED:20251217T204956Z
LAST-MODIFIED:20251217T204956Z
UID:10004215-1770116400-1770120000@pimaparenting.org
SUMMARY:Trauma-Informed Rx 360 Substance Misuse and Naloxone training
DESCRIPTION:Learn how toxic stress and trauma impacts the brain.  Learn about the connection between trauma and substance misuse.  Learn how to use Narcan to reverse an opioid overdose.
URL:https://pimaparenting.org/event/trauma-informed-rx-360-substance-misuse-and-naloxone-training-9/2026-02-03/
LOCATION:Zoom\, Arizona
CATEGORIES:All Caregivers,Behavioral Health,Families with Children Birth to Five,Families with School-aged (6-12) Children,Families with Teens,Foster Parents,Grandparents Raising Kids,Providers
ATTACH;FMTTYPE=image/png:https://pimaparenting.org/wp-content/uploads/2025/12/Trauma-Informed-Rx360-February.png
END:VEVENT
BEGIN:VEVENT
DTSTART;TZID=America/Phoenix:20260204T100000
DTEND;TZID=America/Phoenix:20260204T110000
DTSTAMP:20260423T110510
CREATED:20251217T205238Z
LAST-MODIFIED:20251217T205238Z
UID:10004217-1770199200-1770202800@pimaparenting.org
SUMMARY:The Dangers of Vaping
DESCRIPTION:Learn about the risks of e-cigarettes\, also known as “vapes.” Learn why youth are using vapes and ways to protect youth in your life.
URL:https://pimaparenting.org/event/the-dangers-of-vaping-3/2026-02-04/
LOCATION:Zoom\, Arizona
CATEGORIES:All Caregivers,Behavioral Health,Families with Children Birth to Five,Families with School-aged (6-12) Children,Families with Teens,Foster Parents,Grandparents Raising Kids,Providers
ATTACH;FMTTYPE=image/png:https://pimaparenting.org/wp-content/uploads/2025/12/Dangers-of-Vaping-February.png
END:VEVENT
BEGIN:VEVENT
DTSTART;TZID=America/Phoenix:20260211T100000
DTEND;TZID=America/Phoenix:20260211T110000
DTSTAMP:20260423T110510
CREATED:20251217T204356Z
LAST-MODIFIED:20260210T180901Z
UID:10004211-1770804000-1770807600@pimaparenting.org
SUMMARY:Rx 360 Substance Misuse and Naloxone training
DESCRIPTION:Learn how to store and dispose of RX drugs safely.  Learn how to use Narcan to reverse an opioid overdose.
URL:https://pimaparenting.org/event/rx-360-substance-misuse-and-naloxone-training-8/2026-02-11/
LOCATION:Zoom\, Arizona
CATEGORIES:All Caregivers,Behavioral Health,Families with Children Birth to Five,Families with School-aged (6-12) Children,Families with Teens,Foster Parents,Grandparents Raising Kids,Providers
ATTACH;FMTTYPE=image/png:https://pimaparenting.org/wp-content/uploads/2025/12/Rx360-February.png
END:VEVENT
BEGIN:VEVENT
DTSTART;TZID=America/Phoenix:20260216T130000
DTEND;TZID=America/Phoenix:20260216T140000
DTSTAMP:20260423T110510
CREATED:20251217T204956Z
LAST-MODIFIED:20251217T204956Z
UID:10004216-1771246800-1771250400@pimaparenting.org
SUMMARY:Trauma-Informed Rx 360 Substance Misuse and Naloxone training
DESCRIPTION:Learn how toxic stress and trauma impacts the brain.  Learn about the connection between trauma and substance misuse.  Learn how to use Narcan to reverse an opioid overdose.
URL:https://pimaparenting.org/event/trauma-informed-rx-360-substance-misuse-and-naloxone-training-9/2026-02-16/
LOCATION:Zoom\, Arizona
CATEGORIES:All Caregivers,Behavioral Health,Families with Children Birth to Five,Families with School-aged (6-12) Children,Families with Teens,Foster Parents,Grandparents Raising Kids,Providers
ATTACH;FMTTYPE=image/png:https://pimaparenting.org/wp-content/uploads/2025/12/Trauma-Informed-Rx360-February.png
END:VEVENT
BEGIN:VEVENT
DTSTART;TZID=America/Phoenix:20260219T130000
DTEND;TZID=America/Phoenix:20260219T140000
DTSTAMP:20260423T110510
CREATED:20251217T205238Z
LAST-MODIFIED:20251217T205238Z
UID:10004218-1771506000-1771509600@pimaparenting.org
SUMMARY:The Dangers of Vaping
DESCRIPTION:Learn about the risks of e-cigarettes\, also known as “vapes.” Learn why youth are using vapes and ways to protect youth in your life.
URL:https://pimaparenting.org/event/the-dangers-of-vaping-3/2026-02-19/
LOCATION:Zoom\, Arizona
CATEGORIES:All Caregivers,Behavioral Health,Families with Children Birth to Five,Families with School-aged (6-12) Children,Families with Teens,Foster Parents,Grandparents Raising Kids,Providers
ATTACH;FMTTYPE=image/png:https://pimaparenting.org/wp-content/uploads/2025/12/Dangers-of-Vaping-February.png
END:VEVENT
BEGIN:VEVENT
DTSTART;TZID=America/Phoenix:20260226T140000
DTEND;TZID=America/Phoenix:20260226T150000
DTSTAMP:20260423T110510
CREATED:20251217T204356Z
LAST-MODIFIED:20260210T180901Z
UID:10004212-1772114400-1772118000@pimaparenting.org
SUMMARY:Rx 360 Substance Misuse and Naloxone training
DESCRIPTION:Learn how to store and dispose of RX drugs safely.  Learn how to use Narcan to reverse an opioid overdose.
URL:https://pimaparenting.org/event/rx-360-substance-misuse-and-naloxone-training-8/2026-02-26/
LOCATION:Zoom\, Arizona
CATEGORIES:All Caregivers,Behavioral Health,Families with Children Birth to Five,Families with School-aged (6-12) Children,Families with Teens,Foster Parents,Grandparents Raising Kids,Providers
ATTACH;FMTTYPE=image/png:https://pimaparenting.org/wp-content/uploads/2025/12/Rx360-February.png
END:VEVENT
BEGIN:VEVENT
DTSTART;TZID=America/Phoenix:20260303T110000
DTEND;TZID=America/Phoenix:20260303T120000
DTSTAMP:20260423T110510
CREATED:20260120T220712Z
LAST-MODIFIED:20260120T220712Z
UID:10004466-1772535600-1772539200@pimaparenting.org
SUMMARY:Trauma-Informed Rx 360 Substance Misuse and Naloxone training
DESCRIPTION:Learn how toxic stress and trauma impacts the brain.  Learn about the connection between trauma and substance misuse.  Learn how to use Narcan to reverse an opioid overdose.
URL:https://pimaparenting.org/event/trauma-informed-rx-360-substance-misuse-and-naloxone-training-2/2026-03-03/
LOCATION:Zoom\, Arizona
CATEGORIES:All Caregivers,Behavioral Health,Families with Children Birth to Five,Families with School-aged (6-12) Children,Families with Teens,Foster Parents,Grandparents Raising Kids,Providers
ATTACH;FMTTYPE=image/png:https://pimaparenting.org/wp-content/uploads/2026/01/Trauma-Informed-Rx360-March.png
END:VEVENT
BEGIN:VEVENT
DTSTART;TZID=America/Phoenix:20260304T110000
DTEND;TZID=America/Phoenix:20260304T120000
DTSTAMP:20260423T110510
CREATED:20260120T221117Z
LAST-MODIFIED:20260120T221117Z
UID:10004468-1772622000-1772625600@pimaparenting.org
SUMMARY:Marijuana 360 Substance Misuse Training
DESCRIPTION:Learn about marijuana and edibles\, why youth are misusing this substance\, and ways to protect youth in your life.
URL:https://pimaparenting.org/event/marijuana-360-substance-misuse-training-2/2026-03-04/
LOCATION:Zoom\, Arizona
CATEGORIES:All Caregivers,Behavioral Health,Families with Children Birth to Five,Families with School-aged (6-12) Children,Families with Teens,Foster Parents,Grandparents Raising Kids,Providers
ATTACH;FMTTYPE=image/png:https://pimaparenting.org/wp-content/uploads/2026/01/Marijuana-360-March.png
END:VEVENT
END:VCALENDAR