BEGIN:VCALENDAR
VERSION:2.0
PRODID:-//Pima County Parenting Coalition - ECPv6.15.16.1//NONSGML v1.0//EN
CALSCALE:GREGORIAN
METHOD:PUBLISH
X-WR-CALNAME:Pima County Parenting Coalition
X-ORIGINAL-URL:https://pimaparenting.org
X-WR-CALDESC:Events for Pima County Parenting Coalition
REFRESH-INTERVAL;VALUE=DURATION:PT1H
X-Robots-Tag:noindex
X-PUBLISHED-TTL:PT1H
BEGIN:VTIMEZONE
TZID:America/Phoenix
BEGIN:STANDARD
TZOFFSETFROM:-0700
TZOFFSETTO:-0700
TZNAME:MST
DTSTART:20250101T000000
END:STANDARD
END:VTIMEZONE
BEGIN:VEVENT
DTSTART;TZID=America/Phoenix:20260622T103000
DTEND;TZID=America/Phoenix:20260622T120000
DTSTAMP:20260423T152957
CREATED:20260323T194336Z
LAST-MODIFIED:20260323T194336Z
UID:10004640-1782124200-1782129600@pimaparenting.org
SUMMARY:Mommy and Me: Playgroup for Newborns & Infants
DESCRIPTION:This nurturing support group is designed especially for mothers in the early stages of parenthood. Through thoughtful conversation\, guided activities\, and shared experiences\, participants are invited to connect\, reflect\, and grow together. The group offers a safe and supportive space to explore the emotional\, physical\, and mental transitions that come with welcoming a new baby.
URL:https://pimaparenting.org/event/mommy-and-me-playgroup-for-newborns-infants-7/
LOCATION:Family Resource Center at Sahuarita Food Bank\, 17750 S. La Canada\, Sahuarita\, AZ\, 85629\, United States
CATEGORIES:Families with Children Birth to Five
ATTACH;FMTTYPE=image/jpeg:https://pimaparenting.org/wp-content/uploads/2025/12/ACDC-Name-Change-Post-Logo-002.jpg
ORGANIZER;CN="Chrissi Engstrom":MAILTO:chrissi@azdoulas.org
END:VEVENT
BEGIN:VEVENT
DTSTART;TZID=America/Phoenix:20260623T103000
DTEND;TZID=America/Phoenix:20260623T113000
DTSTAMP:20260423T152957
CREATED:20260414T165854Z
LAST-MODIFIED:20260414T165854Z
UID:10004821-1782210600-1782214200@pimaparenting.org
SUMMARY:Wonders of the Desert: Nature Play & Storytime
DESCRIPTION:Wonders of the Desert: Nature Play & Storytime: NATURE’S ART \nWonders of the Desert invites children ages 2–5 their caregivers to explore nature through playful\, hands-on outdoor activities led by a trained educator. Each session includes engaging experiences like digging\, building\, and crafting\, plus a themed Storytime. Families also receive a bilingual activity page to continue learning at home. \nNature’s Art: Children and caregivers explore the colors\, shapes\, and textures of natural materials found in the Sonoran Desert to create unique artwork. They learn to see beauty in plants\, rocks\, sticks\, and sand while expressing creativity and building a connection to the environment. This experience encourages observation\, imagination\, and appreciation for the desert’s natural treasures. \n. \n 
URL:https://pimaparenting.org/event/wonders-of-the-desert-nature-play-storytime-53/
LOCATION:Family Resource Center at Los Ranchitos\, 2054 E Ginter Rd\, Tucson\, AZ\, 85706\, United States
CATEGORIES:Families with Children Birth to Five
ATTACH;FMTTYPE=image/png:https://pimaparenting.org/wp-content/uploads/2025/07/Wonders-of-the-Desert-at-SUSD.png
ORGANIZER;CN="Debi Morgan":MAILTO:debimorgan4@gmail.com
END:VEVENT
BEGIN:VEVENT
DTSTART;TZID=America/Phoenix:20260624T090000
DTEND;TZID=America/Phoenix:20260624T100000
DTSTAMP:20260423T152957
CREATED:20260220T173042Z
LAST-MODIFIED:20260220T173127Z
UID:10004504-1782291600-1782295200@pimaparenting.org
SUMMARY:Fun Family Fitness
DESCRIPTION:Have fun getting fit with your child while building healthy habits for life! Enjoy playful movement\, games\, and bonding time in a supportive\, active class that makes fitness fun for the whole family. A great way to inspire a lifelong love of wellness—together!
URL:https://pimaparenting.org/event/fun-family-fitness-56/
LOCATION:Family Resource Center at Sahuarita Food Bank\, 17750 S. La Canada\, Sahuarita\, AZ\, 85629\, United States
CATEGORIES:Families with Children Birth to Five
ATTACH;FMTTYPE=image/jpeg:https://pimaparenting.org/wp-content/uploads/2024/11/FFF-at-SFB-2.0.jpg
ORGANIZER;CN="Julia with UWTSA":MAILTO:bootcampmama16@yahoo.com
END:VEVENT
BEGIN:VEVENT
DTSTART;TZID=America/Phoenix:20260624T100000
DTEND;TZID=America/Phoenix:20260624T110000
DTSTAMP:20260423T152957
CREATED:20260414T165959Z
LAST-MODIFIED:20260414T165959Z
UID:10004822-1782295200-1782298800@pimaparenting.org
SUMMARY:Wonders of the Desert: Nature Play & Storytime
DESCRIPTION:Wonders of the Desert: Nature Play & Storytime: NATURE’S ART \nWonders of the Desert invites children ages 2–5 their caregivers to explore nature through playful\, hands-on outdoor activities led by a trained educator. Each session includes engaging experiences like digging\, building\, and crafting\, plus a themed Storytime. Families also receive a bilingual activity page to continue learning at home. \nNature’s Art: Children and caregivers explore the colors\, shapes\, and textures of natural materials found in the Sonoran Desert to create unique artwork. They learn to see beauty in plants\, rocks\, sticks\, and sand while expressing creativity and building a connection to the environment. This experience encourages observation\, imagination\, and appreciation for the desert’s natural treasures. \n. \n 
URL:https://pimaparenting.org/event/wonders-of-the-desert-nature-play-storytime-54/
LOCATION:Family Resource Center at Robles Elementary\, 9875 S Sasabe Rd\, Tucson\, AZ\, 85736\, United States
CATEGORIES:Families with Children Birth to Five
ATTACH;FMTTYPE=image/png:https://pimaparenting.org/wp-content/uploads/2025/07/Wonders-of-the-Desert-at-AVSD.png
ORGANIZER;CN="Debi Morgan":MAILTO:debimorgan4@gmail.com
END:VEVENT
BEGIN:VEVENT
DTSTART;TZID=America/Phoenix:20260624T130000
DTEND;TZID=America/Phoenix:20260624T140000
DTSTAMP:20260423T152957
CREATED:20260413T190217Z
LAST-MODIFIED:20260413T190217Z
UID:10004792-1782306000-1782309600@pimaparenting.org
SUMMARY:Kids in Motion
DESCRIPTION:Kids in Motion is an active and fun class that promotes your child’s gross motor skill development through energetic and exciting activities. \n  \nPlease note: Videos are used in class to support instruction and curriculum \n 
URL:https://pimaparenting.org/event/kids-in-motion-23/
LOCATION:Family Resource Center at Los Ranchitos\, 2054 E Ginter Rd\, Tucson\, AZ\, 85706\, United States
CATEGORIES:Families with Children Birth to Five
ATTACH;FMTTYPE=image/jpeg:https://pimaparenting.org/wp-content/uploads/2024/11/Kids-in-Motion-at-SUSD-2.0.jpg
ORGANIZER;CN="Garrett Lilly-Ramirez - UWTSA":MAILTO:gkidsinmotion@gmail.com
END:VEVENT
BEGIN:VEVENT
DTSTART;TZID=America/Phoenix:20260625T103000
DTEND;TZID=America/Phoenix:20260625T113000
DTSTAMP:20260423T152957
CREATED:20260414T170111Z
LAST-MODIFIED:20260414T170111Z
UID:10004823-1782383400-1782387000@pimaparenting.org
SUMMARY:Wonders of the Desert: Nature Play & Storytime
DESCRIPTION:Wonders of the Desert: Nature Play & Storytime: NATURE’S ART \nWonders of the Desert invites children ages 2–5 their caregivers to explore nature through playful\, hands-on outdoor activities led by a trained educator. Each session includes engaging experiences like digging\, building\, and crafting\, plus a themed Storytime. Families also receive a bilingual activity page to continue learning at home. \nNature’s Art: Children and caregivers explore the colors\, shapes\, and textures of natural materials found in the Sonoran Desert to create unique artwork. They learn to see beauty in plants\, rocks\, sticks\, and sand while expressing creativity and building a connection to the environment. This experience encourages observation\, imagination\, and appreciation for the desert’s natural treasures. \n. \n 
URL:https://pimaparenting.org/event/wonders-of-the-desert-nature-play-storytime-55/
LOCATION:Family Resource Center at Sahuarita Food Bank\, 17750 S. La Canada\, Sahuarita\, AZ\, 85629\, United States
CATEGORIES:Families with Children Birth to Five
ATTACH;FMTTYPE=image/png:https://pimaparenting.org/wp-content/uploads/2025/07/Wonders-of-the-Desert-at-SFB.png
ORGANIZER;CN="Debi Morgan":MAILTO:debimorgan4@gmail.com
END:VEVENT
BEGIN:VEVENT
DTSTART;TZID=America/Phoenix:20260627T093000
DTEND;TZID=America/Phoenix:20260627T103000
DTSTAMP:20260423T152957
CREATED:20251219T164739Z
LAST-MODIFIED:20251219T164739Z
UID:10004233-1782552600-1782556200@pimaparenting.org
SUMMARY:Joyful Journeys in Art
DESCRIPTION:In this class\, the emphasis is on the joy of creation rather than the final product. Each session is designed to spark curiosity and encourage self-expression as children engage in hands-on\nactivities like finger painting\, nature collages\, texture explorations\, and more.
URL:https://pimaparenting.org/event/joyful-journeys-in-art-30/
LOCATION:Family Resource Center at Sahuarita Food Bank\, 17750 S. La Canada\, Sahuarita\, AZ\, 85629\, United States
CATEGORIES:Families with Children Birth to Five
ATTACH;FMTTYPE=image/jpeg:https://pimaparenting.org/wp-content/uploads/2024/11/Joyful-Journeys-at-SFB-2.0.jpg
ORGANIZER;CN="Andrea Loomis":MAILTO:andiszooB@msn.com
END:VEVENT
END:VCALENDAR