BEGIN:VCALENDAR
VERSION:2.0
PRODID:-//Pima County Parenting Coalition - ECPv6.15.16.1//NONSGML v1.0//EN
CALSCALE:GREGORIAN
METHOD:PUBLISH
X-ORIGINAL-URL:https://pimaparenting.org
X-WR-CALDESC:Events for Pima County Parenting Coalition
REFRESH-INTERVAL;VALUE=DURATION:PT1H
X-Robots-Tag:noindex
X-PUBLISHED-TTL:PT1H
BEGIN:VTIMEZONE
TZID:America/Phoenix
BEGIN:STANDARD
TZOFFSETFROM:-0700
TZOFFSETTO:-0700
TZNAME:MST
DTSTART:20240101T000000
END:STANDARD
END:VTIMEZONE
BEGIN:VEVENT
DTSTART;TZID=America/Phoenix:20250730T103000
DTEND;TZID=America/Phoenix:20250730T113000
DTSTAMP:20260425T041852
CREATED:20250609T235523Z
LAST-MODIFIED:20250714T181736Z
UID:10003512-1753871400-1753875000@pimaparenting.org
SUMMARY:Fine Arts for Kids
DESCRIPTION:This fun and interactive class for children and their parents or caregivers is packed with creative activities designed to help little ones develop important life skills like focus\, self-control\, and communication—all while having a great time together!
URL:https://pimaparenting.org/event/fine-arts-for-kids-35/
LOCATION:Family Resource Center at Sahuarita Food Bank\, 17750 S. La Canada\, Sahuarita\, AZ\, 85629\, United States
CATEGORIES:Families with Children Birth to Five
ATTACH;FMTTYPE=image/jpeg:https://pimaparenting.org/wp-content/uploads/2024/11/Fine-Arts-at-SFB-2.0.jpg
ORGANIZER;CN="Family Resource Center at Sahuarita Food Bank":MAILTO:irodela@sfb-crc.org
END:VEVENT
BEGIN:VEVENT
DTSTART;TZID=America/Phoenix:20250730T090000
DTEND;TZID=America/Phoenix:20250730T100000
DTSTAMP:20260425T041852
CREATED:20250618T182307Z
LAST-MODIFIED:20250618T182307Z
UID:10003541-1753866000-1753869600@pimaparenting.org
SUMMARY:School Ready Stars: A Kinder Prep Class for Parents and Kids (ages 4-5 years old)
DESCRIPTION:This class for children (ages 4 – 5 years old) and parents/caregivers prepares children for school by sharpening their skills in the five domains of kindergarten readiness: cognitive\, adaptive\, communication\, motor skills\, and social/emotional. \nEsta clase para niños (edades de 4 a 5 años) y padres/cuidadores prepara a los niños para la escuela fortalizando sus habilidades en los cinco dominios de la preparación para el jardín de infantes.
URL:https://pimaparenting.org/event/school-ready-stars-a-kinder-prep-class-for-parents-and-kids-ages-4-5-years-old-3/
LOCATION:Family Resource Center at Los Ranchitos\, 2054 E Ginter Rd\, Tucson\, AZ\, 85706\, United States
CATEGORIES:Families with Children Birth to Five
ATTACH;FMTTYPE=image/jpeg:https://pimaparenting.org/wp-content/uploads/2024/03/UA-FEP-logo.jpg
ORGANIZER;CN="Nataly Quiroz- UACE":MAILTO:natalyquiroz@arizona.edu
END:VEVENT
BEGIN:VEVENT
DTSTART;TZID=America/Phoenix:20250730T090000
DTEND;TZID=America/Phoenix:20250730T100000
DTSTAMP:20260425T041852
CREATED:20250609T235113Z
LAST-MODIFIED:20250609T235159Z
UID:10003508-1753866000-1753869600@pimaparenting.org
SUMMARY:Fun Family Fitness
DESCRIPTION:Have fun getting fit with your child while building healthy habits for life! Enjoy playful movement\, games\, and bonding time in a supportive\, active class that makes fitness fun for the whole family. A great way to inspire a lifelong love of wellness—together!
URL:https://pimaparenting.org/event/fun-family-fitness-40/
LOCATION:Family Resource Center at Sahuarita Food Bank\, 17750 S. La Canada\, Sahuarita\, AZ\, 85629\, United States
CATEGORIES:Families with Children Birth to Five
ATTACH;FMTTYPE=image/jpeg:https://pimaparenting.org/wp-content/uploads/2024/11/FFF-at-SFB-2.0.jpg
ORGANIZER;CN="Family Resource Center at Sahuarita Food Bank":MAILTO:irodela@sfb-crc.org
END:VEVENT
BEGIN:VEVENT
DTSTART;TZID=America/Phoenix:20250729T130000
DTEND;TZID=America/Phoenix:20250729T140000
DTSTAMP:20260425T041852
CREATED:20250618T202736Z
LAST-MODIFIED:20250618T202847Z
UID:10003552-1753794000-1753797600@pimaparenting.org
SUMMARY:Kids Yoga
DESCRIPTION:Kids Yoga is an interactive activity for parents and children to connect with each other and their bodies.  A great and fun way to improve your child’s mobility\, and help them learn techniques to manage stress and emotions.
URL:https://pimaparenting.org/event/kids-yoga-21/
LOCATION:Family Resource Center at Los Ranchitos\, 2054 E Ginter Rd\, Tucson\, AZ\, 85706\, United States
CATEGORIES:Families with Children Birth to Five
ATTACH;FMTTYPE=image/jpeg:https://pimaparenting.org/wp-content/uploads/2024/11/Yoga-at-SUSD-2.0.jpg
ORGANIZER;CN="Stephaine Carl - UACE":MAILTO:sacarl@arizona.edu
END:VEVENT
BEGIN:VEVENT
DTSTART;TZID=America/Phoenix:20250728T100000
DTEND;TZID=America/Phoenix:20250728T113000
DTSTAMP:20260425T041852
CREATED:20250618T194601Z
LAST-MODIFIED:20250618T194601Z
UID:10003550-1753696800-1753702200@pimaparenting.org
SUMMARY:GRUPO DE CRIANZA COMPARTIDA: CHARLA ENTRE MADRES
DESCRIPTION:Un grupo de apoyo para madres que se adaptan a las demandas físicas\, emocionales y relacionales de la maternidad. Convertirse en madres es un cambio significativo en la vida. Muchas mujeres experimentan complicaciones emocionales perinatales que afectan a toda la familia. Contar con el apoyo de profesionales y compañeros puede facilitar la transición.
URL:https://pimaparenting.org/event/grupo-de-crianza-compartida-charla-entre-madres-2/
LOCATION:Family Resource Center at Los Ranchitos\, 2054 E Ginter Rd\, Tucson\, AZ\, 85706\, United States
CATEGORIES:Families with Children Birth to Five
ATTACH;FMTTYPE=image/jpeg:https://pimaparenting.org/wp-content/uploads/2024/11/Casa3-at-SUSD-2.0.jpg
ORGANIZER;CN="Casa de los Ninos":MAILTO:cbolger@casadelosninos.org
END:VEVENT
BEGIN:VEVENT
DTSTART;TZID=America/Phoenix:20250726T093000
DTEND;TZID=America/Phoenix:20250726T103000
DTSTAMP:20260425T041852
CREATED:20250612T222335Z
LAST-MODIFIED:20250612T223401Z
UID:10003517-1753522200-1753525800@pimaparenting.org
SUMMARY:Joyful Journeys in Art
DESCRIPTION:In this class\, the emphasis is on the joy of creation rather than the final product. Each session is designed to spark curiosity and encourage self-expression as children engage in hands-on\nactivities like finger painting\, nature collages\, texture explorations\, and more.
URL:https://pimaparenting.org/event/joyful-journeys-in-art-14/
LOCATION:Family Resource Center at Sahuarita Food Bank\, 17750 S. La Canada\, Sahuarita\, AZ\, 85629\, United States
CATEGORIES:Families with Children Birth to Five
ATTACH;FMTTYPE=image/jpeg:https://pimaparenting.org/wp-content/uploads/2024/11/Joyful-Journeys-at-SFB-2.0.jpg
ORGANIZER;CN="Family Resource Center at Sahuarita Food Bank":MAILTO:irodela@sfb-crc.org
END:VEVENT
BEGIN:VEVENT
DTSTART;TZID=America/Phoenix:20250725T103000
DTEND;TZID=America/Phoenix:20250725T113000
DTSTAMP:20260425T041852
CREATED:20250703T001752Z
LAST-MODIFIED:20250703T001752Z
UID:10003584-1753439400-1753443000@pimaparenting.org
SUMMARY:Bubble Play
DESCRIPTION:Join us for a whimsical and joyful Bubble Play Class designed for both children and adults to rediscover the magic of bubbles! This interactive and fun-filled experience offers a delightful way to unwind\, connect\, and unleash creativity through the simple pleasure of blowing bubbles.
URL:https://pimaparenting.org/event/bubble-play-9/
LOCATION:Family Resource Center at Sahuarita Food Bank\, 17750 S. La Canada\, Sahuarita\, AZ\, 85629\, United States
CATEGORIES:Families with Children Birth to Five
ATTACH;FMTTYPE=image/png:https://pimaparenting.org/wp-content/uploads/2025/03/Bubble-Play-at-SFB.png
ORGANIZER;CN="Amanda Ward McNeal- PA":MAILTO:amanda@parentaid.org
END:VEVENT
BEGIN:VEVENT
DTSTART;TZID=America/Phoenix:20250725T090000
DTEND;TZID=America/Phoenix:20250725T100000
DTSTAMP:20260425T041852
CREATED:20250618T153756Z
LAST-MODIFIED:20250618T153756Z
UID:10003537-1753434000-1753437600@pimaparenting.org
SUMMARY:Masaje de manos nutritivas para bebés-Los Ranchitos Family Resource Center
DESCRIPTION:Los padres aprenderán varias técnicas de masaje mientras aprenden sobre las ventajas de la terapia de masaje para su bebé. Tenga en cuenta que los padres y el bebé (0-9 meses) deben asistir juntos a esta clase.
URL:https://pimaparenting.org/event/masaje-de-manos-nutritivas-para-bebes-los-ranchitos-family-resource-center-18/
LOCATION:Family Resource Center at Los Ranchitos\, 2054 E Ginter Rd\, Tucson\, AZ\, 85706\, United States
CATEGORIES:Families with Children Birth to Five
ATTACH;FMTTYPE=image/jpeg:https://pimaparenting.org/wp-content/uploads/2024/03/Baby-Massage-at-SUSD.jpg
ORGANIZER;CN="Family Resource Center at Los Ranchitos":MAILTO:MyrnaL@susd12.org
END:VEVENT
BEGIN:VEVENT
DTSTART;TZID=America/Phoenix:20250724T183000
DTEND;TZID=America/Phoenix:20250724T193000
DTSTAMP:20260425T041852
CREATED:20250625T205956Z
LAST-MODIFIED:20250625T210016Z
UID:10003580-1753381800-1753385400@pimaparenting.org
SUMMARY:Bonding Beats
DESCRIPTION:Join Noah for this 1-hour drumming workshop to get your family in sync. We all know the teens years can bring tons of communication blocks\, so let’s break those down and find our new rhythm and tempo as a family. No percussion or musical skill or experience required. \nRegistration is free and is for 1 parent and 1 middle/high school aged child. Space is limited so register today! \nEmail Noah with any questions you may have. \nWe look forward to seeing you there. \nRegister today at Website link below
URL:https://pimaparenting.org/event/bonding-beats/
LOCATION:Parent Aid\, 2580 E. 22nd St.\, Tucson\, 85713
ATTACH;FMTTYPE=image/png:https://pimaparenting.org/wp-content/uploads/2025/06/Bonding-Beats-RhukXa.png
ORGANIZER;CN="Parent Aid":MAILTO:info@parentaid.org
END:VEVENT
BEGIN:VEVENT
DTSTART;TZID=America/Phoenix:20250724T173000
DTEND;TZID=America/Phoenix:20250724T193000
DTSTAMP:20260425T041852
CREATED:20250618T210341Z
LAST-MODIFIED:20250806T191210Z
UID:10003554-1753378200-1753385400@pimaparenting.org
SUMMARY:AÑOS INCREÍBLES CLASE #2 -Convertirse en Padre (Esta serie tiene un total de 8 clases)
DESCRIPTION:Este programa está especialmente diseñado para padres de bebés de 0 a 9 meses. Proporciona estrategias valiosas para mejorar sus habilidades de crianza mientras apoya el desarrollo social\, emocional\, físico y cognitivo de su bebé para un buen comienzo en la vida. \nEl servicio de guardería está disponible y se proporcionará la cena. \nClase 1: Resumen del Programa \nClase 2: Convertirse en Padre \nClase 3: Comunicarse con el Bebé \nClase 4: Estimulación Física y Visual \nClase 5: Leer la Mente de los Bebés \nClase 6: Obtener Apoyo \nClase 7: Surgimiento del Sentido de Sí Mismo \nClase 8: Graduación
URL:https://pimaparenting.org/event/anos-increibles-clase-2-convertirse-en-padre-esta-serie-tiene-un-total-de-8-clases/
LOCATION:Family Resource Center at Los Ranchitos\, 2054 E Ginter Rd\, Tucson\, AZ\, 85706\, United States
CATEGORIES:All Caregivers,Families with Children Birth to Five
ATTACH;FMTTYPE=image/jpeg:https://pimaparenting.org/wp-content/uploads/2024/11/IY-at-SUSD-2.0.jpg
ORGANIZER;CN="Family Resource Center at Los Ranchitos":MAILTO:MyrnaL@susd12.org
END:VEVENT
END:VCALENDAR