BEGIN:VCALENDAR
VERSION:2.0
PRODID:-//Pima County Parenting Coalition - ECPv6.15.16.1//NONSGML v1.0//EN
CALSCALE:GREGORIAN
METHOD:PUBLISH
X-ORIGINAL-URL:https://pimaparenting.org
X-WR-CALDESC:Events for Pima County Parenting Coalition
REFRESH-INTERVAL;VALUE=DURATION:PT1H
X-Robots-Tag:noindex
X-PUBLISHED-TTL:PT1H
BEGIN:VTIMEZONE
TZID:America/Phoenix
BEGIN:STANDARD
TZOFFSETFROM:-0700
TZOFFSETTO:-0700
TZNAME:MST
DTSTART:20250101T000000
END:STANDARD
END:VTIMEZONE
BEGIN:VEVENT
DTSTART;TZID=America/Phoenix:20260107T090000
DTEND;TZID=America/Phoenix:20260107T100000
DTSTAMP:20260425T040624
CREATED:20251216T235158Z
LAST-MODIFIED:20251216T235158Z
UID:10004193-1767776400-1767780000@pimaparenting.org
SUMMARY:Fun Family Fitness
DESCRIPTION:Have fun getting fit with your child while building healthy habits for life! Enjoy playful movement\, games\, and bonding time in a supportive\, active class that makes fitness fun for the whole family. A great way to inspire a lifelong love of wellness—together!
URL:https://pimaparenting.org/event/fun-family-fitness-18/
LOCATION:Family Resource Center at Sahuarita Food Bank\, 17750 S. La Canada\, Sahuarita\, AZ\, 85629\, United States
CATEGORIES:Families with Children Birth to Five
ATTACH;FMTTYPE=image/jpeg:https://pimaparenting.org/wp-content/uploads/2024/11/FFF-at-SFB-2.0.jpg
ORGANIZER;CN="Julia with UWTSA":MAILTO:bootcampmama16@yahoo.com
END:VEVENT
BEGIN:VEVENT
DTSTART;TZID=America/Phoenix:20260107T103000
DTEND;TZID=America/Phoenix:20260107T113000
DTSTAMP:20260425T040624
CREATED:20251216T235711Z
LAST-MODIFIED:20251216T235711Z
UID:10004197-1767781800-1767785400@pimaparenting.org
SUMMARY:Soothing Strokes Baby Massage
DESCRIPTION:An infant massage class based on ancient traditions teaches gentle\, rhythmic techniques passed down through generations to promote bonding\, relaxation\, and healthy development for babies. Soothing Strokes is 5 weekly 90-minute sessions. We cover something different each class ending in the culmination being able to do a thorough infant massage. \nInfant massage is focused on children birth to 12 months. \nChild care for your older children can be provided as necessary with notice. \nYou bring your baby and we will bring the oil and the relaxed vibes. See you there!
URL:https://pimaparenting.org/event/soothing-strokes-baby-massage/
LOCATION:Family Resource Center at Sahuarita Food Bank\, 17750 S. La Canada\, Sahuarita\, AZ\, 85629\, United States
CATEGORIES:All Caregivers,Families with Children Birth to Five
ATTACH;FMTTYPE=image/png:https://pimaparenting.org/wp-content/uploads/2025/04/Soothing-Strokes-at-SFB.png
ORGANIZER;CN="Amanda Ward McNeal- PA":MAILTO:amanda@parentaid.org
END:VEVENT
BEGIN:VEVENT
DTSTART;TZID=America/Phoenix:20260107T103000
DTEND;TZID=America/Phoenix:20260107T113000
DTSTAMP:20260425T040624
CREATED:20251219T210548Z
LAST-MODIFIED:20251219T210548Z
UID:10004254-1767781800-1767785400@pimaparenting.org
SUMMARY:Kids Yoga
DESCRIPTION:Kids Yoga is an interactive activity for parents and children to connect with each other and their bodies.  A great and fun way to improve your child’s mobility\, and help them learn techniques to manage stress and emotions.
URL:https://pimaparenting.org/event/kids-yoga-29/
LOCATION:Family Resource Center at Los Ranchitos\, 2054 E Ginter Rd\, Tucson\, AZ\, 85706\, United States
CATEGORIES:Families with Children Birth to Five
ATTACH;FMTTYPE=image/jpeg:https://pimaparenting.org/wp-content/uploads/2024/11/Yoga-at-SUSD-2.0.jpg
ORGANIZER;CN="Stephaine Carl - UACE":MAILTO:sacarl@arizona.edu
END:VEVENT
BEGIN:VEVENT
DTSTART;TZID=America/Phoenix:20260107T103000
DTEND;TZID=America/Phoenix:20260107T113000
DTSTAMP:20260425T040624
CREATED:20251220T235741Z
LAST-MODIFIED:20251220T235741Z
UID:10004297-1767781800-1767785400@pimaparenting.org
SUMMARY:HANDS IN NATURE: Art\, Exploration\, and Creative Play
DESCRIPTION:This is a nature-inspired class for children ages 2-5. Each session invites children to explore unique materials for art\, construction\, science\, literacy\, and more. Whether painting with mud\, building with sticks\, experimenting with water\, or storytelling with found objects\, children will engage in hands-on discovery that nurtures creativity\, problem solving\, and sensory exploration.
URL:https://pimaparenting.org/event/hands-in-nature-art-exploration-and-creative-play-24/
LOCATION:Family Resource Center at Robles Elementary\, 9875 S Sasabe Rd\, Tucson\, AZ\, 85736\, United States
CATEGORIES:Families with Children Birth to Five
ATTACH;FMTTYPE=image/jpeg:https://pimaparenting.org/wp-content/uploads/2024/11/UWTSA-Logo-2024-RBG.jpg
ORGANIZER;CN="Kyla Maciosek":MAILTO:kyla@naturecreatedplay.com
END:VEVENT
BEGIN:VEVENT
DTSTART;TZID=America/Phoenix:20260107T130000
DTEND;TZID=America/Phoenix:20260107T140000
DTSTAMP:20260425T040624
CREATED:20251217T000219Z
LAST-MODIFIED:20251217T000219Z
UID:10004200-1767790800-1767794400@pimaparenting.org
SUMMARY:Fine Arts for Kids
DESCRIPTION:This fun and interactive class for children and their parents or caregivers is packed with creative activities designed to help little ones develop important life skills like focus\, self-control\, and communication—all while having a great time together!
URL:https://pimaparenting.org/event/fine-arts-for-kids-7/
LOCATION:Family Resource Center at Sahuarita Food Bank\, 17750 S. La Canada\, Sahuarita\, AZ\, 85629\, United States
CATEGORIES:Families with Children Birth to Five
ATTACH;FMTTYPE=image/jpeg:https://pimaparenting.org/wp-content/uploads/2024/11/Fine-Arts-at-SFB-2.0.jpg
ORGANIZER;CN="Nataly Quiroz- UACE":MAILTO:natalyquiroz@arizona.edu
END:VEVENT
BEGIN:VEVENT
DTSTART;TZID=America/Phoenix:20260107T130000
DTEND;TZID=America/Phoenix:20260107T140000
DTSTAMP:20260425T040624
CREATED:20251219T211039Z
LAST-MODIFIED:20251219T212402Z
UID:10004255-1767790800-1767794400@pimaparenting.org
SUMMARY:Kids in Motion
DESCRIPTION:Kids in Motion is an active and fun class that promotes your child’s gross motor skill development through energetic and exciting activities.  \nPlease note: Videos are used in class to support instruction and curriculum
URL:https://pimaparenting.org/event/kids-in-motion/
LOCATION:Family Resource Center at Los Ranchitos\, 2054 E Ginter Rd\, Tucson\, AZ\, 85706\, United States
CATEGORIES:Families with Children Birth to Five
ATTACH;FMTTYPE=image/jpeg:https://pimaparenting.org/wp-content/uploads/2024/11/Kids-in-Motion-at-SUSD-2.0.jpg
ORGANIZER;CN="Garrett Lilly-Ramirez - UWTSA":MAILTO:gkidsinmotion@gmail.com
END:VEVENT
END:VCALENDAR