BEGIN:VCALENDAR
VERSION:2.0
PRODID:-//Pima County Parenting Coalition - ECPv6.15.16.1//NONSGML v1.0//EN
CALSCALE:GREGORIAN
METHOD:PUBLISH
X-ORIGINAL-URL:https://pimaparenting.org
X-WR-CALDESC:Events for Pima County Parenting Coalition
REFRESH-INTERVAL;VALUE=DURATION:PT1H
X-Robots-Tag:noindex
X-PUBLISHED-TTL:PT1H
BEGIN:VTIMEZONE
TZID:America/Phoenix
BEGIN:STANDARD
TZOFFSETFROM:-0700
TZOFFSETTO:-0700
TZNAME:MST
DTSTART:20250101T000000
END:STANDARD
END:VTIMEZONE
BEGIN:VEVENT
DTSTART;TZID=America/Phoenix:20260602T090000
DTEND;TZID=America/Phoenix:20260602T103000
DTSTAMP:20260423T102900
CREATED:20260205T232715Z
LAST-MODIFIED:20260205T232817Z
UID:10004476-1780390800-1780396200@pimaparenting.org
SUMMARY:Kinship & Foster Parent Cafe
DESCRIPTION:A welcoming space for kinship and foster caregivers to connect with others who share similar experiences. Together\, participants offer encouragement\, comfort\, and practical resources. Each gathering includes a basic support item provided by Aviva Children’s Services. Children ages 0–5 are welcome.
URL:https://pimaparenting.org/event/kinship-foster-parent-cafe-8/
LOCATION:Family Resource Center at Robles Elementary\, 9875 S Sasabe Rd\, Tucson\, AZ\, 85736\, United States
CATEGORIES:Families with Children Birth to Five
ATTACH;FMTTYPE=image/png:https://pimaparenting.org/wp-content/uploads/2025/10/EBF-Aviva.png
ORGANIZER;CN="Christina Greenberg":MAILTO:cgreenberg@avivatucson.org
END:VEVENT
BEGIN:VEVENT
DTSTART;TZID=America/Phoenix:20260602T090000
DTEND;TZID=America/Phoenix:20260602T103000
DTSTAMP:20260423T102900
CREATED:20260413T182612Z
LAST-MODIFIED:20260413T182633Z
UID:10004770-1780390800-1780396200@pimaparenting.org
SUMMARY:Stay & Play- Fun with Math & Science
DESCRIPTION:Join our Preschool Play class designed for families with children ages 3 to 5! This engaging program invites grownups and little ones to play and socialize together using a diverse range of materials aimed at fostering all areas of development. We emphasize social skills\, literacy\, and communication\, creating a supportive environment where children can explore\, learn\, and make new friends. Come enjoy quality time while helping your child thrive in their early learning journey!
URL:https://pimaparenting.org/event/stay-play-fun-with-math-science-2/
LOCATION:Family Resource Center at Sahuarita Food Bank\, 17750 S. La Canada\, Sahuarita\, AZ\, 85629\, United States
CATEGORIES:Families with Children Birth to Five
ATTACH;FMTTYPE=image/jpeg:https://pimaparenting.org/wp-content/uploads/2024/12/Preschool-Play-at-SFB-2.0.jpg
ORGANIZER;CN="Lela Messick-UWTSA":MAILTO:lmessick@unitedwaytucson.org
END:VEVENT
BEGIN:VEVENT
DTSTART;TZID=America/Phoenix:20260603T090000
DTEND;TZID=America/Phoenix:20260603T100000
DTSTAMP:20260423T102900
CREATED:20260220T172855Z
LAST-MODIFIED:20260220T172855Z
UID:10004501-1780477200-1780480800@pimaparenting.org
SUMMARY:Fun Family Fitness
DESCRIPTION:Have fun getting fit with your child while building healthy habits for life! Enjoy playful movement\, games\, and bonding time in a supportive\, active class that makes fitness fun for the whole family. A great way to inspire a lifelong love of wellness—together!
URL:https://pimaparenting.org/event/fun-family-fitness-53/
LOCATION:Family Resource Center at Sahuarita Food Bank\, 17750 S. La Canada\, Sahuarita\, AZ\, 85629\, United States
CATEGORIES:Families with Children Birth to Five
ATTACH;FMTTYPE=image/jpeg:https://pimaparenting.org/wp-content/uploads/2024/11/FFF-at-SFB-2.0.jpg
ORGANIZER;CN="Julia with UWTSA":MAILTO:bootcampmama16@yahoo.com
END:VEVENT
BEGIN:VEVENT
DTSTART;TZID=America/Phoenix:20260603T103000
DTEND;TZID=America/Phoenix:20260603T113000
DTSTAMP:20260423T102900
CREATED:20260325T153816Z
LAST-MODIFIED:20260414T180506Z
UID:10004726-1780482600-1780486200@pimaparenting.org
SUMMARY:HANDS IN NATURE: Art\, Exploration\, and Creative Play
DESCRIPTION:This is a nature-inspired class for children ages 2-5. Each session invites children to explore unique materials for art\, construction\, science\, literacy\, and more. Whether painting with mud\, building with sticks\, experimenting with water\, or storytelling with found objects\, children will engage in hands-on discovery that nurtures creativity\, problem solving\, and sensory exploration.
URL:https://pimaparenting.org/event/hands-in-nature-art-exploration-and-creative-play-6/
LOCATION:Family Resource Center at Robles Elementary\, 9875 S Sasabe Rd\, Tucson\, AZ\, 85736\, United States
CATEGORIES:Families with Children Birth to Five
ATTACH;FMTTYPE=image/jpeg:https://pimaparenting.org/wp-content/uploads/2024/11/UWTSA-Logo-2024-RBG.jpg
ORGANIZER;CN="Kyla Maciosek":MAILTO:kyla@naturecreatedplay.com
END:VEVENT
BEGIN:VEVENT
DTSTART;TZID=America/Phoenix:20260603T130000
DTEND;TZID=America/Phoenix:20260603T140000
DTSTAMP:20260423T102900
CREATED:20260413T190045Z
LAST-MODIFIED:20260413T190045Z
UID:10004789-1780491600-1780495200@pimaparenting.org
SUMMARY:Kids in Motion
DESCRIPTION:Kids in Motion is an active and fun class that promotes your child’s gross motor skill development through energetic and exciting activities. \n  \nPlease note: Videos are used in class to support instruction and curriculum \n 
URL:https://pimaparenting.org/event/kids-in-motion-20/
LOCATION:Family Resource Center at Los Ranchitos\, 2054 E Ginter Rd\, Tucson\, AZ\, 85706\, United States
CATEGORIES:Families with Children Birth to Five
ATTACH;FMTTYPE=image/jpeg:https://pimaparenting.org/wp-content/uploads/2024/11/Kids-in-Motion-at-SUSD-2.0.jpg
ORGANIZER;CN="Garrett Lilly-Ramirez - UWTSA":MAILTO:gkidsinmotion@gmail.com
END:VEVENT
BEGIN:VEVENT
DTSTART;TZID=America/Phoenix:20260604T090000
DTEND;TZID=America/Phoenix:20260604T100000
DTSTAMP:20260423T102900
CREATED:20260413T182802Z
LAST-MODIFIED:20260413T182802Z
UID:10004772-1780563600-1780567200@pimaparenting.org
SUMMARY:Stay & Play- Toddler Time / Family Resource Center at Sahuarita Food Bank
DESCRIPTION:Join us for our Toddler Time class\, designed for families with children from infants to 2 years old! In this interactive environment\, grownups and little ones will engage in play and socialization using a variety of carefully selected materials that promote holistic development. Our focus is on enhancing social skills\, literacy\, and communication\, providing a nurturing space for toddlers to explore and grow together with their caregivers. Come enjoy the fun while fostering essential skills for your child’s early years!
URL:https://pimaparenting.org/event/stay-play-toddler-time-family-resource-center-at-sahuarita-food-bank-9/
LOCATION:Family Resource Center at Sahuarita Food Bank\, 17750 S. La Canada\, Sahuarita\, AZ\, 85629\, United States
CATEGORIES:Families with Children Birth to Five
ATTACH;FMTTYPE=image/jpeg:https://pimaparenting.org/wp-content/uploads/2024/12/Toddler-Time-at-SFB-2.0.jpg
ORGANIZER;CN="Lela Messick-UWTSA":MAILTO:lmessick@unitedwaytucson.org
END:VEVENT
BEGIN:VEVENT
DTSTART;TZID=America/Phoenix:20260605T090000
DTEND;TZID=America/Phoenix:20260605T103000
DTSTAMP:20260423T102900
CREATED:20260324T220246Z
LAST-MODIFIED:20260324T220246Z
UID:10004689-1780650000-1780655400@pimaparenting.org
SUMMARY:Sunny Ranch Family Cafe
DESCRIPTION:Parents and caregivers can join us to share about the challenges and successes of raising their children\, provide support for each other\, discuss what they would like to see at the FRC\, and enjoy a nice time with each other. \nLos padres y cuidadores pueden unirse a nosotros para compartir sobre los desafíos y éxitos de criar a sus hijos\, brindarse apoyo mutuo\, discutir lo que les gustaría ver en el FRC y disfrutar de un momento agradable juntos.
URL:https://pimaparenting.org/event/sunny-ranch-family-cafe-14/
LOCATION:Family Resource Center at Los Ranchitos\, 2054 E Ginter Rd\, Tucson\, AZ\, 85706\, United States
CATEGORIES:Families with Children Birth to Five
ATTACH;FMTTYPE=image/jpeg:https://pimaparenting.org/wp-content/uploads/2024/11/Family-Cafe-at-SUSD-2.0.jpg
ORGANIZER;CN="Family Resource Center at Los Ranchitos":MAILTO:MyrnaL@susd12.org
END:VEVENT
END:VCALENDAR