BEGIN:VCALENDAR
VERSION:2.0
PRODID:-//Pima County Parenting Coalition - ECPv6.15.16.1//NONSGML v1.0//EN
CALSCALE:GREGORIAN
METHOD:PUBLISH
X-ORIGINAL-URL:https://pimaparenting.org
X-WR-CALDESC:Events for Pima County Parenting Coalition
REFRESH-INTERVAL;VALUE=DURATION:PT1H
X-Robots-Tag:noindex
X-PUBLISHED-TTL:PT1H
BEGIN:VTIMEZONE
TZID:America/Phoenix
BEGIN:STANDARD
TZOFFSETFROM:-0700
TZOFFSETTO:-0700
TZNAME:MST
DTSTART:20250101T000000
END:STANDARD
END:VTIMEZONE
BEGIN:VEVENT
DTSTART;TZID=America/Phoenix:20260421T173000
DTEND;TZID=America/Phoenix:20260421T193000
DTSTAMP:20260423T103255
CREATED:20260325T161029Z
LAST-MODIFIED:20260325T230245Z
UID:10004746-1776792600-1776799800@pimaparenting.org
SUMMARY:Parenting to Prevent Bullying-VIRTUAL CLASS
DESCRIPTION:Bullying is a serious problem in our schools today. Parents learn what to do to help their child deal with bullying and identify key social skills that can help prevent young people from becoming victims or bullies \nRegístrate en Parenting to Prevent Bullying ⋆ Casa de los Niños
URL:https://pimaparenting.org/event/parenting-to-prevent-bullying-3/
LOCATION:Family Resource Center at Robles Elementary\, 9875 S Sasabe Rd\, Tucson\, AZ\, 85736\, United States
CATEGORIES:Families with Children Birth to Five
ATTACH;FMTTYPE=image/jpeg:https://pimaparenting.org/wp-content/uploads/2024/03/Casa-logo.jpg
ORGANIZER;CN="Casa de los Ninos":MAILTO:cbolger@casadelosninos.org
END:VEVENT
BEGIN:VEVENT
DTSTART;TZID=America/Phoenix:20260421T173000
DTEND;TZID=America/Phoenix:20260421T193000
DTSTAMP:20260423T103255
CREATED:20260325T161012Z
LAST-MODIFIED:20260325T231124Z
UID:10004745-1776792600-1776799800@pimaparenting.org
SUMMARY:Parenting to Prevent Bullying-VIRTUAL CLASS
DESCRIPTION:Bullying is a serious problem in our schools today. Parents learn what to do to help their child deal with bullying and identify key social skills that can help prevent young people from becoming victims or bullies \nRegístrate en Parenting to Prevent Bullying ⋆ Casa de los Niños
URL:https://pimaparenting.org/event/parenting-to-prevent-bullying-2/
LOCATION:Family Resource Center at Los Ranchitos\, 2054 E Ginter Rd\, Tucson\, AZ\, 85706\, United States
CATEGORIES:Families with Children Birth to Five
ATTACH;FMTTYPE=image/jpeg:https://pimaparenting.org/wp-content/uploads/2024/03/Casa-logo.jpg
ORGANIZER;CN="Casa de los Ninos":MAILTO:cbolger@casadelosninos.org
END:VEVENT
BEGIN:VEVENT
DTSTART;TZID=America/Phoenix:20260421T173000
DTEND;TZID=America/Phoenix:20260421T193000
DTSTAMP:20260423T103255
CREATED:20260325T160952Z
LAST-MODIFIED:20260325T224614Z
UID:10004744-1776792600-1776799800@pimaparenting.org
SUMMARY:Parenting to Prevent Bullying-VIRTUAL CLASS
DESCRIPTION:Bullying is a serious problem in our schools today. Parents learn what to do to help their child deal with bullying and identify key social skills that can help prevent young people from becoming victims or bullies \nRegístrate en Parenting to Prevent Bullying ⋆ Casa de los Niños
URL:https://pimaparenting.org/event/parenting-to-prevent-bullying/
LOCATION:Family Resource Center at Sahuarita Food Bank\, 17750 S. La Canada\, Sahuarita\, AZ\, 85629\, United States
CATEGORIES:Families with Children Birth to Five
ATTACH;FMTTYPE=image/jpeg:https://pimaparenting.org/wp-content/uploads/2024/03/Casa-logo.jpg
ORGANIZER;CN="Casa de los Ninos":MAILTO:cbolger@casadelosninos.org
END:VEVENT
BEGIN:VEVENT
DTSTART;TZID=America/Phoenix:20260416T173000
DTEND;TZID=America/Phoenix:20260416T193000
DTSTAMP:20260423T103255
CREATED:20260325T160815Z
LAST-MODIFIED:20260325T230154Z
UID:10004743-1776360600-1776367800@pimaparenting.org
SUMMARY:Tecnicas de Crianza de Redireccion de Redireccion Verbal y Fisica-CLASE VIRTUAL
DESCRIPTION:La redireccion es una tecnica de crianza para ayudar a los ninos a aprender un comportamiento adecuado. Los padres usan la redireccion para apoyar a sus hijos en el aprendizaje de un comportamiento adecuado. \nRegístrate en Tecnicas de Crianza de Redireccion de Redireccion Verbal y Fisica ⋆ Casa de los Niños
URL:https://pimaparenting.org/event/tecnicas-de-crianza-de-redireccion-de-redireccion-verbal-y-fisica-3/
LOCATION:Family Resource Center at Robles Elementary\, 9875 S Sasabe Rd\, Tucson\, AZ\, 85736\, United States
CATEGORIES:Families with Children Birth to Five
ATTACH;FMTTYPE=image/jpeg:https://pimaparenting.org/wp-content/uploads/2024/03/Casa-logo.jpg
ORGANIZER;CN="Casa de los Ninos":MAILTO:cbolger@casadelosninos.org
END:VEVENT
BEGIN:VEVENT
DTSTART;TZID=America/Phoenix:20260416T173000
DTEND;TZID=America/Phoenix:20260416T193000
DTSTAMP:20260423T103255
CREATED:20260325T160736Z
LAST-MODIFIED:20260325T231024Z
UID:10004742-1776360600-1776367800@pimaparenting.org
SUMMARY:Tecnicas de Crianza de Redireccion de Redireccion Verbal y Fisica-CLASE VIRTUAL
DESCRIPTION:La redireccion es una tecnica de crianza para ayudar a los ninos a aprender un comportamiento adecuado. Los padres usan la redireccion para apoyar a sus hijos en el aprendizaje de un comportamiento adecuado. \nRegístrate en Tecnicas de Crianza de Redireccion de Redireccion Verbal y Fisica ⋆ Casa de los Niños
URL:https://pimaparenting.org/event/tecnicas-de-crianza-de-redireccion-de-redireccion-verbal-y-fisica-2/
LOCATION:Family Resource Center at Los Ranchitos\, 2054 E Ginter Rd\, Tucson\, AZ\, 85706\, United States
CATEGORIES:Families with Children Birth to Five
ATTACH;FMTTYPE=image/jpeg:https://pimaparenting.org/wp-content/uploads/2024/03/Casa-logo.jpg
ORGANIZER;CN="Casa de los Ninos":MAILTO:cbolger@casadelosninos.org
END:VEVENT
BEGIN:VEVENT
DTSTART;TZID=America/Phoenix:20260416T173000
DTEND;TZID=America/Phoenix:20260416T193000
DTSTAMP:20260423T103255
CREATED:20260325T160652Z
LAST-MODIFIED:20260325T224321Z
UID:10004741-1776360600-1776367800@pimaparenting.org
SUMMARY:Tecnicas de Crianza de Redireccion de Redireccion Verbal y Fisica-CLASE VIRTUAL
DESCRIPTION:La redireccion es una tecnica de crianza para ayudar a los ninos a aprender un comportamiento adecuado. Los padres usan la redireccion para apoyar a sus hijos en el aprendizaje de un comportamiento adecuado. \nRegístrate en Tecnicas de Crianza de Redireccion de Redireccion Verbal y Fisica ⋆ Casa de los Niños
URL:https://pimaparenting.org/event/tecnicas-de-crianza-de-redireccion-de-redireccion-verbal-y-fisica/
LOCATION:Family Resource Center at Sahuarita Food Bank\, 17750 S. La Canada\, Sahuarita\, AZ\, 85629\, United States
CATEGORIES:Families with Children Birth to Five
ATTACH;FMTTYPE=image/jpeg:https://pimaparenting.org/wp-content/uploads/2024/03/Casa-logo.jpg
ORGANIZER;CN="Casa de los Ninos":MAILTO:cbolger@casadelosninos.org
END:VEVENT
BEGIN:VEVENT
DTSTART;TZID=America/Phoenix:20260414T173000
DTEND;TZID=America/Phoenix:20260414T193000
DTSTAMP:20260423T103255
CREATED:20260325T160312Z
LAST-MODIFIED:20260325T160312Z
UID:10004740-1776187800-1776195000@pimaparenting.org
SUMMARY:Verbal & Physical Redirection Parenting Techniques/ VIRTUAL CLASS
DESCRIPTION:This topic is from the Nurturing Parenting Program \nRedirection is a parenting technique to help children learn appropriate behavior. Physical redirection is similar to verbal redirection with an added feature/step. \nRegister at Verbal & Physical Redirection Techniques ⋆ Casa de los Niños
URL:https://pimaparenting.org/event/verbal-physical-redirection-parenting-techniques-virtual-class-6/
LOCATION:Family Resource Center at Robles Elementary\, 9875 S Sasabe Rd\, Tucson\, AZ\, 85736\, United States
CATEGORIES:Families with Children Birth to Five
ATTACH;FMTTYPE=image/jpeg:https://pimaparenting.org/wp-content/uploads/2024/03/Casa-logo.jpg
ORGANIZER;CN="Casa de los Ninos":MAILTO:cbolger@casadelosninos.org
END:VEVENT
BEGIN:VEVENT
DTSTART;TZID=America/Phoenix:20260414T173000
DTEND;TZID=America/Phoenix:20260414T193000
DTSTAMP:20260423T103255
CREATED:20260325T160248Z
LAST-MODIFIED:20260325T160248Z
UID:10004739-1776187800-1776195000@pimaparenting.org
SUMMARY:Verbal & Physical Redirection Parenting Techniques/ VIRTUAL CLASS
DESCRIPTION:This topic is from the Nurturing Parenting Program \nRedirection is a parenting technique to help children learn appropriate behavior. Physical redirection is similar to verbal redirection with an added feature/step. \nRegister at Verbal & Physical Redirection Techniques ⋆ Casa de los Niños
URL:https://pimaparenting.org/event/verbal-physical-redirection-parenting-techniques-virtual-class-5/
LOCATION:Family Resource Center at Los Ranchitos\, 2054 E Ginter Rd\, Tucson\, AZ\, 85706\, United States
CATEGORIES:Families with Children Birth to Five
ATTACH;FMTTYPE=image/jpeg:https://pimaparenting.org/wp-content/uploads/2024/03/Casa-logo.jpg
ORGANIZER;CN="Casa de los Ninos":MAILTO:cbolger@casadelosninos.org
END:VEVENT
BEGIN:VEVENT
DTSTART;TZID=America/Phoenix:20260414T173000
DTEND;TZID=America/Phoenix:20260414T193000
DTSTAMP:20260423T103255
CREATED:20260325T160223Z
LAST-MODIFIED:20260325T160223Z
UID:10004738-1776187800-1776195000@pimaparenting.org
SUMMARY:Verbal & Physical Redirection Parenting Techniques/ VIRTUAL CLASS
DESCRIPTION:This topic is from the Nurturing Parenting Program \nRedirection is a parenting technique to help children learn appropriate behavior. Physical redirection is similar to verbal redirection with an added feature/step. \nRegister at Verbal & Physical Redirection Techniques ⋆ Casa de los Niños
URL:https://pimaparenting.org/event/verbal-physical-redirection-parenting-techniques-virtual-class-4/
LOCATION:Family Resource Center at Sahuarita Food Bank\, 17750 S. La Canada\, Sahuarita\, AZ\, 85629\, United States
CATEGORIES:Families with Children Birth to Five
ATTACH;FMTTYPE=image/jpeg:https://pimaparenting.org/wp-content/uploads/2024/03/Casa-logo.jpg
ORGANIZER;CN="Casa de los Ninos":MAILTO:cbolger@casadelosninos.org
END:VEVENT
BEGIN:VEVENT
DTSTART;TZID=America/Phoenix:20260409T173000
DTEND;TZID=America/Phoenix:20260409T193000
DTSTAMP:20260423T103255
CREATED:20260325T160056Z
LAST-MODIFIED:20260325T230110Z
UID:10004737-1775755800-1775763000@pimaparenting.org
SUMMARY:Ignorar como técnica de crianza-CLASE VIRTUAL
DESCRIPTION:Ignorar como técnica de crianza \nEl objetivo de esta clase es aprender a ignorar el comportamiento irritante y no deseado de los ninos. \nRegístrate en Ignorar como tecnica de crianza ⋆ Casa de los Niños
URL:https://pimaparenting.org/event/ignorar-como-tecnica-de-crianza-6/
LOCATION:Family Resource Center at Robles Elementary\, 9875 S Sasabe Rd\, Tucson\, AZ\, 85736\, United States
CATEGORIES:Families with Children Birth to Five
ATTACH;FMTTYPE=image/jpeg:https://pimaparenting.org/wp-content/uploads/2024/03/Casa-logo.jpg
ORGANIZER;CN="Casa de los Ninos":MAILTO:cbolger@casadelosninos.org
END:VEVENT
BEGIN:VEVENT
DTSTART;TZID=America/Phoenix:20260409T173000
DTEND;TZID=America/Phoenix:20260409T193000
DTSTAMP:20260423T103255
CREATED:20260325T160032Z
LAST-MODIFIED:20260325T230859Z
UID:10004736-1775755800-1775763000@pimaparenting.org
SUMMARY:Ignorar como técnica de crianza-CLASE VIRTUAL
DESCRIPTION:Ignorar como técnica de crianza \nEl objetivo de esta clase es aprender a ignorar el comportamiento irritante y no deseado de los ninos. \nRegístrate en Ignorar como tecnica de crianza ⋆ Casa de los Niños
URL:https://pimaparenting.org/event/ignorar-como-tecnica-de-crianza-5/
LOCATION:Family Resource Center at Los Ranchitos\, 2054 E Ginter Rd\, Tucson\, AZ\, 85706\, United States
CATEGORIES:Families with Children Birth to Five
ATTACH;FMTTYPE=image/jpeg:https://pimaparenting.org/wp-content/uploads/2024/03/Casa-logo.jpg
ORGANIZER;CN="Casa de los Ninos":MAILTO:cbolger@casadelosninos.org
END:VEVENT
BEGIN:VEVENT
DTSTART;TZID=America/Phoenix:20260409T173000
DTEND;TZID=America/Phoenix:20260409T193000
DTSTAMP:20260423T103255
CREATED:20260325T160005Z
LAST-MODIFIED:20260325T224133Z
UID:10004735-1775755800-1775763000@pimaparenting.org
SUMMARY:Ignorar como técnica de crianza-CLASE VIRTUAL
DESCRIPTION:Ignorar como técnica de crianza \nEl objetivo de esta clase es aprender a ignorar el comportamiento irritante y no deseado de los ninos. \nRegístrate en Ignorar como tecnica de crianza ⋆ Casa de los Niños
URL:https://pimaparenting.org/event/ignorar-como-tecnica-de-crianza-4/
LOCATION:Family Resource Center at Sahuarita Food Bank\, 17750 S. La Canada\, Sahuarita\, AZ\, 85629\, United States
CATEGORIES:Families with Children Birth to Five
ATTACH;FMTTYPE=image/jpeg:https://pimaparenting.org/wp-content/uploads/2024/03/Casa-logo.jpg
ORGANIZER;CN="Casa de los Ninos":MAILTO:cbolger@casadelosninos.org
END:VEVENT
BEGIN:VEVENT
DTSTART;TZID=America/Phoenix:20260407T173000
DTEND;TZID=America/Phoenix:20260407T193000
DTSTAMP:20260423T103255
CREATED:20260325T155834Z
LAST-MODIFIED:20260325T230025Z
UID:10004734-1775583000-1775590200@pimaparenting.org
SUMMARY:Ignoring as a Parenting Technique-VIRTUAL CLASS
DESCRIPTION:This topic is from the Nurturing Parenting Program \nThe goal of this class is to learn to ignore irritating\, unwanted behavior of children. \nRegister at Ignoring as a Parenting Technique ⋆ Casa de los Niños
URL:https://pimaparenting.org/event/ignoring-as-a-parenting-technique-6/
LOCATION:Family Resource Center at Robles Elementary\, 9875 S Sasabe Rd\, Tucson\, AZ\, 85736\, United States
CATEGORIES:Families with Children Birth to Five
ATTACH;FMTTYPE=image/jpeg:https://pimaparenting.org/wp-content/uploads/2024/03/Casa-logo.jpg
ORGANIZER;CN="Casa de los Ninos":MAILTO:cbolger@casadelosninos.org
END:VEVENT
BEGIN:VEVENT
DTSTART;TZID=America/Phoenix:20260407T173000
DTEND;TZID=America/Phoenix:20260407T193000
DTSTAMP:20260423T103255
CREATED:20260325T155756Z
LAST-MODIFIED:20260325T230802Z
UID:10004733-1775583000-1775590200@pimaparenting.org
SUMMARY:Ignoring as a Parenting Technique-VIRTUAL CLASS
DESCRIPTION:This topic is from the Nurturing Parenting Program \nThe goal of this class is to learn to ignore irritating\, unwanted behavior of children. \nRegister at Ignoring as a Parenting Technique ⋆ Casa de los Niños
URL:https://pimaparenting.org/event/ignoring-as-a-parenting-technique-5/
LOCATION:Family Resource Center at Los Ranchitos\, 2054 E Ginter Rd\, Tucson\, AZ\, 85706\, United States
CATEGORIES:Families with Children Birth to Five
ATTACH;FMTTYPE=image/jpeg:https://pimaparenting.org/wp-content/uploads/2024/03/Casa-logo.jpg
ORGANIZER;CN="Casa de los Ninos":MAILTO:cbolger@casadelosninos.org
END:VEVENT
BEGIN:VEVENT
DTSTART;TZID=America/Phoenix:20260407T173000
DTEND;TZID=America/Phoenix:20260407T193000
DTSTAMP:20260423T103255
CREATED:20260325T155732Z
LAST-MODIFIED:20260325T223428Z
UID:10004732-1775583000-1775590200@pimaparenting.org
SUMMARY:Ignoring as a Parenting Technique-VIRTUAL CLASS
DESCRIPTION:This topic is from the Nurturing Parenting Program \nThe goal of this class is to learn to ignore irritating\, unwanted behavior of children. \nRegister at Ignoring as a Parenting Technique ⋆ Casa de los Niños
URL:https://pimaparenting.org/event/ignoring-as-a-parenting-technique-4/
LOCATION:Family Resource Center at Sahuarita Food Bank\, 17750 S. La Canada\, Sahuarita\, AZ\, 85629\, United States
CATEGORIES:Families with Children Birth to Five
ATTACH;FMTTYPE=image/jpeg:https://pimaparenting.org/wp-content/uploads/2024/03/Casa-logo.jpg
ORGANIZER;CN="Casa de los Ninos":MAILTO:cbolger@casadelosninos.org
END:VEVENT
BEGIN:VEVENT
DTSTART;TZID=America/Phoenix:20260326T173000
DTEND;TZID=America/Phoenix:20260326T193000
DTSTAMP:20260423T103255
CREATED:20260224T204024Z
LAST-MODIFIED:20260224T210917Z
UID:10004617-1774546200-1774553400@pimaparenting.org
SUMMARY:Desarrollando el poder personal en los niños
DESCRIPTION:Desarrollando el poder personal en los niños \nEsta clase se centra en ayudar a nuestros ninos a desarrollar un fuerte sentido de poder personal: un umpulso para lograr cosas\, crear cosas y hacer del mundo un lugar mas solidario. \nRegistrarse en  Spanish- Developing Personal Power in Children ⋆ Casa de los Niños
URL:https://pimaparenting.org/event/desarrollando-el-poder-personal-en-los-ninos-3/
LOCATION:Family Resource Center at Sahuarita Food Bank\, 17750 S. La Canada\, Sahuarita\, AZ\, 85629\, United States
CATEGORIES:Families with Children Birth to Five
ATTACH;FMTTYPE=image/jpeg:https://pimaparenting.org/wp-content/uploads/2024/03/Casa-logo.jpg
ORGANIZER;CN="Casa de los Ninos":MAILTO:cbolger@casadelosninos.org
END:VEVENT
BEGIN:VEVENT
DTSTART;TZID=America/Phoenix:20260326T173000
DTEND;TZID=America/Phoenix:20260326T193000
DTSTAMP:20260423T103255
CREATED:20260224T203956Z
LAST-MODIFIED:20260224T211001Z
UID:10004616-1774546200-1774553400@pimaparenting.org
SUMMARY:Desarrollando el poder personal en los niños
DESCRIPTION:Desarrollando el poder personal en los niños \nEsta clase se centra en ayudar a nuestros ninos a desarrollar un fuerte sentido de poder personal: un umpulso para lograr cosas\, crear cosas y hacer del mundo un lugar mas solidario. \nRegistrarse en  Spanish- Developing Personal Power in Children ⋆ Casa de los Niños
URL:https://pimaparenting.org/event/desarrollando-el-poder-personal-en-los-ninos-2/
LOCATION:Family Resource Center at Robles Elementary\, 9875 S Sasabe Rd\, Tucson\, AZ\, 85736\, United States
CATEGORIES:Families with Children Birth to Five
ATTACH;FMTTYPE=image/jpeg:https://pimaparenting.org/wp-content/uploads/2024/03/Casa-logo.jpg
ORGANIZER;CN="Casa de los Ninos":MAILTO:cbolger@casadelosninos.org
END:VEVENT
BEGIN:VEVENT
DTSTART;TZID=America/Phoenix:20260326T173000
DTEND;TZID=America/Phoenix:20260326T193000
DTSTAMP:20260423T103255
CREATED:20260224T203857Z
LAST-MODIFIED:20260224T211032Z
UID:10004615-1774546200-1774553400@pimaparenting.org
SUMMARY:Desarrollando el poder personal en los niños
DESCRIPTION:Desarrollando el poder personal en los niños \nEsta clase se centra en ayudar a nuestros ninos a desarrollar un fuerte sentido de poder personal: un umpulso para lograr cosas\, crear cosas y hacer del mundo un lugar mas solidario. \nRegistrarse en  Spanish- Developing Personal Power in Children ⋆ Casa de los Niños
URL:https://pimaparenting.org/event/desarrollando-el-poder-personal-en-los-ninos/
LOCATION:Family Resource Center at Los Ranchitos\, 2054 E Ginter Rd\, Tucson\, AZ\, 85706\, United States
CATEGORIES:Families with Children Birth to Five
ATTACH;FMTTYPE=image/jpeg:https://pimaparenting.org/wp-content/uploads/2024/03/Casa-logo.jpg
ORGANIZER;CN="Casa de los Ninos":MAILTO:cbolger@casadelosninos.org
END:VEVENT
BEGIN:VEVENT
DTSTART;TZID=America/Phoenix:20260324T173000
DTEND;TZID=America/Phoenix:20260324T193000
DTSTAMP:20260423T103255
CREATED:20260224T204343Z
LAST-MODIFIED:20260224T204343Z
UID:10004619-1774373400-1774380600@pimaparenting.org
SUMMARY:Developing Personal Power in Children
DESCRIPTION:This topic is from the Nurturing Parenting Program \nThis class focuses on helping our children develop a strong sense of personal power: a drive to accomplish things\, create things\, and make the world a more caring place. \nRegister at Developing Personal Power in Children ⋆ Casa de los Niños
URL:https://pimaparenting.org/event/developing-personal-power-in-children-3/
LOCATION:Family Resource Center at Sahuarita Food Bank\, 17750 S. La Canada\, Sahuarita\, AZ\, 85629\, United States
CATEGORIES:Families with Children Birth to Five
ATTACH;FMTTYPE=image/jpeg:https://pimaparenting.org/wp-content/uploads/2024/03/Casa-logo.jpg
ORGANIZER;CN="Casa de los Ninos":MAILTO:cbolger@casadelosninos.org
END:VEVENT
BEGIN:VEVENT
DTSTART;TZID=America/Phoenix:20260324T173000
DTEND;TZID=America/Phoenix:20260324T193000
DTSTAMP:20260423T103255
CREATED:20260224T204251Z
LAST-MODIFIED:20260224T204251Z
UID:10004618-1774373400-1774380600@pimaparenting.org
SUMMARY:Developing Personal Power in Children
DESCRIPTION:This topic is from the Nurturing Parenting Program \nThis class focuses on helping our children develop a strong sense of personal power: a drive to accomplish things\, create things\, and make the world a more caring place. \nRegister at Developing Personal Power in Children ⋆ Casa de los Niños
URL:https://pimaparenting.org/event/developing-personal-power-in-children-2/
LOCATION:Family Resource Center at Robles Elementary\, 9875 S Sasabe Rd\, Tucson\, AZ\, 85736\, United States
CATEGORIES:Families with Children Birth to Five
ATTACH;FMTTYPE=image/jpeg:https://pimaparenting.org/wp-content/uploads/2024/03/Casa-logo.jpg
ORGANIZER;CN="Casa de los Ninos":MAILTO:cbolger@casadelosninos.org
END:VEVENT
BEGIN:VEVENT
DTSTART;TZID=America/Phoenix:20260324T173000
DTEND;TZID=America/Phoenix:20260324T193000
DTSTAMP:20260423T103255
CREATED:20260224T203610Z
LAST-MODIFIED:20260224T203610Z
UID:10004614-1774373400-1774380600@pimaparenting.org
SUMMARY:Developing Personal Power in Children
DESCRIPTION:This topic is from the Nurturing Parenting Program \nThis class focuses on helping our children develop a strong sense of personal power: a drive to accomplish things\, create things\, and make the world a more caring place. \nRegister at Developing Personal Power in Children ⋆ Casa de los Niños
URL:https://pimaparenting.org/event/developing-personal-power-in-children/
LOCATION:Family Resource Center at Los Ranchitos\, 2054 E Ginter Rd\, Tucson\, AZ\, 85706\, United States
CATEGORIES:Families with Children Birth to Five
ATTACH;FMTTYPE=image/jpeg:https://pimaparenting.org/wp-content/uploads/2024/03/Casa-logo.jpg
ORGANIZER;CN="Casa de los Ninos":MAILTO:cbolger@casadelosninos.org
END:VEVENT
BEGIN:VEVENT
DTSTART;TZID=America/Phoenix:20260319T173000
DTEND;TZID=America/Phoenix:20260319T193000
DTSTAMP:20260423T103255
CREATED:20260224T203353Z
LAST-MODIFIED:20260224T203353Z
UID:10004613-1773941400-1773948600@pimaparenting.org
SUMMARY:Ignorar como técnica de crianza
DESCRIPTION:Ignorar como técnica de crianza \nEl objetivo de esta clase es aprender a ignorar el comportamiento irritante y no deseado de los ninos. \nRegístrate en Spanish- Ignoring as a Parenting Technique ⋆ Casa de los Niños
URL:https://pimaparenting.org/event/ignorar-como-tecnica-de-crianza-3/
LOCATION:Family Resource Center at Sahuarita Food Bank\, 17750 S. La Canada\, Sahuarita\, AZ\, 85629\, United States
CATEGORIES:Families with Children Birth to Five
ATTACH;FMTTYPE=image/jpeg:https://pimaparenting.org/wp-content/uploads/2024/03/Casa-logo.jpg
ORGANIZER;CN="Casa de los Ninos":MAILTO:cbolger@casadelosninos.org
END:VEVENT
BEGIN:VEVENT
DTSTART;TZID=America/Phoenix:20260319T173000
DTEND;TZID=America/Phoenix:20260319T193000
DTSTAMP:20260423T103255
CREATED:20260224T203324Z
LAST-MODIFIED:20260224T203324Z
UID:10004612-1773941400-1773948600@pimaparenting.org
SUMMARY:Ignorar como técnica de crianza
DESCRIPTION:Ignorar como técnica de crianza \nEl objetivo de esta clase es aprender a ignorar el comportamiento irritante y no deseado de los ninos. \nRegístrate en Spanish- Ignoring as a Parenting Technique ⋆ Casa de los Niños
URL:https://pimaparenting.org/event/ignorar-como-tecnica-de-crianza-2/
LOCATION:Family Resource Center at Robles Elementary\, 9875 S Sasabe Rd\, Tucson\, AZ\, 85736\, United States
CATEGORIES:Families with Children Birth to Five
ATTACH;FMTTYPE=image/jpeg:https://pimaparenting.org/wp-content/uploads/2024/03/Casa-logo.jpg
ORGANIZER;CN="Casa de los Ninos":MAILTO:cbolger@casadelosninos.org
END:VEVENT
BEGIN:VEVENT
DTSTART;TZID=America/Phoenix:20260319T173000
DTEND;TZID=America/Phoenix:20260319T193000
DTSTAMP:20260423T103255
CREATED:20260224T203157Z
LAST-MODIFIED:20260224T203157Z
UID:10004611-1773941400-1773948600@pimaparenting.org
SUMMARY:Ignorar como técnica de crianza
DESCRIPTION:Ignorar como técnica de crianza \nEl objetivo de esta clase es aprender a ignorar el comportamiento irritante y no deseado de los ninos. \nRegístrate en Spanish- Ignoring as a Parenting Technique ⋆ Casa de los Niños
URL:https://pimaparenting.org/event/ignorar-como-tecnica-de-crianza/
LOCATION:Family Resource Center at Los Ranchitos\, 2054 E Ginter Rd\, Tucson\, AZ\, 85706\, United States
CATEGORIES:Families with Children Birth to Five
ATTACH;FMTTYPE=image/jpeg:https://pimaparenting.org/wp-content/uploads/2024/03/Casa-logo.jpg
ORGANIZER;CN="Casa de los Ninos":MAILTO:cbolger@casadelosninos.org
END:VEVENT
BEGIN:VEVENT
DTSTART;TZID=America/Phoenix:20260317T173000
DTEND;TZID=America/Phoenix:20260317T193000
DTSTAMP:20260423T103255
CREATED:20260224T202729Z
LAST-MODIFIED:20260224T202729Z
UID:10004610-1773768600-1773775800@pimaparenting.org
SUMMARY:Ignoring as a Parenting Technique
DESCRIPTION:This topic is from the Nurturing Parenting Program \nThe goal of this class is to learn to ignore irritating\, unwanted behavior of children. \nRegister at Ignoring as a Parenting Technique ⋆ Casa de los Niños
URL:https://pimaparenting.org/event/ignoring-as-a-parenting-technique-3/
LOCATION:Family Resource Center at Sahuarita Food Bank\, 17750 S. La Canada\, Sahuarita\, AZ\, 85629\, United States
CATEGORIES:Families with Children Birth to Five
ATTACH;FMTTYPE=image/jpeg:https://pimaparenting.org/wp-content/uploads/2024/03/Casa-logo.jpg
ORGANIZER;CN="Casa de los Ninos":MAILTO:cbolger@casadelosninos.org
END:VEVENT
BEGIN:VEVENT
DTSTART;TZID=America/Phoenix:20260317T173000
DTEND;TZID=America/Phoenix:20260317T193000
DTSTAMP:20260423T103255
CREATED:20260224T202038Z
LAST-MODIFIED:20260224T202703Z
UID:10004609-1773768600-1773775800@pimaparenting.org
SUMMARY:Ignoring as a Parenting Technique
DESCRIPTION:This topic is from the Nurturing Parenting Program \nThe goal of this class is to learn to ignore irritating\, unwanted behavior of children. \nRegister at Ignoring as a Parenting Technique ⋆ Casa de los Niños
URL:https://pimaparenting.org/event/ignoring-as-a-parenting-technique-2/
LOCATION:Family Resource Center at Robles Elementary\, 9875 S Sasabe Rd\, Tucson\, AZ\, 85736\, United States
CATEGORIES:Families with Children Birth to Five
ATTACH;FMTTYPE=image/jpeg:https://pimaparenting.org/wp-content/uploads/2024/03/Casa-logo.jpg
ORGANIZER;CN="Casa de los Ninos":MAILTO:cbolger@casadelosninos.org
END:VEVENT
BEGIN:VEVENT
DTSTART;TZID=America/Phoenix:20260317T173000
DTEND;TZID=America/Phoenix:20260317T193000
DTSTAMP:20260423T103255
CREATED:20260224T201944Z
LAST-MODIFIED:20260224T202844Z
UID:10004608-1773768600-1773775800@pimaparenting.org
SUMMARY:Ignoring as a Parenting Technique
DESCRIPTION:This topic is from the Nurturing Parenting Program \nThe goal of this class is to learn to ignore irritating\, unwanted behavior of children. \nRegister at Ignoring as a Parenting Technique ⋆ Casa de los Niños
URL:https://pimaparenting.org/event/ignoring-as-a-parenting-technique/
LOCATION:Family Resource Center at Los Ranchitos\, 2054 E Ginter Rd\, Tucson\, AZ\, 85706\, United States
CATEGORIES:Families with Children Birth to Five
ATTACH;FMTTYPE=image/jpeg:https://pimaparenting.org/wp-content/uploads/2024/03/Casa-logo.jpg
ORGANIZER;CN="Casa de los Ninos":MAILTO:cbolger@casadelosninos.org
END:VEVENT
BEGIN:VEVENT
DTSTART;TZID=America/Phoenix:20260312T173000
DTEND;TZID=America/Phoenix:20260312T193000
DTSTAMP:20260423T103255
CREATED:20260224T201625Z
LAST-MODIFIED:20260224T201625Z
UID:10004607-1773336600-1773343800@pimaparenting.org
SUMMARY:Formas positivas de manejar el estrés y la ira
DESCRIPTION:Los padres aprenden a lidiar con el estres de la crianza y aprenden metodos para reducir su estres y elde sus hijos. \nRegístrate en Spanish- Positive Ways to Deal with Stress and Anger ⋆ Casa de los Niños
URL:https://pimaparenting.org/event/formas-positivas-de-manejar-el-estres-y-la-ira-3/
LOCATION:Family Resource Center at Sahuarita Food Bank\, 17750 S. La Canada\, Sahuarita\, AZ\, 85629\, United States
CATEGORIES:Families with Children Birth to Five
ATTACH;FMTTYPE=image/jpeg:https://pimaparenting.org/wp-content/uploads/2024/03/Casa-logo.jpg
ORGANIZER;CN="Casa de los Ninos":MAILTO:cbolger@casadelosninos.org
END:VEVENT
BEGIN:VEVENT
DTSTART;TZID=America/Phoenix:20260312T173000
DTEND;TZID=America/Phoenix:20260312T193000
DTSTAMP:20260423T103255
CREATED:20260224T201558Z
LAST-MODIFIED:20260224T201558Z
UID:10004606-1773336600-1773343800@pimaparenting.org
SUMMARY:Formas positivas de manejar el estrés y la ira
DESCRIPTION:Los padres aprenden a lidiar con el estres de la crianza y aprenden metodos para reducir su estres y elde sus hijos. \nRegístrate en Spanish- Positive Ways to Deal with Stress and Anger ⋆ Casa de los Niños
URL:https://pimaparenting.org/event/formas-positivas-de-manejar-el-estres-y-la-ira-2/
LOCATION:Family Resource Center at Robles Elementary\, 9875 S Sasabe Rd\, Tucson\, AZ\, 85736\, United States
CATEGORIES:Families with Children Birth to Five
ATTACH;FMTTYPE=image/jpeg:https://pimaparenting.org/wp-content/uploads/2024/03/Casa-logo.jpg
ORGANIZER;CN="Casa de los Ninos":MAILTO:cbolger@casadelosninos.org
END:VEVENT
BEGIN:VEVENT
DTSTART;TZID=America/Phoenix:20260312T173000
DTEND;TZID=America/Phoenix:20260312T193000
DTSTAMP:20260423T103255
CREATED:20260224T201514Z
LAST-MODIFIED:20260224T201514Z
UID:10004605-1773336600-1773343800@pimaparenting.org
SUMMARY:Formas positivas de manejar el estrés y la ira
DESCRIPTION:Los padres aprenden a lidiar con el estres de la crianza y aprenden metodos para reducir su estres y elde sus hijos. \nRegístrate en Spanish- Positive Ways to Deal with Stress and Anger ⋆ Casa de los Niños
URL:https://pimaparenting.org/event/formas-positivas-de-manejar-el-estres-y-la-ira/
LOCATION:Family Resource Center at Los Ranchitos\, 2054 E Ginter Rd\, Tucson\, AZ\, 85706\, United States
CATEGORIES:Families with Children Birth to Five
ATTACH;FMTTYPE=image/jpeg:https://pimaparenting.org/wp-content/uploads/2024/03/Casa-logo.jpg
ORGANIZER;CN="Casa de los Ninos":MAILTO:cbolger@casadelosninos.org
END:VEVENT
END:VCALENDAR