BEGIN:VCALENDAR
VERSION:2.0
PRODID:-//Pima County Parenting Coalition - ECPv6.15.16.1//NONSGML v1.0//EN
CALSCALE:GREGORIAN
METHOD:PUBLISH
X-WR-CALNAME:Pima County Parenting Coalition
X-ORIGINAL-URL:https://pimaparenting.org
X-WR-CALDESC:Events for Pima County Parenting Coalition
REFRESH-INTERVAL;VALUE=DURATION:PT1H
X-Robots-Tag:noindex
X-PUBLISHED-TTL:PT1H
BEGIN:VTIMEZONE
TZID:America/Phoenix
BEGIN:STANDARD
TZOFFSETFROM:-0700
TZOFFSETTO:-0700
TZNAME:MST
DTSTART:20250101T000000
END:STANDARD
END:VTIMEZONE
BEGIN:VEVENT
DTSTART;TZID=America/Phoenix:20260423T173000
DTEND;TZID=America/Phoenix:20260423T193000
DTSTAMP:20260423T091703
CREATED:20260325T161302Z
LAST-MODIFIED:20260325T224720Z
UID:10004747-1776965400-1776972600@pimaparenting.org
SUMMARY:Crianza para Prevenir el Acoso-CLASE VIRTUAL
DESCRIPTION:El acoso escolar es un problema grave en nuestras escuelas hoy en dia. Los padres aprenden que hacer para ayudar a su hijo a enfrentar el acoso escolar e identificar habilidades sociales clave que pueden ayudar a prevenir que los jovenes se conviertan envictimas o acosadores. \nRegístrate en Crianza para Prevenir el Acoso ⋆ Casa de los Niños
URL:https://pimaparenting.org/event/crianza-para-prevenir-el-acoso/
LOCATION:Family Resource Center at Sahuarita Food Bank\, 17750 S. La Canada\, Sahuarita\, AZ\, 85629\, United States
CATEGORIES:Families with Children Birth to Five
ATTACH;FMTTYPE=image/jpeg:https://pimaparenting.org/wp-content/uploads/2024/03/Casa-logo.jpg
ORGANIZER;CN="Casa de los Ninos":MAILTO:cbolger@casadelosninos.org
END:VEVENT
BEGIN:VEVENT
DTSTART;TZID=America/Phoenix:20260423T173000
DTEND;TZID=America/Phoenix:20260423T193000
DTSTAMP:20260423T091703
CREATED:20260325T161333Z
LAST-MODIFIED:20260325T230324Z
UID:10004748-1776965400-1776972600@pimaparenting.org
SUMMARY:Crianza para Prevenir el Acoso-CLASE VIRTUAL
DESCRIPTION:El acoso escolar es un problema grave en nuestras escuelas hoy en dia. Los padres aprenden que hacer para ayudar a su hijo a enfrentar el acoso escolar e identificar habilidades sociales clave que pueden ayudar a prevenir que los jovenes se conviertan envictimas o acosadores. \nRegístrate en Crianza para Prevenir el Acoso ⋆ Casa de los Niños
URL:https://pimaparenting.org/event/crianza-para-prevenir-el-acoso-2/
LOCATION:Family Resource Center at Robles Elementary\, 9875 S Sasabe Rd\, Tucson\, AZ\, 85736\, United States
CATEGORIES:Families with Children Birth to Five
ATTACH;FMTTYPE=image/jpeg:https://pimaparenting.org/wp-content/uploads/2024/03/Casa-logo.jpg
ORGANIZER;CN="Casa de los Ninos":MAILTO:cbolger@casadelosninos.org
END:VEVENT
BEGIN:VEVENT
DTSTART;TZID=America/Phoenix:20260423T173000
DTEND;TZID=America/Phoenix:20260423T193000
DTSTAMP:20260423T091703
CREATED:20260325T161346Z
LAST-MODIFIED:20260325T231219Z
UID:10004749-1776965400-1776972600@pimaparenting.org
SUMMARY:Crianza para Prevenir el Acoso-CLASE VIRTUAL
DESCRIPTION:El acoso escolar es un problema grave en nuestras escuelas hoy en dia. Los padres aprenden que hacer para ayudar a su hijo a enfrentar el acoso escolar e identificar habilidades sociales clave que pueden ayudar a prevenir que los jovenes se conviertan envictimas o acosadores. \nRegístrate en Crianza para Prevenir el Acoso ⋆ Casa de los Niños
URL:https://pimaparenting.org/event/crianza-para-prevenir-el-acoso-3/
LOCATION:Family Resource Center at Los Ranchitos\, 2054 E Ginter Rd\, Tucson\, AZ\, 85706\, United States
CATEGORIES:Families with Children Birth to Five
ATTACH;FMTTYPE=image/jpeg:https://pimaparenting.org/wp-content/uploads/2024/03/Casa-logo.jpg
ORGANIZER;CN="Casa de los Ninos":MAILTO:cbolger@casadelosninos.org
END:VEVENT
BEGIN:VEVENT
DTSTART;TZID=America/Phoenix:20260428T173000
DTEND;TZID=America/Phoenix:20260428T193000
DTSTAMP:20260423T091703
CREATED:20260325T161502Z
LAST-MODIFIED:20260325T161502Z
UID:10004750-1777397400-1777404600@pimaparenting.org
SUMMARY:Expectations & Development in Children/ VIRTUAL CLASS
DESCRIPTION:This topic is from the Nurturing Parenting Program. \nThe goal of this class is to increase parents’ awareness of appropriate expectations of children. \nThis class is hybrid: You may participate in-person or virtually via Zoom. \nThis class is made possible by: First Things First \nRegister at Expectations & Development in Children ⋆ Casa de los Niños
URL:https://pimaparenting.org/event/expectations-development-in-children-virtual-class-4/
LOCATION:Family Resource Center at Los Ranchitos\, 2054 E Ginter Rd\, Tucson\, AZ\, 85706\, United States
CATEGORIES:Families with Children Birth to Five
ATTACH;FMTTYPE=image/jpeg:https://pimaparenting.org/wp-content/uploads/2024/11/Casa3-at-SUSD-2.0.jpg
ORGANIZER;CN="Casa de los Ninos":MAILTO:cbolger@casadelosninos.org
END:VEVENT
BEGIN:VEVENT
DTSTART;TZID=America/Phoenix:20260428T173000
DTEND;TZID=America/Phoenix:20260428T193000
DTSTAMP:20260423T091703
CREATED:20260325T161529Z
LAST-MODIFIED:20260325T161529Z
UID:10004751-1777397400-1777404600@pimaparenting.org
SUMMARY:Expectations & Development in Children/ VIRTUAL CLASS
DESCRIPTION:This topic is from the Nurturing Parenting Program. \nThe goal of this class is to increase parents’ awareness of appropriate expectations of children. \nThis class is hybrid: You may participate in-person or virtually via Zoom. \nThis class is made possible by: First Things First \nRegister at Expectations & Development in Children ⋆ Casa de los Niños
URL:https://pimaparenting.org/event/expectations-development-in-children-virtual-class-5/
LOCATION:Family Resource Center at Robles Elementary\, 9875 S Sasabe Rd\, Tucson\, AZ\, 85736\, United States
CATEGORIES:Families with Children Birth to Five
ATTACH;FMTTYPE=image/jpeg:https://pimaparenting.org/wp-content/uploads/2024/11/Casa3-at-SUSD-2.0.jpg
ORGANIZER;CN="Casa de los Ninos":MAILTO:cbolger@casadelosninos.org
END:VEVENT
BEGIN:VEVENT
DTSTART;TZID=America/Phoenix:20260428T173000
DTEND;TZID=America/Phoenix:20260428T193000
DTSTAMP:20260423T091703
CREATED:20260325T161541Z
LAST-MODIFIED:20260325T161541Z
UID:10004752-1777397400-1777404600@pimaparenting.org
SUMMARY:Expectations & Development in Children/ VIRTUAL CLASS
DESCRIPTION:This topic is from the Nurturing Parenting Program. \nThe goal of this class is to increase parents’ awareness of appropriate expectations of children. \nThis class is hybrid: You may participate in-person or virtually via Zoom. \nThis class is made possible by: First Things First \nRegister at Expectations & Development in Children ⋆ Casa de los Niños
URL:https://pimaparenting.org/event/expectations-development-in-children-virtual-class-6/
LOCATION:Family Resource Center at Sahuarita Food Bank\, 17750 S. La Canada\, Sahuarita\, AZ\, 85629\, United States
CATEGORIES:Families with Children Birth to Five
ATTACH;FMTTYPE=image/jpeg:https://pimaparenting.org/wp-content/uploads/2024/11/Casa3-at-SUSD-2.0.jpg
ORGANIZER;CN="Casa de los Ninos":MAILTO:cbolger@casadelosninos.org
END:VEVENT
BEGIN:VEVENT
DTSTART;TZID=America/Phoenix:20260505T173000
DTEND;TZID=America/Phoenix:20260505T193000
DTSTAMP:20260423T091703
CREATED:20260414T171020Z
LAST-MODIFIED:20260414T171020Z
UID:10004824-1778002200-1778009400@pimaparenting.org
SUMMARY:How to Help Children Handle Their Stress/ VIRTUAL CLASS
DESCRIPTION:Children experience stress\, too! This class will focus on strategies to help children identify where their stress is coming from and positive\, healthy ways to learn to manage and prevent stress in their lives. \nRegister at How to Help Children Handle their Stress (English) – Casa de los Ninos
URL:https://pimaparenting.org/event/how-to-help-children-handle-their-stress-virtual-class/
LOCATION:Family Resource Center at Robles Elementary\, 9875 S Sasabe Rd\, Tucson\, AZ\, 85736\, United States
CATEGORIES:Families with Children Birth to Five
ATTACH;FMTTYPE=image/jpeg:https://pimaparenting.org/wp-content/uploads/2024/03/Casa-logo.jpg
ORGANIZER;CN="Casa de los Ninos":MAILTO:cbolger@casadelosninos.org
END:VEVENT
BEGIN:VEVENT
DTSTART;TZID=America/Phoenix:20260505T173000
DTEND;TZID=America/Phoenix:20260505T193000
DTSTAMP:20260423T091703
CREATED:20260414T171042Z
LAST-MODIFIED:20260414T171042Z
UID:10004825-1778002200-1778009400@pimaparenting.org
SUMMARY:How to Help Children Handle Their Stress/ VIRTUAL CLASS
DESCRIPTION:Children experience stress\, too! This class will focus on strategies to help children identify where their stress is coming from and positive\, healthy ways to learn to manage and prevent stress in their lives. \nRegister at How to Help Children Handle their Stress (English) – Casa de los Ninos
URL:https://pimaparenting.org/event/how-to-help-children-handle-their-stress-virtual-class-2/
LOCATION:Family Resource Center at Los Ranchitos\, 2054 E Ginter Rd\, Tucson\, AZ\, 85706\, United States
CATEGORIES:Families with Children Birth to Five
ATTACH;FMTTYPE=image/jpeg:https://pimaparenting.org/wp-content/uploads/2024/03/Casa-logo.jpg
ORGANIZER;CN="Casa de los Ninos":MAILTO:cbolger@casadelosninos.org
END:VEVENT
BEGIN:VEVENT
DTSTART;TZID=America/Phoenix:20260505T173000
DTEND;TZID=America/Phoenix:20260505T193000
DTSTAMP:20260423T091703
CREATED:20260414T171058Z
LAST-MODIFIED:20260414T171058Z
UID:10004826-1778002200-1778009400@pimaparenting.org
SUMMARY:How to Help Children Handle Their Stress/ VIRTUAL CLASS
DESCRIPTION:Children experience stress\, too! This class will focus on strategies to help children identify where their stress is coming from and positive\, healthy ways to learn to manage and prevent stress in their lives. \nRegister at How to Help Children Handle their Stress (English) – Casa de los Ninos
URL:https://pimaparenting.org/event/how-to-help-children-handle-their-stress-virtual-class-3/
LOCATION:Family Resource Center at Sahuarita Food Bank\, 17750 S. La Canada\, Sahuarita\, AZ\, 85629\, United States
CATEGORIES:Families with Children Birth to Five
ATTACH;FMTTYPE=image/jpeg:https://pimaparenting.org/wp-content/uploads/2024/03/Casa-logo.jpg
ORGANIZER;CN="Casa de los Ninos":MAILTO:cbolger@casadelosninos.org
END:VEVENT
BEGIN:VEVENT
DTSTART;TZID=America/Phoenix:20260512T173000
DTEND;TZID=America/Phoenix:20260512T193000
DTSTAMP:20260423T091703
CREATED:20260414T171311Z
LAST-MODIFIED:20260414T173445Z
UID:10004827-1778607000-1778614200@pimaparenting.org
SUMMARY:Developing Personal Power in Children/ VIRTUAL CLASS
DESCRIPTION:This topic is from the Nurturing Parenting Program \nThis class focuses on helping our children develop a strong sense of personal power: a drive to accomplish things\, create things\, and make the world a more caring place. \nRegister at Developing Personal Power in Children (English) – Casa de los Ninos
URL:https://pimaparenting.org/event/developing-personal-power-in-children-4/
LOCATION:Family Resource Center at Sahuarita Food Bank\, 17750 S. La Canada\, Sahuarita\, AZ\, 85629\, United States
CATEGORIES:Families with Children Birth to Five
ATTACH;FMTTYPE=image/jpeg:https://pimaparenting.org/wp-content/uploads/2024/03/Casa-logo.jpg
ORGANIZER;CN="Casa de los Ninos":MAILTO:cbolger@casadelosninos.org
END:VEVENT
BEGIN:VEVENT
DTSTART;TZID=America/Phoenix:20260512T173000
DTEND;TZID=America/Phoenix:20260512T193000
DTSTAMP:20260423T091703
CREATED:20260414T171333Z
LAST-MODIFIED:20260414T174329Z
UID:10004828-1778607000-1778614200@pimaparenting.org
SUMMARY:Developing Personal Power in Children/ VIRTUAL CLASS
DESCRIPTION:This topic is from the Nurturing Parenting Program \nThis class focuses on helping our children develop a strong sense of personal power: a drive to accomplish things\, create things\, and make the world a more caring place. \nRegister at Developing Personal Power in Children (English) – Casa de los Ninos
URL:https://pimaparenting.org/event/developing-personal-power-in-children-5/
LOCATION:Family Resource Center at Robles Elementary\, 9875 S Sasabe Rd\, Tucson\, AZ\, 85736\, United States
CATEGORIES:Families with Children Birth to Five
ATTACH;FMTTYPE=image/jpeg:https://pimaparenting.org/wp-content/uploads/2024/03/Casa-logo.jpg
ORGANIZER;CN="Casa de los Ninos":MAILTO:cbolger@casadelosninos.org
END:VEVENT
BEGIN:VEVENT
DTSTART;TZID=America/Phoenix:20260512T173000
DTEND;TZID=America/Phoenix:20260512T193000
DTSTAMP:20260423T091703
CREATED:20260414T171347Z
LAST-MODIFIED:20260414T174359Z
UID:10004829-1778607000-1778614200@pimaparenting.org
SUMMARY:Developing Personal Power in Children/ VIRTUAL CLASS
DESCRIPTION:This topic is from the Nurturing Parenting Program \nThis class focuses on helping our children develop a strong sense of personal power: a drive to accomplish things\, create things\, and make the world a more caring place. \nRegister at Developing Personal Power in Children (English) – Casa de los Ninos
URL:https://pimaparenting.org/event/developing-personal-power-in-children-6/
LOCATION:Family Resource Center at Los Ranchitos\, 2054 E Ginter Rd\, Tucson\, AZ\, 85706\, United States
CATEGORIES:Families with Children Birth to Five
ATTACH;FMTTYPE=image/jpeg:https://pimaparenting.org/wp-content/uploads/2024/03/Casa-logo.jpg
ORGANIZER;CN="Casa de los Ninos":MAILTO:cbolger@casadelosninos.org
END:VEVENT
BEGIN:VEVENT
DTSTART;TZID=America/Phoenix:20260514T173000
DTEND;TZID=America/Phoenix:20260514T193000
DTSTAMP:20260423T091703
CREATED:20260414T171727Z
LAST-MODIFIED:20260414T171727Z
UID:10004830-1778779800-1778787000@pimaparenting.org
SUMMARY:Desarrollando el Poder Personal en los Niños/Clase virtual
DESCRIPTION:Este tema es del Programa de Crianza Nutritiva \nEsta clase se centra en ayudar a nuestros hijos a desarrollar un fuerte sentido de poder personal: un impulso por lograr cosas\, crear cosas y hacer del mundo un lugar más cuidadoso. \nRegistrar en Developing Personal Power in Children (Spanish) – Casa de los Ninos
URL:https://pimaparenting.org/event/desarrollando-el-poder-personal-en-los-ninos-clase-virtual/
LOCATION:Family Resource Center at Sahuarita Food Bank\, 17750 S. La Canada\, Sahuarita\, AZ\, 85629\, United States
CATEGORIES:Families with Children Birth to Five
ATTACH;FMTTYPE=image/jpeg:https://pimaparenting.org/wp-content/uploads/2024/03/Casa-logo.jpg
ORGANIZER;CN="Casa de los Ninos":MAILTO:cbolger@casadelosninos.org
END:VEVENT
BEGIN:VEVENT
DTSTART;TZID=America/Phoenix:20260514T173000
DTEND;TZID=America/Phoenix:20260514T193000
DTSTAMP:20260423T091703
CREATED:20260414T171752Z
LAST-MODIFIED:20260414T171752Z
UID:10004831-1778779800-1778787000@pimaparenting.org
SUMMARY:Desarrollando el Poder Personal en los Niños/Clase virtual
DESCRIPTION:Este tema es del Programa de Crianza Nutritiva \nEsta clase se centra en ayudar a nuestros hijos a desarrollar un fuerte sentido de poder personal: un impulso por lograr cosas\, crear cosas y hacer del mundo un lugar más cuidadoso. \nRegistrar en Developing Personal Power in Children (Spanish) – Casa de los Ninos
URL:https://pimaparenting.org/event/desarrollando-el-poder-personal-en-los-ninos-clase-virtual-2/
LOCATION:Family Resource Center at Robles Elementary\, 9875 S Sasabe Rd\, Tucson\, AZ\, 85736\, United States
CATEGORIES:Families with Children Birth to Five
ATTACH;FMTTYPE=image/jpeg:https://pimaparenting.org/wp-content/uploads/2024/03/Casa-logo.jpg
ORGANIZER;CN="Casa de los Ninos":MAILTO:cbolger@casadelosninos.org
END:VEVENT
BEGIN:VEVENT
DTSTART;TZID=America/Phoenix:20260519T173000
DTEND;TZID=America/Phoenix:20260519T193000
DTSTAMP:20260423T091703
CREATED:20260414T172039Z
LAST-MODIFIED:20260414T172039Z
UID:10004833-1779211800-1779219000@pimaparenting.org
SUMMARY:Recognizing & Understanding Children’s Feelings/ VIRTUAL CLASS
DESCRIPTION:This class is from the Nurturing Parenting Program \nHow we prepare our children to handle their feelings will\, likely\, affect the quality of their life more than just about any other element of parenting. The goal of this class is to increase empathetic responses to children’s feelings. \nRegister at Recognizing & Understanding Children’s Feelings (English) – Casa de los Ninos
URL:https://pimaparenting.org/event/recognizing-understanding-childrens-feelings-virtual-class-7/
LOCATION:Family Resource Center at Sahuarita Food Bank\, 17750 S. La Canada\, Sahuarita\, AZ\, 85629\, United States
CATEGORIES:Families with Children Birth to Five
ATTACH;FMTTYPE=image/jpeg:https://pimaparenting.org/wp-content/uploads/2024/03/Casa-logo.jpg
ORGANIZER;CN="Casa de los Ninos":MAILTO:cbolger@casadelosninos.org
END:VEVENT
BEGIN:VEVENT
DTSTART;TZID=America/Phoenix:20260519T173000
DTEND;TZID=America/Phoenix:20260519T193000
DTSTAMP:20260423T091703
CREATED:20260414T172101Z
LAST-MODIFIED:20260414T172101Z
UID:10004834-1779211800-1779219000@pimaparenting.org
SUMMARY:Recognizing & Understanding Children’s Feelings/ VIRTUAL CLASS
DESCRIPTION:This class is from the Nurturing Parenting Program \nHow we prepare our children to handle their feelings will\, likely\, affect the quality of their life more than just about any other element of parenting. The goal of this class is to increase empathetic responses to children’s feelings. \nRegister at Recognizing & Understanding Children’s Feelings (English) – Casa de los Ninos
URL:https://pimaparenting.org/event/recognizing-understanding-childrens-feelings-virtual-class-8/
LOCATION:Family Resource Center at Robles Elementary\, 9875 S Sasabe Rd\, Tucson\, AZ\, 85736\, United States
CATEGORIES:Families with Children Birth to Five
ATTACH;FMTTYPE=image/jpeg:https://pimaparenting.org/wp-content/uploads/2024/03/Casa-logo.jpg
ORGANIZER;CN="Casa de los Ninos":MAILTO:cbolger@casadelosninos.org
END:VEVENT
BEGIN:VEVENT
DTSTART;TZID=America/Phoenix:20260519T173000
DTEND;TZID=America/Phoenix:20260519T193000
DTSTAMP:20260423T091703
CREATED:20260414T172119Z
LAST-MODIFIED:20260414T172119Z
UID:10004835-1779211800-1779219000@pimaparenting.org
SUMMARY:Recognizing & Understanding Children’s Feelings/ VIRTUAL CLASS
DESCRIPTION:This class is from the Nurturing Parenting Program \nHow we prepare our children to handle their feelings will\, likely\, affect the quality of their life more than just about any other element of parenting. The goal of this class is to increase empathetic responses to children’s feelings. \nRegister at Recognizing & Understanding Children’s Feelings (English) – Casa de los Ninos
URL:https://pimaparenting.org/event/recognizing-understanding-childrens-feelings-virtual-class-9/
LOCATION:Family Resource Center at Los Ranchitos\, 2054 E Ginter Rd\, Tucson\, AZ\, 85706\, United States
CATEGORIES:Families with Children Birth to Five
ATTACH;FMTTYPE=image/jpeg:https://pimaparenting.org/wp-content/uploads/2024/03/Casa-logo.jpg
ORGANIZER;CN="Casa de los Ninos":MAILTO:cbolger@casadelosninos.org
END:VEVENT
BEGIN:VEVENT
DTSTART;TZID=America/Phoenix:20260521T173000
DTEND;TZID=America/Phoenix:20260521T193000
DTSTAMP:20260423T091703
CREATED:20260414T171806Z
LAST-MODIFIED:20260414T172522Z
UID:10004832-1779384600-1779391800@pimaparenting.org
SUMMARY:Reconociendo y Entendiendo los Sentimientos de los Niños / Clase Virtual
DESCRIPTION:Este tema es del Programa de Crianza Nutritiva \nCómo preparamos a nuestros hijos para manejar sus sentimientos probablemente afectará la calidad de sus vidas más que casi cualquier otro elemento de la crianza. El objetivo de esta clase es aumentar las respuestas empáticas a los sentimientos de los niños. \nRegistrar en Recognizing & Understanding Children’s Feelings (Spanish) – Casa de los Ninos
URL:https://pimaparenting.org/event/desarrollando-el-poder-personal-en-los-ninos-clase-virtual-3/
LOCATION:Family Resource Center at Los Ranchitos\, 2054 E Ginter Rd\, Tucson\, AZ\, 85706\, United States
CATEGORIES:Families with Children Birth to Five
ATTACH;FMTTYPE=image/jpeg:https://pimaparenting.org/wp-content/uploads/2024/03/Casa-logo.jpg
ORGANIZER;CN="Casa de los Ninos":MAILTO:cbolger@casadelosninos.org
END:VEVENT
BEGIN:VEVENT
DTSTART;TZID=America/Phoenix:20260521T173000
DTEND;TZID=America/Phoenix:20260521T193000
DTSTAMP:20260423T091703
CREATED:20260414T172551Z
LAST-MODIFIED:20260414T172551Z
UID:10004836-1779384600-1779391800@pimaparenting.org
SUMMARY:Reconociendo y Entendiendo los Sentimientos de los Niños / Clase Virtual
DESCRIPTION:Este tema es del Programa de Crianza Nutritiva \nCómo preparamos a nuestros hijos para manejar sus sentimientos probablemente afectará la calidad de sus vidas más que casi cualquier otro elemento de la crianza. El objetivo de esta clase es aumentar las respuestas empáticas a los sentimientos de los niños. \nRegistrar en Recognizing & Understanding Children’s Feelings (Spanish) – Casa de los Ninos
URL:https://pimaparenting.org/event/reconociendo-y-entendiendo-los-sentimientos-de-los-ninos-clase-virtual/
LOCATION:Family Resource Center at Robles Elementary\, 9875 S Sasabe Rd\, Tucson\, AZ\, 85736\, United States
CATEGORIES:Families with Children Birth to Five
ATTACH;FMTTYPE=image/jpeg:https://pimaparenting.org/wp-content/uploads/2024/03/Casa-logo.jpg
ORGANIZER;CN="Casa de los Ninos":MAILTO:cbolger@casadelosninos.org
END:VEVENT
BEGIN:VEVENT
DTSTART;TZID=America/Phoenix:20260521T173000
DTEND;TZID=America/Phoenix:20260521T193000
DTSTAMP:20260423T091703
CREATED:20260414T172608Z
LAST-MODIFIED:20260414T172608Z
UID:10004837-1779384600-1779391800@pimaparenting.org
SUMMARY:Reconociendo y Entendiendo los Sentimientos de los Niños / Clase Virtual
DESCRIPTION:Este tema es del Programa de Crianza Nutritiva \nCómo preparamos a nuestros hijos para manejar sus sentimientos probablemente afectará la calidad de sus vidas más que casi cualquier otro elemento de la crianza. El objetivo de esta clase es aumentar las respuestas empáticas a los sentimientos de los niños. \nRegistrar en Recognizing & Understanding Children’s Feelings (Spanish) – Casa de los Ninos
URL:https://pimaparenting.org/event/reconociendo-y-entendiendo-los-sentimientos-de-los-ninos-clase-virtual-2/
LOCATION:Family Resource Center at Sahuarita Food Bank\, 17750 S. La Canada\, Sahuarita\, AZ\, 85629\, United States
CATEGORIES:Families with Children Birth to Five
ATTACH;FMTTYPE=image/jpeg:https://pimaparenting.org/wp-content/uploads/2024/03/Casa-logo.jpg
ORGANIZER;CN="Casa de los Ninos":MAILTO:cbolger@casadelosninos.org
END:VEVENT
BEGIN:VEVENT
DTSTART;TZID=America/Phoenix:20260526T173000
DTEND;TZID=America/Phoenix:20260526T193000
DTSTAMP:20260423T091703
CREATED:20260414T193953Z
LAST-MODIFIED:20260414T193953Z
UID:10004840-1779816600-1779823800@pimaparenting.org
SUMMARY:Mom's House\, Dad's House-Making it All Work! / VIRTUAL CLASS
DESCRIPTION:This class looks at how to support your child through divorce and break-ups. \nRegister at Mom’s House\, Dad’s House- Making It All Work! (English) – Casa de los Ninos
URL:https://pimaparenting.org/event/moms-house-dads-house-making-it-all-work-virtual-class/
LOCATION:Family Resource Center at Los Ranchitos\, 2054 E Ginter Rd\, Tucson\, AZ\, 85706\, United States
CATEGORIES:Families with Children Birth to Five
ATTACH;FMTTYPE=image/jpeg:https://pimaparenting.org/wp-content/uploads/2024/03/Casa-logo.jpg
ORGANIZER;CN="Casa de los Ninos":MAILTO:cbolger@casadelosninos.org
END:VEVENT
BEGIN:VEVENT
DTSTART;TZID=America/Phoenix:20260526T173000
DTEND;TZID=America/Phoenix:20260526T193000
DTSTAMP:20260423T091703
CREATED:20260414T194107Z
LAST-MODIFIED:20260414T194107Z
UID:10004841-1779816600-1779823800@pimaparenting.org
SUMMARY:Mom's House\, Dad's House-Making it All Work! / VIRTUAL CLASS
DESCRIPTION:This class looks at how to support your child through divorce and break-ups. \nRegister at Mom’s House\, Dad’s House- Making It All Work! (English) – Casa de los Ninos
URL:https://pimaparenting.org/event/moms-house-dads-house-making-it-all-work-virtual-class-2/
LOCATION:Family Resource Center at Robles Elementary\, 9875 S Sasabe Rd\, Tucson\, AZ\, 85736\, United States
CATEGORIES:Families with Children Birth to Five
ATTACH;FMTTYPE=image/jpeg:https://pimaparenting.org/wp-content/uploads/2024/03/Casa-logo.jpg
ORGANIZER;CN="Casa de los Ninos":MAILTO:cbolger@casadelosninos.org
END:VEVENT
BEGIN:VEVENT
DTSTART;TZID=America/Phoenix:20260526T173000
DTEND;TZID=America/Phoenix:20260526T193000
DTSTAMP:20260423T091703
CREATED:20260414T194133Z
LAST-MODIFIED:20260414T194133Z
UID:10004842-1779816600-1779823800@pimaparenting.org
SUMMARY:Mom's House\, Dad's House-Making it All Work! / VIRTUAL CLASS
DESCRIPTION:This class looks at how to support your child through divorce and break-ups. \nRegister at Mom’s House\, Dad’s House- Making It All Work! (English) – Casa de los Ninos
URL:https://pimaparenting.org/event/moms-house-dads-house-making-it-all-work-virtual-class-3/
LOCATION:Family Resource Center at Sahuarita Food Bank\, 17750 S. La Canada\, Sahuarita\, AZ\, 85629\, United States
CATEGORIES:Families with Children Birth to Five
ATTACH;FMTTYPE=image/jpeg:https://pimaparenting.org/wp-content/uploads/2024/03/Casa-logo.jpg
ORGANIZER;CN="Casa de los Ninos":MAILTO:cbolger@casadelosninos.org
END:VEVENT
BEGIN:VEVENT
DTSTART;TZID=America/Phoenix:20260528T173000
DTEND;TZID=America/Phoenix:20260528T193000
DTSTAMP:20260423T091703
CREATED:20260414T194519Z
LAST-MODIFIED:20260414T194519Z
UID:10004843-1779989400-1779996600@pimaparenting.org
SUMMARY:La Casa de Mamá\, La Casa de Papá - ¡Haciendo que Todo Funcione! / CLASE VIRTUAL
DESCRIPTION:Esta clase analiza cómo apoyar a su hijo durante el divorcio y las rupturas. \nRegistrar en Mom’s House\, Dad’s House- Making It All Work! (Spanish) – Casa de los Ninos \n 
URL:https://pimaparenting.org/event/la-casa-de-mama-la-casa-de-papa-haciendo-que-todo-funcione-clase-virtual/
LOCATION:Family Resource Center at Los Ranchitos\, 2054 E Ginter Rd\, Tucson\, AZ\, 85706\, United States
CATEGORIES:Families with Children Birth to Five
ATTACH;FMTTYPE=image/jpeg:https://pimaparenting.org/wp-content/uploads/2024/03/Casa-logo.jpg
ORGANIZER;CN="Casa de los Ninos":MAILTO:cbolger@casadelosninos.org
END:VEVENT
BEGIN:VEVENT
DTSTART;TZID=America/Phoenix:20260528T173000
DTEND;TZID=America/Phoenix:20260528T193000
DTSTAMP:20260423T091703
CREATED:20260414T194543Z
LAST-MODIFIED:20260414T194553Z
UID:10004844-1779989400-1779996600@pimaparenting.org
SUMMARY:La Casa de Mamá\, La Casa de Papá - ¡Haciendo que Todo Funcione! / CLASE VIRTUAL
DESCRIPTION:Esta clase analiza cómo apoyar a su hijo durante el divorcio y las rupturas. \nRegistrar en Mom’s House\, Dad’s House- Making It All Work! (Spanish) – Casa de los Ninos \n 
URL:https://pimaparenting.org/event/la-casa-de-mama-la-casa-de-papa-haciendo-que-todo-funcione-clase-virtual-2/
LOCATION:Family Resource Center at Sahuarita Food Bank\, 17750 S. La Canada\, Sahuarita\, AZ\, 85629\, United States
CATEGORIES:Families with Children Birth to Five
ATTACH;FMTTYPE=image/jpeg:https://pimaparenting.org/wp-content/uploads/2024/03/Casa-logo.jpg
ORGANIZER;CN="Casa de los Ninos":MAILTO:cbolger@casadelosninos.org
END:VEVENT
BEGIN:VEVENT
DTSTART;TZID=America/Phoenix:20260528T173000
DTEND;TZID=America/Phoenix:20260528T193000
DTSTAMP:20260423T091703
CREATED:20260414T194708Z
LAST-MODIFIED:20260414T194708Z
UID:10004845-1779989400-1779996600@pimaparenting.org
SUMMARY:La Casa de Mamá\, La Casa de Papá - ¡Haciendo que Todo Funcione! / CLASE VIRTUAL
DESCRIPTION:Esta clase analiza cómo apoyar a su hijo durante el divorcio y las rupturas. \nRegistrar en Mom’s House\, Dad’s House- Making It All Work! (Spanish) – Casa de los Ninos \n 
URL:https://pimaparenting.org/event/la-casa-de-mama-la-casa-de-papa-haciendo-que-todo-funcione-clase-virtual-3/
LOCATION:Family Resource Center at Robles Elementary\, 9875 S Sasabe Rd\, Tucson\, AZ\, 85736\, United States
CATEGORIES:Families with Children Birth to Five
ATTACH;FMTTYPE=image/jpeg:https://pimaparenting.org/wp-content/uploads/2024/03/Casa-logo.jpg
ORGANIZER;CN="Casa de los Ninos":MAILTO:cbolger@casadelosninos.org
END:VEVENT
END:VCALENDAR