BEGIN:VCALENDAR
VERSION:2.0
PRODID:-//Pima County Parenting Coalition - ECPv6.15.16.1//NONSGML v1.0//EN
CALSCALE:GREGORIAN
METHOD:PUBLISH
X-WR-CALNAME:Pima County Parenting Coalition
X-ORIGINAL-URL:https://pimaparenting.org
X-WR-CALDESC:Events for Pima County Parenting Coalition
REFRESH-INTERVAL;VALUE=DURATION:PT1H
X-Robots-Tag:noindex
X-PUBLISHED-TTL:PT1H
BEGIN:VTIMEZONE
TZID:America/Phoenix
BEGIN:STANDARD
TZOFFSETFROM:-0700
TZOFFSETTO:-0700
TZNAME:MST
DTSTART:20250101T000000
END:STANDARD
END:VTIMEZONE
BEGIN:VEVENT
DTSTART;TZID=America/Phoenix:20260317T173000
DTEND;TZID=America/Phoenix:20260317T193000
DTSTAMP:20260423T115100
CREATED:20260224T202038Z
LAST-MODIFIED:20260224T202703Z
UID:10004609-1773768600-1773775800@pimaparenting.org
SUMMARY:Ignoring as a Parenting Technique
DESCRIPTION:This topic is from the Nurturing Parenting Program \nThe goal of this class is to learn to ignore irritating\, unwanted behavior of children. \nRegister at Ignoring as a Parenting Technique ⋆ Casa de los Niños
URL:https://pimaparenting.org/event/ignoring-as-a-parenting-technique-2/
LOCATION:Family Resource Center at Robles Elementary\, 9875 S Sasabe Rd\, Tucson\, AZ\, 85736\, United States
CATEGORIES:Families with Children Birth to Five
ATTACH;FMTTYPE=image/jpeg:https://pimaparenting.org/wp-content/uploads/2024/03/Casa-logo.jpg
ORGANIZER;CN="Casa de los Ninos":MAILTO:cbolger@casadelosninos.org
END:VEVENT
BEGIN:VEVENT
DTSTART;TZID=America/Phoenix:20260317T173000
DTEND;TZID=America/Phoenix:20260317T193000
DTSTAMP:20260423T115100
CREATED:20260224T201944Z
LAST-MODIFIED:20260224T202844Z
UID:10004608-1773768600-1773775800@pimaparenting.org
SUMMARY:Ignoring as a Parenting Technique
DESCRIPTION:This topic is from the Nurturing Parenting Program \nThe goal of this class is to learn to ignore irritating\, unwanted behavior of children. \nRegister at Ignoring as a Parenting Technique ⋆ Casa de los Niños
URL:https://pimaparenting.org/event/ignoring-as-a-parenting-technique/
LOCATION:Family Resource Center at Los Ranchitos\, 2054 E Ginter Rd\, Tucson\, AZ\, 85706\, United States
CATEGORIES:Families with Children Birth to Five
ATTACH;FMTTYPE=image/jpeg:https://pimaparenting.org/wp-content/uploads/2024/03/Casa-logo.jpg
ORGANIZER;CN="Casa de los Ninos":MAILTO:cbolger@casadelosninos.org
END:VEVENT
BEGIN:VEVENT
DTSTART;TZID=America/Phoenix:20260312T173000
DTEND;TZID=America/Phoenix:20260312T193000
DTSTAMP:20260423T115100
CREATED:20260224T201625Z
LAST-MODIFIED:20260224T201625Z
UID:10004607-1773336600-1773343800@pimaparenting.org
SUMMARY:Formas positivas de manejar el estrés y la ira
DESCRIPTION:Los padres aprenden a lidiar con el estres de la crianza y aprenden metodos para reducir su estres y elde sus hijos. \nRegístrate en Spanish- Positive Ways to Deal with Stress and Anger ⋆ Casa de los Niños
URL:https://pimaparenting.org/event/formas-positivas-de-manejar-el-estres-y-la-ira-3/
LOCATION:Family Resource Center at Sahuarita Food Bank\, 17750 S. La Canada\, Sahuarita\, AZ\, 85629\, United States
CATEGORIES:Families with Children Birth to Five
ATTACH;FMTTYPE=image/jpeg:https://pimaparenting.org/wp-content/uploads/2024/03/Casa-logo.jpg
ORGANIZER;CN="Casa de los Ninos":MAILTO:cbolger@casadelosninos.org
END:VEVENT
BEGIN:VEVENT
DTSTART;TZID=America/Phoenix:20260312T173000
DTEND;TZID=America/Phoenix:20260312T193000
DTSTAMP:20260423T115100
CREATED:20260224T201558Z
LAST-MODIFIED:20260224T201558Z
UID:10004606-1773336600-1773343800@pimaparenting.org
SUMMARY:Formas positivas de manejar el estrés y la ira
DESCRIPTION:Los padres aprenden a lidiar con el estres de la crianza y aprenden metodos para reducir su estres y elde sus hijos. \nRegístrate en Spanish- Positive Ways to Deal with Stress and Anger ⋆ Casa de los Niños
URL:https://pimaparenting.org/event/formas-positivas-de-manejar-el-estres-y-la-ira-2/
LOCATION:Family Resource Center at Robles Elementary\, 9875 S Sasabe Rd\, Tucson\, AZ\, 85736\, United States
CATEGORIES:Families with Children Birth to Five
ATTACH;FMTTYPE=image/jpeg:https://pimaparenting.org/wp-content/uploads/2024/03/Casa-logo.jpg
ORGANIZER;CN="Casa de los Ninos":MAILTO:cbolger@casadelosninos.org
END:VEVENT
BEGIN:VEVENT
DTSTART;TZID=America/Phoenix:20260312T173000
DTEND;TZID=America/Phoenix:20260312T193000
DTSTAMP:20260423T115100
CREATED:20260224T201514Z
LAST-MODIFIED:20260224T201514Z
UID:10004605-1773336600-1773343800@pimaparenting.org
SUMMARY:Formas positivas de manejar el estrés y la ira
DESCRIPTION:Los padres aprenden a lidiar con el estres de la crianza y aprenden metodos para reducir su estres y elde sus hijos. \nRegístrate en Spanish- Positive Ways to Deal with Stress and Anger ⋆ Casa de los Niños
URL:https://pimaparenting.org/event/formas-positivas-de-manejar-el-estres-y-la-ira/
LOCATION:Family Resource Center at Los Ranchitos\, 2054 E Ginter Rd\, Tucson\, AZ\, 85706\, United States
CATEGORIES:Families with Children Birth to Five
ATTACH;FMTTYPE=image/jpeg:https://pimaparenting.org/wp-content/uploads/2024/03/Casa-logo.jpg
ORGANIZER;CN="Casa de los Ninos":MAILTO:cbolger@casadelosninos.org
END:VEVENT
BEGIN:VEVENT
DTSTART;TZID=America/Phoenix:20260310T173000
DTEND;TZID=America/Phoenix:20260310T193000
DTSTAMP:20260423T115100
CREATED:20260224T201157Z
LAST-MODIFIED:20260306T204502Z
UID:10004604-1773163800-1773171000@pimaparenting.org
SUMMARY:Positive Ways to Deal with Stress and Anger
DESCRIPTION:This topic is from the Nurturing Parenting Program \nParents learn how to deal with the stress of parenting and learn methods of reducing their stress and that of their children. \nRegister at Positive Ways to Deal with Stress and Anger ⋆ Casa de los Niños
URL:https://pimaparenting.org/event/positive-ways-to-deal-with-stress-and-anger-3/
LOCATION:Family Resource Center at Sahuarita Food Bank\, 17750 S. La Canada\, Sahuarita\, AZ\, 85629\, United States
CATEGORIES:Families with Children Birth to Five
ATTACH;FMTTYPE=image/jpeg:https://pimaparenting.org/wp-content/uploads/2024/03/Casa-logo.jpg
ORGANIZER;CN="Casa de los Ninos":MAILTO:cbolger@casadelosninos.org
END:VEVENT
BEGIN:VEVENT
DTSTART;TZID=America/Phoenix:20260310T173000
DTEND;TZID=America/Phoenix:20260310T193000
DTSTAMP:20260423T115100
CREATED:20260224T201131Z
LAST-MODIFIED:20260306T204600Z
UID:10004603-1773163800-1773171000@pimaparenting.org
SUMMARY:Positive Ways to Deal with Stress and Anger
DESCRIPTION:This topic is from the Nurturing Parenting Program \nParents learn how to deal with the stress of parenting and learn methods of reducing their stress and that of their children. \nRegister at Positive Ways to Deal with Stress and Anger ⋆ Casa de los Niños
URL:https://pimaparenting.org/event/positive-ways-to-deal-with-stress-and-anger-2/
LOCATION:Family Resource Center at Robles Elementary\, 9875 S Sasabe Rd\, Tucson\, AZ\, 85736\, United States
CATEGORIES:Families with Children Birth to Five
ATTACH;FMTTYPE=image/jpeg:https://pimaparenting.org/wp-content/uploads/2024/03/Casa-logo.jpg
ORGANIZER;CN="Casa de los Ninos":MAILTO:cbolger@casadelosninos.org
END:VEVENT
BEGIN:VEVENT
DTSTART;TZID=America/Phoenix:20260310T173000
DTEND;TZID=America/Phoenix:20260310T193000
DTSTAMP:20260423T115100
CREATED:20260224T201038Z
LAST-MODIFIED:20260306T204640Z
UID:10004602-1773163800-1773171000@pimaparenting.org
SUMMARY:Positive Ways to Deal with Stress and Anger
DESCRIPTION:This topic is from the Nurturing Parenting Program \nParents learn how to deal with the stress of parenting and learn methods of reducing their stress and that of their children. \nRegister at Positive Ways to Deal with Stress and Anger ⋆ Casa de los Niños
URL:https://pimaparenting.org/event/positive-ways-to-deal-with-stress-and-anger/
LOCATION:Family Resource Center at Los Ranchitos\, 2054 E Ginter Rd\, Tucson\, AZ\, 85706\, United States
CATEGORIES:Families with Children Birth to Five
ATTACH;FMTTYPE=image/jpeg:https://pimaparenting.org/wp-content/uploads/2024/03/Casa-logo.jpg
ORGANIZER;CN="Casa de los Ninos":MAILTO:cbolger@casadelosninos.org
END:VEVENT
BEGIN:VEVENT
DTSTART;TZID=America/Phoenix:20260305T173000
DTEND;TZID=America/Phoenix:20260305T193000
DTSTAMP:20260423T115100
CREATED:20260224T200650Z
LAST-MODIFIED:20260224T200650Z
UID:10004601-1772731800-1772739000@pimaparenting.org
SUMMARY:Alternativas a los Nalgados - Clase Virtual
DESCRIPTION:Esta clase analiza metodos no violentos de disciplina para ninos y se centra en la empatia\, el respeto mutuo y el desarrollo de la autoestima. \nRegístrese en Alternativas a Los Nalgados ⋆ Casa de los Niños \n 
URL:https://pimaparenting.org/event/alternativas-a-los-nalgados-clase-virtual-3/
LOCATION:Family Resource Center at Los Ranchitos\, 2054 E Ginter Rd\, Tucson\, AZ\, 85706\, United States
CATEGORIES:Families with Children Birth to Five
ATTACH;FMTTYPE=image/jpeg:https://pimaparenting.org/wp-content/uploads/2024/03/Casa-logo.jpg
ORGANIZER;CN="Casa de los Ninos":MAILTO:cbolger@casadelosninos.org
END:VEVENT
BEGIN:VEVENT
DTSTART;TZID=America/Phoenix:20260305T173000
DTEND;TZID=America/Phoenix:20260305T193000
DTSTAMP:20260423T115100
CREATED:20260224T200550Z
LAST-MODIFIED:20260224T200550Z
UID:10004600-1772731800-1772739000@pimaparenting.org
SUMMARY:Alternativas a los Nalgados - Clase Virtual
DESCRIPTION:Esta clase analiza metodos no violentos de disciplina para ninos y se centra en la empatia\, el respeto mutuo y el desarrollo de la autoestima. \nRegístrese en Alternativas a Los Nalgados ⋆ Casa de los Niños \n 
URL:https://pimaparenting.org/event/alternativas-a-los-nalgados-clase-virtual-2/
LOCATION:Family Resource Center at Robles Elementary\, 9875 S Sasabe Rd\, Tucson\, AZ\, 85736\, United States
CATEGORIES:Families with Children Birth to Five
ATTACH;FMTTYPE=image/jpeg:https://pimaparenting.org/wp-content/uploads/2024/03/Casa-logo.jpg
ORGANIZER;CN="Casa de los Ninos":MAILTO:cbolger@casadelosninos.org
END:VEVENT
BEGIN:VEVENT
DTSTART;TZID=America/Phoenix:20260305T173000
DTEND;TZID=America/Phoenix:20260305T193000
DTSTAMP:20260423T115100
CREATED:20260224T200423Z
LAST-MODIFIED:20260224T200615Z
UID:10004599-1772731800-1772739000@pimaparenting.org
SUMMARY:Alternativas a los Nalgados - Clase Virtual
DESCRIPTION:Esta clase analiza metodos no violentos de disciplina para ninos y se centra en la empatia\, el respeto mutuo y el desarrollo de la autoestima. \nRegístrese en Alternativas a Los Nalgados ⋆ Casa de los Niños \n 
URL:https://pimaparenting.org/event/alternativas-a-los-nalgados-clase-virtual/
LOCATION:Family Resource Center at Sahuarita Food Bank\, 17750 S. La Canada\, Sahuarita\, AZ\, 85629\, United States
CATEGORIES:Families with Children Birth to Five
ATTACH;FMTTYPE=image/jpeg:https://pimaparenting.org/wp-content/uploads/2024/03/Casa-logo.jpg
ORGANIZER;CN="Casa de los Ninos":MAILTO:cbolger@casadelosninos.org
END:VEVENT
BEGIN:VEVENT
DTSTART;TZID=America/Phoenix:20260303T173000
DTEND;TZID=America/Phoenix:20260303T193000
DTSTAMP:20260423T115100
CREATED:20260224T200137Z
LAST-MODIFIED:20260224T200137Z
UID:10004598-1772559000-1772566200@pimaparenting.org
SUMMARY:Alternatives to Spanking- VIRTUAL CLASS
DESCRIPTION:This topic is from the Nurturing Parenting Program \nParents learn positive guidance techniques and non-violent means of discipline with young children\, and focuses on empathy\, mutual respect\, and building self-worth. \nRegister at Alternatives to Spanking ⋆ Casa de los Niños
URL:https://pimaparenting.org/event/alternatives-to-spanking-virtual-class-3/
LOCATION:Family Resource Center at Robles Elementary\, 9875 S Sasabe Rd\, Tucson\, AZ\, 85736\, United States
CATEGORIES:Families with Children Birth to Five
ATTACH;FMTTYPE=image/jpeg:https://pimaparenting.org/wp-content/uploads/2024/03/Casa-logo.jpg
ORGANIZER;CN="Casa de los Ninos":MAILTO:cbolger@casadelosninos.org
END:VEVENT
BEGIN:VEVENT
DTSTART;TZID=America/Phoenix:20260303T173000
DTEND;TZID=America/Phoenix:20260303T193000
DTSTAMP:20260423T115100
CREATED:20260224T200037Z
LAST-MODIFIED:20260224T200037Z
UID:10004597-1772559000-1772566200@pimaparenting.org
SUMMARY:Alternatives to Spanking- VIRTUAL CLASS
DESCRIPTION:This topic is from the Nurturing Parenting Program \nParents learn positive guidance techniques and non-violent means of discipline with young children\, and focuses on empathy\, mutual respect\, and building self-worth. \nRegister at Alternatives to Spanking ⋆ Casa de los Niños
URL:https://pimaparenting.org/event/alternatives-to-spanking-virtual-class-2/
LOCATION:Family Resource Center at Sahuarita Food Bank\, 17750 S. La Canada\, Sahuarita\, AZ\, 85629\, United States
CATEGORIES:Families with Children Birth to Five
ATTACH;FMTTYPE=image/jpeg:https://pimaparenting.org/wp-content/uploads/2024/03/Casa-logo.jpg
ORGANIZER;CN="Casa de los Ninos":MAILTO:cbolger@casadelosninos.org
END:VEVENT
BEGIN:VEVENT
DTSTART;TZID=America/Phoenix:20260303T173000
DTEND;TZID=America/Phoenix:20260303T193000
DTSTAMP:20260423T115100
CREATED:20260224T195908Z
LAST-MODIFIED:20260224T200051Z
UID:10004596-1772559000-1772566200@pimaparenting.org
SUMMARY:Alternatives to Spanking- VIRTUAL CLASS
DESCRIPTION:This topic is from the Nurturing Parenting Program \nParents learn positive guidance techniques and non-violent means of discipline with young children\, and focuses on empathy\, mutual respect\, and building self-worth. \nRegister at Alternatives to Spanking ⋆ Casa de los Niños
URL:https://pimaparenting.org/event/alternatives-to-spanking-virtual-class/
LOCATION:Family Resource Center at Los Ranchitos\, 2054 E Ginter Rd\, Tucson\, AZ\, 85706\, United States
CATEGORIES:Families with Children Birth to Five
ATTACH;FMTTYPE=image/jpeg:https://pimaparenting.org/wp-content/uploads/2024/03/Casa-logo.jpg
ORGANIZER;CN="Casa de los Ninos":MAILTO:cbolger@casadelosninos.org
END:VEVENT
BEGIN:VEVENT
DTSTART;TZID=America/Phoenix:20260226T173000
DTEND;TZID=America/Phoenix:20260226T193000
DTSTAMP:20260423T115100
CREATED:20260119T002228Z
LAST-MODIFIED:20260119T002228Z
UID:10004463-1772127000-1772134200@pimaparenting.org
SUMMARY:Elogiando a Los Ninos y Su Comportamiento/CLASE VIRTUAL
DESCRIPTION:Este tema es del Programa de Nurtured Parenting Series \nEsta clase se centra en la importancia de dar elogios a los niños. \nREGISTRARSE EN Elogiando a Los Ninos Y Su Comportamiento ⋆ Casa de los Niños
URL:https://pimaparenting.org/event/elogiando-a-los-ninos-y-su-comportamiento-clase-virtual-6/
LOCATION:Family Resource Center at Sahuarita Food Bank\, 17750 S. La Canada\, Sahuarita\, AZ\, 85629\, United States
CATEGORIES:Families with Children Birth to Five
ATTACH;FMTTYPE=image/jpeg:https://pimaparenting.org/wp-content/uploads/2024/03/Casa-logo.jpg
ORGANIZER;CN="Casa de los Ninos":MAILTO:cbolger@casadelosninos.org
END:VEVENT
BEGIN:VEVENT
DTSTART;TZID=America/Phoenix:20260226T173000
DTEND;TZID=America/Phoenix:20260226T193000
DTSTAMP:20260423T115100
CREATED:20260119T002215Z
LAST-MODIFIED:20260119T002215Z
UID:10004462-1772127000-1772134200@pimaparenting.org
SUMMARY:Elogiando a Los Ninos y Su Comportamiento/CLASE VIRTUAL
DESCRIPTION:Este tema es del Programa de Nurtured Parenting Series \nEsta clase se centra en la importancia de dar elogios a los niños. \nREGISTRARSE EN Elogiando a Los Ninos Y Su Comportamiento ⋆ Casa de los Niños
URL:https://pimaparenting.org/event/elogiando-a-los-ninos-y-su-comportamiento-clase-virtual-5/
LOCATION:Family Resource Center at Robles Elementary\, 9875 S Sasabe Rd\, Tucson\, AZ\, 85736\, United States
CATEGORIES:Families with Children Birth to Five
ATTACH;FMTTYPE=image/jpeg:https://pimaparenting.org/wp-content/uploads/2024/03/Casa-logo.jpg
ORGANIZER;CN="Casa de los Ninos":MAILTO:cbolger@casadelosninos.org
END:VEVENT
BEGIN:VEVENT
DTSTART;TZID=America/Phoenix:20260226T173000
DTEND;TZID=America/Phoenix:20260226T193000
DTSTAMP:20260423T115100
CREATED:20260119T002135Z
LAST-MODIFIED:20260119T002135Z
UID:10004461-1772127000-1772134200@pimaparenting.org
SUMMARY:Elogiando a Los Ninos y Su Comportamiento/CLASE VIRTUAL
DESCRIPTION:Este tema es del Programa de Nurtured Parenting Series \nEsta clase se centra en la importancia de dar elogios a los niños. \nREGISTRARSE EN Elogiando a Los Ninos Y Su Comportamiento ⋆ Casa de los Niños
URL:https://pimaparenting.org/event/elogiando-a-los-ninos-y-su-comportamiento-clase-virtual-4/
LOCATION:Family Resource Center at Los Ranchitos\, 2054 E Ginter Rd\, Tucson\, AZ\, 85706\, United States
CATEGORIES:Families with Children Birth to Five
ATTACH;FMTTYPE=image/jpeg:https://pimaparenting.org/wp-content/uploads/2024/03/Casa-logo.jpg
ORGANIZER;CN="Casa de los Ninos":MAILTO:cbolger@casadelosninos.org
END:VEVENT
BEGIN:VEVENT
DTSTART;TZID=America/Phoenix:20260224T173000
DTEND;TZID=America/Phoenix:20260224T193000
DTSTAMP:20260423T115100
CREATED:20260119T001941Z
LAST-MODIFIED:20260119T001941Z
UID:10004460-1771954200-1771961400@pimaparenting.org
SUMMARY:Praising Children and their Behavior/VIRTUAL CLASS
DESCRIPTION:This topic is from the Nurturing Parenting Program \nThis class focuses on the importance of giving praise to children. \nRegister at Praising Children and their Behavior ⋆ Casa de los Niños
URL:https://pimaparenting.org/event/praising-children-and-their-behavior-virtual-class-9/
LOCATION:Family Resource Center at Sahuarita Food Bank\, 17750 S. La Canada\, Sahuarita\, AZ\, 85629\, United States
CATEGORIES:Families with Children Birth to Five
ATTACH;FMTTYPE=image/jpeg:https://pimaparenting.org/wp-content/uploads/2024/03/Casa-logo.jpg
ORGANIZER;CN="Casa de los Ninos":MAILTO:cbolger@casadelosninos.org
END:VEVENT
BEGIN:VEVENT
DTSTART;TZID=America/Phoenix:20260224T173000
DTEND;TZID=America/Phoenix:20260224T193000
DTSTAMP:20260423T115100
CREATED:20260119T001927Z
LAST-MODIFIED:20260119T001927Z
UID:10004459-1771954200-1771961400@pimaparenting.org
SUMMARY:Praising Children and their Behavior/VIRTUAL CLASS
DESCRIPTION:This topic is from the Nurturing Parenting Program \nThis class focuses on the importance of giving praise to children. \nRegister at Praising Children and their Behavior ⋆ Casa de los Niños
URL:https://pimaparenting.org/event/praising-children-and-their-behavior-virtual-class-8/
LOCATION:Family Resource Center at Robles Elementary\, 9875 S Sasabe Rd\, Tucson\, AZ\, 85736\, United States
CATEGORIES:Families with Children Birth to Five
ATTACH;FMTTYPE=image/jpeg:https://pimaparenting.org/wp-content/uploads/2024/03/Casa-logo.jpg
ORGANIZER;CN="Casa de los Ninos":MAILTO:cbolger@casadelosninos.org
END:VEVENT
BEGIN:VEVENT
DTSTART;TZID=America/Phoenix:20260224T173000
DTEND;TZID=America/Phoenix:20260224T193000
DTSTAMP:20260423T115100
CREATED:20260119T001843Z
LAST-MODIFIED:20260119T001843Z
UID:10004458-1771954200-1771961400@pimaparenting.org
SUMMARY:Praising Children and their Behavior/VIRTUAL CLASS
DESCRIPTION:This topic is from the Nurturing Parenting Program \nThis class focuses on the importance of giving praise to children. \nRegister at Praising Children and their Behavior ⋆ Casa de los Niños
URL:https://pimaparenting.org/event/praising-children-and-their-behavior-virtual-class-7/
LOCATION:Family Resource Center at Los Ranchitos\, 2054 E Ginter Rd\, Tucson\, AZ\, 85706\, United States
CATEGORIES:Families with Children Birth to Five
ATTACH;FMTTYPE=image/jpeg:https://pimaparenting.org/wp-content/uploads/2024/03/Casa-logo.jpg
ORGANIZER;CN="Casa de los Ninos":MAILTO:cbolger@casadelosninos.org
END:VEVENT
BEGIN:VEVENT
DTSTART;TZID=America/Phoenix:20260219T173000
DTEND;TZID=America/Phoenix:20260219T193000
DTSTAMP:20260423T115100
CREATED:20260119T001614Z
LAST-MODIFIED:20260119T001614Z
UID:10004457-1771522200-1771529400@pimaparenting.org
SUMMARY:Desarrollando Empatía en Niños - Clase Virtual en Español
DESCRIPTION:Este tema es del Programa de Crianza Saludable. \nEl objetivo de esta clase es aprender estrategias para aumentar las habilidades de los niños para cuidar. \nRegístrate en Desarrollar La Moral\, Los Valores y Las Reglas Familiares ⋆ Casa de los Niños
URL:https://pimaparenting.org/event/desarrollando-empatia-en-ninos-clase-virtual-en-espanol-6/
LOCATION:Family Resource Center at Sahuarita Food Bank\, 17750 S. La Canada\, Sahuarita\, AZ\, 85629\, United States
CATEGORIES:Families with Children Birth to Five
ATTACH;FMTTYPE=image/jpeg:https://pimaparenting.org/wp-content/uploads/2024/11/Casa2-at-SFB-2.0.jpg
ORGANIZER;CN="Vanessa Villegas-CDLN":MAILTO:vanessac@casadelosninos.org
END:VEVENT
BEGIN:VEVENT
DTSTART;TZID=America/Phoenix:20260219T173000
DTEND;TZID=America/Phoenix:20260219T193000
DTSTAMP:20260423T115100
CREATED:20260119T001525Z
LAST-MODIFIED:20260119T001525Z
UID:10004456-1771522200-1771529400@pimaparenting.org
SUMMARY:Desarrollando Empatía en Niños - Clase Virtual en Español
DESCRIPTION:Este tema es del Programa de Crianza Saludable. \nEl objetivo de esta clase es aprender estrategias para aumentar las habilidades de los niños para cuidar. \nRegístrate en Desarrollar La Moral\, Los Valores y Las Reglas Familiares ⋆ Casa de los Niños
URL:https://pimaparenting.org/event/desarrollando-empatia-en-ninos-clase-virtual-en-espanol-5/
LOCATION:Family Resource Center at Robles Elementary\, 9875 S Sasabe Rd\, Tucson\, AZ\, 85736\, United States
CATEGORIES:Families with Children Birth to Five
ATTACH;FMTTYPE=image/jpeg:https://pimaparenting.org/wp-content/uploads/2024/11/Casa2-at-SUSD-2.0.jpg
ORGANIZER;CN="Casa de los Ninos":MAILTO:cbolger@casadelosninos.org
END:VEVENT
BEGIN:VEVENT
DTSTART;TZID=America/Phoenix:20260219T173000
DTEND;TZID=America/Phoenix:20260219T193000
DTSTAMP:20260423T115100
CREATED:20260119T001404Z
LAST-MODIFIED:20260119T001632Z
UID:10004454-1771522200-1771529400@pimaparenting.org
SUMMARY:Desarrollando Empatía en Niños - Clase Virtual en Español
DESCRIPTION:Este tema es del Programa de Crianza Saludable. \nEl objetivo de esta clase es aprender estrategias para aumentar las habilidades de los niños para cuidar. \nRegístrate en Desarrollar La Moral\, Los Valores y Las Reglas Familiares ⋆ Casa de los Niños
URL:https://pimaparenting.org/event/desarrollando-empatia-en-ninos-clase-virtual-en-espanol-4/
LOCATION:Family Resource Center at Los Ranchitos\, 2054 E Ginter Rd\, Tucson\, AZ\, 85706\, United States
CATEGORIES:Families with Children Birth to Five
ATTACH;FMTTYPE=image/jpeg:https://pimaparenting.org/wp-content/uploads/2024/11/Casa2-at-SUSD-2.0.jpg
ORGANIZER;CN="Vanessa Villegas-CDLN":MAILTO:vanessac@casadelosninos.org
END:VEVENT
BEGIN:VEVENT
DTSTART;TZID=America/Phoenix:20260217T173000
DTEND;TZID=America/Phoenix:20260217T193000
DTSTAMP:20260423T115100
CREATED:20260119T001152Z
LAST-MODIFIED:20260119T001152Z
UID:10004453-1771349400-1771356600@pimaparenting.org
SUMMARY:Developing Family Morals\, Values and Rules/VIRTUAL CLASS
DESCRIPTION:This topic is from the Nurturing Parenting Program \nThe focus of this class is for parents to learn the importance of developing family guidelines and linking them to discipline. \nRegister at Developing Family Morals\, Values & Rules ⋆ Casa de los Niños
URL:https://pimaparenting.org/event/developing-family-morals-values-and-rules-virtual-class-3/
LOCATION:Family Resource Center at Sahuarita Food Bank\, 17750 S. La Canada\, Sahuarita\, AZ\, 85629\, United States
CATEGORIES:Families with Children Birth to Five
ATTACH;FMTTYPE=image/jpeg:https://pimaparenting.org/wp-content/uploads/2024/03/Casa-logo.jpg
ORGANIZER;CN="Casa de los Ninos":MAILTO:cbolger@casadelosninos.org
END:VEVENT
BEGIN:VEVENT
DTSTART;TZID=America/Phoenix:20260217T173000
DTEND;TZID=America/Phoenix:20260217T193000
DTSTAMP:20260423T115100
CREATED:20260119T001115Z
LAST-MODIFIED:20260119T001115Z
UID:10004452-1771349400-1771356600@pimaparenting.org
SUMMARY:Developing Family Morals\, Values and Rules/VIRTUAL CLASS
DESCRIPTION:This topic is from the Nurturing Parenting Program \nThe focus of this class is for parents to learn the importance of developing family guidelines and linking them to discipline. \nRegister at Developing Family Morals\, Values & Rules ⋆ Casa de los Niños
URL:https://pimaparenting.org/event/developing-family-morals-values-and-rules-virtual-class-2/
LOCATION:Family Resource Center at Robles Elementary\, 9875 S Sasabe Rd\, Tucson\, AZ\, 85736\, United States
CATEGORIES:Families with Children Birth to Five
ATTACH;FMTTYPE=image/jpeg:https://pimaparenting.org/wp-content/uploads/2024/03/Casa-logo.jpg
ORGANIZER;CN="Casa de los Ninos":MAILTO:cbolger@casadelosninos.org
END:VEVENT
BEGIN:VEVENT
DTSTART;TZID=America/Phoenix:20260217T173000
DTEND;TZID=America/Phoenix:20260217T193000
DTSTAMP:20260423T115100
CREATED:20260119T001005Z
LAST-MODIFIED:20260119T001005Z
UID:10004450-1771349400-1771356600@pimaparenting.org
SUMMARY:Developing Family Morals\, Values and Rules/VIRTUAL CLASS
DESCRIPTION:This topic is from the Nurturing Parenting Program \nThe focus of this class is for parents to learn the importance of developing family guidelines and linking them to discipline. \nRegister at Developing Family Morals\, Values & Rules ⋆ Casa de los Niños
URL:https://pimaparenting.org/event/developing-family-morals-values-and-rules-virtual-class/
LOCATION:Family Resource Center at Los Ranchitos\, 2054 E Ginter Rd\, Tucson\, AZ\, 85706\, United States
CATEGORIES:Families with Children Birth to Five
ATTACH;FMTTYPE=image/jpeg:https://pimaparenting.org/wp-content/uploads/2024/03/Casa-logo.jpg
ORGANIZER;CN="Casa de los Ninos":MAILTO:cbolger@casadelosninos.org
END:VEVENT
BEGIN:VEVENT
DTSTART;TZID=America/Phoenix:20260212T173000
DTEND;TZID=America/Phoenix:20260212T193000
DTSTAMP:20260423T115100
CREATED:20260119T000548Z
LAST-MODIFIED:20260119T000548Z
UID:10004449-1770917400-1770924600@pimaparenting.org
SUMMARY:Comprender los sentimentos/CLASE VIRTUAL
DESCRIPTION:Los padres y cuidadores aprenden a entender los sentimentos de sus hijos en el que los padres tienen en sus hijos. \nRegístrate en Understanding Feeling- Spanish Facilitation ⋆ Casa de los Niños
URL:https://pimaparenting.org/event/comprender-los-sentimentos-clase-virtual-6/
LOCATION:Family Resource Center at Los Ranchitos\, 2054 E Ginter Rd\, Tucson\, AZ\, 85706\, United States
CATEGORIES:All Caregivers,Families with Children Birth to Five
ATTACH;FMTTYPE=image/jpeg:https://pimaparenting.org/wp-content/uploads/2024/11/Casa1-at-SUSD-2.0.jpg
ORGANIZER;CN="Anabeli Miranda":MAILTO:amiranda@casadelosninos.org
END:VEVENT
BEGIN:VEVENT
DTSTART;TZID=America/Phoenix:20260212T173000
DTEND;TZID=America/Phoenix:20260212T193000
DTSTAMP:20260423T115100
CREATED:20260119T000454Z
LAST-MODIFIED:20260119T000454Z
UID:10004448-1770917400-1770924600@pimaparenting.org
SUMMARY:Comprender los sentimentos/CLASE VIRTUAL
DESCRIPTION:Los padres y cuidadores aprenden a entender los sentimentos de sus hijos en el que los padres tienen en sus hijos. \nRegístrate en Understanding Feeling- Spanish Facilitation ⋆ Casa de los Niños
URL:https://pimaparenting.org/event/comprender-los-sentimentos-clase-virtual-5/
LOCATION:Family Resource Center at Robles Elementary\, 9875 S Sasabe Rd\, Tucson\, AZ\, 85736\, United States
CATEGORIES:All Caregivers,Families with Children Birth to Five
ATTACH;FMTTYPE=image/jpeg:https://pimaparenting.org/wp-content/uploads/2024/11/Casa1-at-AVSD-2.0.jpg
ORGANIZER;CN="Anabeli Miranda":MAILTO:amiranda@casadelosninos.org
END:VEVENT
BEGIN:VEVENT
DTSTART;TZID=America/Phoenix:20260212T173000
DTEND;TZID=America/Phoenix:20260212T193000
DTSTAMP:20260423T115100
CREATED:20260119T000350Z
LAST-MODIFIED:20260119T000350Z
UID:10004447-1770917400-1770924600@pimaparenting.org
SUMMARY:Comprender los sentimentos/CLASE VIRTUAL
DESCRIPTION:Los padres y cuidadores aprenden a entender los sentimentos de sus hijos en el que los padres tienen en sus hijos. \nRegístrate en Understanding Feeling- Spanish Facilitation ⋆ Casa de los Niños
URL:https://pimaparenting.org/event/comprender-los-sentimentos-clase-virtual-4/
LOCATION:Family Resource Center at Sahuarita Food Bank\, 17750 S. La Canada\, Sahuarita\, AZ\, 85629\, United States
CATEGORIES:All Caregivers,Families with Children Birth to Five
ATTACH;FMTTYPE=image/jpeg:https://pimaparenting.org/wp-content/uploads/2024/11/Casa1-at-SFB-2.0.jpg
ORGANIZER;CN="Anabeli Miranda":MAILTO:amiranda@casadelosninos.org
END:VEVENT
BEGIN:VEVENT
DTSTART;TZID=America/Phoenix:20260210T173000
DTEND;TZID=America/Phoenix:20260210T193000
DTSTAMP:20260423T115100
CREATED:20260118T235947Z
LAST-MODIFIED:20260118T235947Z
UID:10004446-1770744600-1770751800@pimaparenting.org
SUMMARY:Recognizing & Understanding Children’s Feelings/ VIRTUAL CLASS
DESCRIPTION:This class is from the Nurturing Parenting Program \nHow we prepare our children to handle their feelings will\, likely\, affect the quality of their life more than just about any other element of parenting. The goal of this class is to increase empathetic responses to children’s feelings. \nThis class is hybrid- you may attend in-person OR virtually. \nThis class is made possible by: First Things First \n  \nRegister at Understanding Feelings ⋆ Casa de los Niños
URL:https://pimaparenting.org/event/recognizing-understanding-childrens-feelings-virtual-class-6/
LOCATION:Family Resource Center at Robles Elementary\, 9875 S Sasabe Rd\, Tucson\, AZ\, 85736\, United States
CATEGORIES:Families with Children Birth to Five
ATTACH;FMTTYPE=image/jpeg:https://pimaparenting.org/wp-content/uploads/2024/11/Casa2-at-AVSD-2.0.jpg
ORGANIZER;CN="Casa de los Ninos":MAILTO:cbolger@casadelosninos.org
END:VEVENT
END:VCALENDAR