BEGIN:VCALENDAR
VERSION:2.0
PRODID:-//Pima County Parenting Coalition - ECPv6.15.16.1//NONSGML v1.0//EN
CALSCALE:GREGORIAN
METHOD:PUBLISH
X-ORIGINAL-URL:https://pimaparenting.org
X-WR-CALDESC:Events for Pima County Parenting Coalition
REFRESH-INTERVAL;VALUE=DURATION:PT1H
X-Robots-Tag:noindex
X-PUBLISHED-TTL:PT1H
BEGIN:VTIMEZONE
TZID:America/Phoenix
BEGIN:STANDARD
TZOFFSETFROM:-0700
TZOFFSETTO:-0700
TZNAME:MST
DTSTART:20250101T000000
END:STANDARD
END:VTIMEZONE
BEGIN:VEVENT
DTSTART;TZID=America/Phoenix:20260424T100000
DTEND;TZID=America/Phoenix:20260424T110000
DTSTAMP:20260423T080656
CREATED:20260205T235445Z
LAST-MODIFIED:20260205T235445Z
UID:10004479-1777024800-1777028400@pimaparenting.org
SUMMARY:Garden Discovery Days-Class held at Salazar-Ajo Library
DESCRIPTION:This class connects you and your child with the garden\, through hands on activities as you learn where food comes from\, learn about nature and make fun nature crafts.  \nPLEASE NOTE: Class is held at the Salazar-Ajo Library 15 Plaza #179 Ajo\, AZ 85321
URL:https://pimaparenting.org/event/garden-discovery-days-class-held-at-salazar-ajo-library-3/
LOCATION:Salazar-Ajo Library\, 15 Plaza St\, #179\, Ajo\, Arizon\, 85321\, United States
CATEGORIES:Families with Children Birth to Five
ATTACH;FMTTYPE=image/jpeg:https://pimaparenting.org/wp-content/uploads/2024/03/UA-FEP-logo.jpg
ORGANIZER;CN="Cassie Burrel - UACE":MAILTO:cassieb@ag.arizona.edu
END:VEVENT
BEGIN:VEVENT
DTSTART;TZID=America/Phoenix:20260507T090000
DTEND;TZID=America/Phoenix:20260507T100000
DTSTAMP:20260423T080656
CREATED:20260413T185151Z
LAST-MODIFIED:20260413T185151Z
UID:10004783-1778144400-1778148000@pimaparenting.org
SUMMARY:Garden Discovery Days
DESCRIPTION:This class connects you and your child to the garden through hands-on activities\, where you’ll learn where food comes from\, explore nature\, and create fun nature-inspired crafts. \n  \n 
URL:https://pimaparenting.org/event/garden-discovery-days-22/
LOCATION:Family Resource Center at Robles Elementary\, 9875 S Sasabe Rd\, Tucson\, AZ\, 85736\, United States
CATEGORIES:Families with Children Birth to Five
ATTACH;FMTTYPE=image/jpeg:https://pimaparenting.org/wp-content/uploads/2024/11/GDD-at-AVSD-2.0.jpg
ORGANIZER;CN="Cassie Burrel - UACE":MAILTO:cassieb@ag.arizona.edu
END:VEVENT
BEGIN:VEVENT
DTSTART;TZID=America/Phoenix:20260521T090000
DTEND;TZID=America/Phoenix:20260521T100000
DTSTAMP:20260423T080656
CREATED:20260413T185026Z
LAST-MODIFIED:20260413T185026Z
UID:10004782-1779354000-1779357600@pimaparenting.org
SUMMARY:Garden Discovery Days-Class held at Pima County Cooperative Extension Office 530 E. Whitehouse Canyon Rd. Green Valley\, AZ 85614
DESCRIPTION:This class connects you and your child with the garden\, through hands on activities as you learn where food comes from\, learn about nature and make fun nature crafts.  \nPLEASE NOTE: Class is held at the Pima County Cooperative Extension Office 530 E. Whitehouse Canyon Rd. Green Valley\, AZ 85614
URL:https://pimaparenting.org/event/garden-discovery-days-class-held-at-pima-county-cooperative-extension-office-530-e-whitehouse-canyon-rd-green-valley-az-85614-9/
LOCATION:Family Resource Center at Sahuarita Food Bank\, 17750 S. La Canada\, Sahuarita\, AZ\, 85629\, United States
CATEGORIES:Families with Children Birth to Five
ATTACH;FMTTYPE=image/png:https://pimaparenting.org/wp-content/uploads/2025/04/GDD-at-SFB-2.0.png
ORGANIZER;CN="Cassie Burrel - UACE":MAILTO:cassieb@ag.arizona.edu
END:VEVENT
BEGIN:VEVENT
DTSTART;TZID=America/Phoenix:20260528T090000
DTEND;TZID=America/Phoenix:20260528T100000
DTSTAMP:20260423T080656
CREATED:20260413T185258Z
LAST-MODIFIED:20260413T185258Z
UID:10004784-1779958800-1779962400@pimaparenting.org
SUMMARY:Garden Discovery Days
DESCRIPTION:This class connects you and your child to the garden through hands-on activities\, where you’ll learn where food comes from\, explore nature\, and create fun nature-inspired crafts. \n  \n 
URL:https://pimaparenting.org/event/garden-discovery-days-23/
LOCATION:Family Resource Center at Los Ranchitos\, 2054 E Ginter Rd\, Tucson\, AZ\, 85706\, United States
CATEGORIES:Families with Children Birth to Five
ATTACH;FMTTYPE=image/png:https://pimaparenting.org/wp-content/uploads/2025/07/GDD-at-SUSD-2.0.png
ORGANIZER;CN="Cassie Burrel - UACE":MAILTO:cassieb@ag.arizona.edu
END:VEVENT
BEGIN:VEVENT
DTSTART;TZID=America/Phoenix:20260529T100000
DTEND;TZID=America/Phoenix:20260529T110000
DTSTAMP:20260423T080656
CREATED:20260205T235542Z
LAST-MODIFIED:20260205T235542Z
UID:10004480-1780048800-1780052400@pimaparenting.org
SUMMARY:Garden Discovery Days-Class held at Salazar-Ajo Library
DESCRIPTION:This class connects you and your child with the garden\, through hands on activities as you learn where food comes from\, learn about nature and make fun nature crafts.  \nPLEASE NOTE: Class is held at the Salazar-Ajo Library 15 Plaza #179 Ajo\, AZ 85321
URL:https://pimaparenting.org/event/garden-discovery-days-class-held-at-salazar-ajo-library-4/
LOCATION:Salazar-Ajo Library\, 15 Plaza St\, #179\, Ajo\, Arizon\, 85321\, United States
CATEGORIES:Families with Children Birth to Five
ATTACH;FMTTYPE=image/jpeg:https://pimaparenting.org/wp-content/uploads/2024/03/UA-FEP-logo.jpg
ORGANIZER;CN="Cassie Burrel - UACE":MAILTO:cassieb@ag.arizona.edu
END:VEVENT
END:VCALENDAR