BEGIN:VCALENDAR
VERSION:2.0
PRODID:-//Pima County Parenting Coalition - ECPv6.15.16.1//NONSGML v1.0//EN
CALSCALE:GREGORIAN
METHOD:PUBLISH
X-WR-CALNAME:Pima County Parenting Coalition
X-ORIGINAL-URL:https://pimaparenting.org
X-WR-CALDESC:Events for Pima County Parenting Coalition
REFRESH-INTERVAL;VALUE=DURATION:PT1H
X-Robots-Tag:noindex
X-PUBLISHED-TTL:PT1H
BEGIN:VTIMEZONE
TZID:America/Phoenix
BEGIN:STANDARD
TZOFFSETFROM:-0700
TZOFFSETTO:-0700
TZNAME:MST
DTSTART:20240101T000000
END:STANDARD
END:VTIMEZONE
BEGIN:VEVENT
DTSTART;TZID=America/Phoenix:20251106T130000
DTEND;TZID=America/Phoenix:20251106T140000
DTSTAMP:20260423T105338
CREATED:20251013T194700Z
LAST-MODIFIED:20251013T225659Z
UID:10003990-1762434000-1762437600@pimaparenting.org
SUMMARY:Garden Discovery Days-Class held at Pima County Cooperative Extension Office 530 E. Whitehouse Canyon Rd. Green Valley\, AZ 85614
DESCRIPTION:This class connects you and your child with the garden\, through hands on activities as you learn where food comes from\, learn about nature and make fun nature crafts.  \nPLEASE NOTE: Class is held at the Pima County Cooperative Extension Office 530 E. Whitehouse Canyon Rd. Green Valley\, AZ 85614
URL:https://pimaparenting.org/event/garden-discovery-days-class-held-at-pima-county-cooperative-extension-office-530-e-whitehouse-canyon-rd-green-valley-az-85614-3/
LOCATION:Family Resource Center at Sahuarita Food Bank\, 17750 S. La Canada\, Sahuarita\, AZ\, 85629\, United States
CATEGORIES:Families with Children Birth to Five
ATTACH;FMTTYPE=image/png:https://pimaparenting.org/wp-content/uploads/2025/04/GDD-at-SFB-2.0.png
ORGANIZER;CN="Cassie Burrel - UACE":MAILTO:cassieb@ag.arizona.edu
END:VEVENT
BEGIN:VEVENT
DTSTART;TZID=America/Phoenix:20251030T090000
DTEND;TZID=America/Phoenix:20251030T100000
DTSTAMP:20260423T105338
CREATED:20250914T032955Z
LAST-MODIFIED:20250914T032955Z
UID:10003940-1761814800-1761818400@pimaparenting.org
SUMMARY:Garden Discovery Days
DESCRIPTION:This class connects you and your child to the garden through hands-on activities\, where you’ll learn where food comes from\, explore nature\, and create fun nature-inspired crafts. \n  \n 
URL:https://pimaparenting.org/event/garden-discovery-days-7/
LOCATION:Family Resource Center at Los Ranchitos\, 2054 E Ginter Rd\, Tucson\, AZ\, 85706\, United States
CATEGORIES:Families with Children Birth to Five
ATTACH;FMTTYPE=image/png:https://pimaparenting.org/wp-content/uploads/2025/07/GDD-at-SUSD-2.0.png
ORGANIZER;CN="Cassie Burrel - UACE":MAILTO:cassieb@ag.arizona.edu
END:VEVENT
BEGIN:VEVENT
DTSTART;TZID=America/Phoenix:20251023T090000
DTEND;TZID=America/Phoenix:20251023T100000
DTSTAMP:20260423T105338
CREATED:20250914T032914Z
LAST-MODIFIED:20250914T032930Z
UID:10003939-1761210000-1761213600@pimaparenting.org
SUMMARY:Garden Discovery Days
DESCRIPTION:This class connects you and your child to the garden through hands-on activities\, where you’ll learn where food comes from\, explore nature\, and create fun nature-inspired crafts. \n  \n 
URL:https://pimaparenting.org/event/garden-discovery-days-6/
LOCATION:Family Resource Center at Los Ranchitos\, 2054 E Ginter Rd\, Tucson\, AZ\, 85706\, United States
CATEGORIES:Families with Children Birth to Five
ATTACH;FMTTYPE=image/png:https://pimaparenting.org/wp-content/uploads/2025/07/GDD-at-SUSD-2.0.png
ORGANIZER;CN="Cassie Burrel - UACE":MAILTO:cassieb@ag.arizona.edu
END:VEVENT
BEGIN:VEVENT
DTSTART;TZID=America/Phoenix:20251016T090000
DTEND;TZID=America/Phoenix:20251016T100000
DTSTAMP:20260423T105338
CREATED:20250914T032819Z
LAST-MODIFIED:20250914T032819Z
UID:10003938-1760605200-1760608800@pimaparenting.org
SUMMARY:Garden Discovery Days
DESCRIPTION:This class connects you and your child to the garden through hands-on activities\, where you’ll learn where food comes from\, explore nature\, and create fun nature-inspired crafts. \n  \n 
URL:https://pimaparenting.org/event/garden-discovery-days-5/
LOCATION:Family Resource Center at Los Ranchitos\, 2054 E Ginter Rd\, Tucson\, AZ\, 85706\, United States
CATEGORIES:Families with Children Birth to Five
ATTACH;FMTTYPE=image/png:https://pimaparenting.org/wp-content/uploads/2025/07/GDD-at-SUSD-2.0.png
ORGANIZER;CN="Cassie Burrel - UACE":MAILTO:cassieb@ag.arizona.edu
END:VEVENT
BEGIN:VEVENT
DTSTART;TZID=America/Phoenix:20250925T090000
DTEND;TZID=America/Phoenix:20250925T100000
DTSTAMP:20260423T105338
CREATED:20250815T161152Z
LAST-MODIFIED:20250922T194146Z
UID:10003732-1758790800-1758794400@pimaparenting.org
SUMMARY:Garden Discovery Days-Class held at Pima County Cooperative Extension Office 530 E. Whitehouse Canyon Rd. Green Valley\, AZ 85614
DESCRIPTION:This class connects you and your child with the garden\, through hands on activities as you learn where food comes from\, learn about nature and make fun nature crafts.  \nPLEASE NOTE: Class is held at the Pima County Cooperative Extension Office 530 E. Whitehouse Canyon Rd. Green Valley\, AZ 85614
URL:https://pimaparenting.org/event/garden-discovery-days-class-held-at-pima-county-cooperative-extension-office-530-e-whitehouse-canyon-rd-green-valley-az-85614-17/
LOCATION:Family Resource Center at Sahuarita Food Bank\, 17750 S. La Canada\, Sahuarita\, AZ\, 85629\, United States
CATEGORIES:Families with Children Birth to Five
ATTACH;FMTTYPE=image/png:https://pimaparenting.org/wp-content/uploads/2025/04/GDD-at-SFB-2.0.png
ORGANIZER;CN="Cassie Burrel - UACE":MAILTO:cassieb@ag.arizona.edu
END:VEVENT
BEGIN:VEVENT
DTSTART;TZID=America/Phoenix:20250923T090000
DTEND;TZID=America/Phoenix:20250923T100000
DTSTAMP:20260423T105338
CREATED:20250815T161052Z
LAST-MODIFIED:20250922T211822Z
UID:10003731-1758618000-1758621600@pimaparenting.org
SUMMARY:Garden Discovery Days-Class held at Pima County Cooperative Extension Office 530 E. Whitehouse Canyon Rd. Green Valley\, AZ 85614
DESCRIPTION:This class connects you and your child with the garden\, through hands on activities as you learn where food comes from\, learn about nature and make fun nature crafts.  \nPLEASE NOTE: Class is held at the Pima County Cooperative Extension Office 530 E. Whitehouse Canyon Rd. Green Valley\, AZ 85614
URL:https://pimaparenting.org/event/garden-discovery-days-class-held-at-pima-county-cooperative-extension-office-530-e-whitehouse-canyon-rd-green-valley-az-85614-16/
LOCATION:Family Resource Center at Sahuarita Food Bank\, 17750 S. La Canada\, Sahuarita\, AZ\, 85629\, United States
CATEGORIES:Families with Children Birth to Five
ATTACH;FMTTYPE=image/png:https://pimaparenting.org/wp-content/uploads/2025/04/GDD-at-SFB-2.0.png
ORGANIZER;CN="Cassie Burrel - UACE":MAILTO:cassieb@ag.arizona.edu
END:VEVENT
BEGIN:VEVENT
DTSTART;TZID=America/Phoenix:20250911T090000
DTEND;TZID=America/Phoenix:20250911T100000
DTSTAMP:20260423T105338
CREATED:20250815T160942Z
LAST-MODIFIED:20250815T160942Z
UID:10003730-1757581200-1757584800@pimaparenting.org
SUMMARY:Garden Discovery Days-Class held at Pima County Cooperative Extension Office 530 E. Whitehouse Canyon Rd. Green Valley\, AZ 85614
DESCRIPTION:This class connects you and your child with the garden\, through hands on activities as you learn where food comes from\, learn about nature and make fun nature crafts.  \nPLEASE NOTE: Class is held at the Pima County Cooperative Extension Office 530 E. Whitehouse Canyon Rd. Green Valley\, AZ 85614
URL:https://pimaparenting.org/event/garden-discovery-days-class-held-at-pima-county-cooperative-extension-office-530-e-whitehouse-canyon-rd-green-valley-az-85614-15/
LOCATION:Family Resource Center at Sahuarita Food Bank\, 17750 S. La Canada\, Sahuarita\, AZ\, 85629\, United States
CATEGORIES:Families with Children Birth to Five
ATTACH;FMTTYPE=image/png:https://pimaparenting.org/wp-content/uploads/2025/04/GDD-at-SFB-2.0.png
ORGANIZER;CN="Cassie Burrel - UACE":MAILTO:cassieb@ag.arizona.edu
END:VEVENT
BEGIN:VEVENT
DTSTART;TZID=America/Phoenix:20250909T090000
DTEND;TZID=America/Phoenix:20250909T100000
DTSTAMP:20260423T105338
CREATED:20250815T160838Z
LAST-MODIFIED:20250815T160838Z
UID:10003729-1757408400-1757412000@pimaparenting.org
SUMMARY:Garden Discovery Days-Class held at Pima County Cooperative Extension Office 530 E. Whitehouse Canyon Rd. Green Valley\, AZ 85614
DESCRIPTION:This class connects you and your child with the garden\, through hands on activities as you learn where food comes from\, learn about nature and make fun nature crafts.  \nPLEASE NOTE: Class is held at the Pima County Cooperative Extension Office 530 E. Whitehouse Canyon Rd. Green Valley\, AZ 85614
URL:https://pimaparenting.org/event/garden-discovery-days-class-held-at-pima-county-cooperative-extension-office-530-e-whitehouse-canyon-rd-green-valley-az-85614-14/
LOCATION:Family Resource Center at Sahuarita Food Bank\, 17750 S. La Canada\, Sahuarita\, AZ\, 85629\, United States
CATEGORIES:Families with Children Birth to Five
ATTACH;FMTTYPE=image/png:https://pimaparenting.org/wp-content/uploads/2025/04/GDD-at-SFB-2.0.png
ORGANIZER;CN="Cassie Burrel - UACE":MAILTO:cassieb@ag.arizona.edu
END:VEVENT
BEGIN:VEVENT
DTSTART;TZID=America/Phoenix:20250828T090000
DTEND;TZID=America/Phoenix:20250828T100000
DTSTAMP:20260423T105338
CREATED:20250717T050503Z
LAST-MODIFIED:20250717T050503Z
UID:10003688-1756371600-1756375200@pimaparenting.org
SUMMARY:Garden Discovery Days
DESCRIPTION:This class connects you and your child to the garden through hands-on activities\, where you’ll learn where food comes from\, explore nature\, and create fun nature-inspired crafts. \n  \n 
URL:https://pimaparenting.org/event/garden-discovery-days-4/
LOCATION:Family Resource Center at Los Ranchitos\, 2054 E Ginter Rd\, Tucson\, AZ\, 85706\, United States
CATEGORIES:Families with Children Birth to Five
ATTACH;FMTTYPE=image/png:https://pimaparenting.org/wp-content/uploads/2025/07/GDD-at-SUSD-2.0.png
ORGANIZER;CN="Family Resource Center at Los Ranchitos":MAILTO:MyrnaL@susd12.org
END:VEVENT
BEGIN:VEVENT
DTSTART;TZID=America/Phoenix:20250821T090000
DTEND;TZID=America/Phoenix:20250821T100000
DTSTAMP:20260423T105338
CREATED:20250717T050429Z
LAST-MODIFIED:20250717T050429Z
UID:10003687-1755766800-1755770400@pimaparenting.org
SUMMARY:Garden Discovery Days
DESCRIPTION:This class connects you and your child to the garden through hands-on activities\, where you’ll learn where food comes from\, explore nature\, and create fun nature-inspired crafts. \n  \n 
URL:https://pimaparenting.org/event/garden-discovery-days-3/
LOCATION:Family Resource Center at Los Ranchitos\, 2054 E Ginter Rd\, Tucson\, AZ\, 85706\, United States
CATEGORIES:Families with Children Birth to Five
ATTACH;FMTTYPE=image/png:https://pimaparenting.org/wp-content/uploads/2025/07/GDD-at-SUSD-2.0.png
ORGANIZER;CN="Family Resource Center at Los Ranchitos":MAILTO:MyrnaL@susd12.org
END:VEVENT
BEGIN:VEVENT
DTSTART;TZID=America/Phoenix:20250814T090000
DTEND;TZID=America/Phoenix:20250814T100000
DTSTAMP:20260423T105338
CREATED:20250717T050352Z
LAST-MODIFIED:20250717T050352Z
UID:10003686-1755162000-1755165600@pimaparenting.org
SUMMARY:Garden Discovery Days
DESCRIPTION:This class connects you and your child to the garden through hands-on activities\, where you’ll learn where food comes from\, explore nature\, and create fun nature-inspired crafts. \n  \n 
URL:https://pimaparenting.org/event/garden-discovery-days-2/
LOCATION:Family Resource Center at Los Ranchitos\, 2054 E Ginter Rd\, Tucson\, AZ\, 85706\, United States
CATEGORIES:Families with Children Birth to Five
ATTACH;FMTTYPE=image/png:https://pimaparenting.org/wp-content/uploads/2025/07/GDD-at-SUSD-2.0.png
ORGANIZER;CN="Family Resource Center at Los Ranchitos":MAILTO:MyrnaL@susd12.org
END:VEVENT
BEGIN:VEVENT
DTSTART;TZID=America/Phoenix:20250807T090000
DTEND;TZID=America/Phoenix:20250807T100000
DTSTAMP:20260423T105338
CREATED:20250717T050300Z
LAST-MODIFIED:20250717T050300Z
UID:10003685-1754557200-1754560800@pimaparenting.org
SUMMARY:Garden Discovery Days
DESCRIPTION:This class connects you and your child to the garden through hands-on activities\, where you’ll learn where food comes from\, explore nature\, and create fun nature-inspired crafts. \n  \n 
URL:https://pimaparenting.org/event/garden-discovery-days/
LOCATION:Family Resource Center at Los Ranchitos\, 2054 E Ginter Rd\, Tucson\, AZ\, 85706\, United States
CATEGORIES:Families with Children Birth to Five
ATTACH;FMTTYPE=image/png:https://pimaparenting.org/wp-content/uploads/2025/07/GDD-at-SUSD-2.0.png
ORGANIZER;CN="Family Resource Center at Los Ranchitos":MAILTO:MyrnaL@susd12.org
END:VEVENT
BEGIN:VEVENT
DTSTART;TZID=America/Phoenix:20250731T130000
DTEND;TZID=America/Phoenix:20250731T140000
DTSTAMP:20260423T105338
CREATED:20250617T213010Z
LAST-MODIFIED:20250731T163302Z
UID:10003527-1753966800-1753970400@pimaparenting.org
SUMMARY:Garden Discovery Days
DESCRIPTION:This class connects you and your child to the garden through hands-on activities\, where you’ll learn where food comes from\, explore nature\, and create fun nature-inspired crafts. \n  \n 
URL:https://pimaparenting.org/event/garden-discovery-days-51/
LOCATION:Family Resource Center at Robles Elementary\, 9875 S Sasabe Rd\, Tucson\, AZ\, 85736\, United States
CATEGORIES:Families with Children Birth to Five
ATTACH;FMTTYPE=image/jpeg:https://pimaparenting.org/wp-content/uploads/2024/11/GDD-at-AVSD-2.0.jpg
ORGANIZER;CN="Family Resource Center at Robles Elementary":MAILTO:dcordova@avsd.org
END:VEVENT
BEGIN:VEVENT
DTSTART;TZID=America/Phoenix:20250724T130000
DTEND;TZID=America/Phoenix:20250724T140000
DTSTAMP:20260423T105338
CREATED:20250617T212849Z
LAST-MODIFIED:20250617T212849Z
UID:10003526-1753362000-1753365600@pimaparenting.org
SUMMARY:Garden Discovery Days
DESCRIPTION:This class connects you and your child to the garden through hands-on activities\, where you’ll learn where food comes from\, explore nature\, and create fun nature-inspired crafts. \n  \n 
URL:https://pimaparenting.org/event/garden-discovery-days-50/
LOCATION:Family Resource Center at Robles Elementary\, 9875 S Sasabe Rd\, Tucson\, AZ\, 85736\, United States
CATEGORIES:Families with Children Birth to Five
ATTACH;FMTTYPE=image/jpeg:https://pimaparenting.org/wp-content/uploads/2024/11/GDD-at-AVSD-2.0.jpg
ORGANIZER;CN="Family Resource Center at Robles Elementary":MAILTO:dcordova@avsd.org
END:VEVENT
END:VCALENDAR