BEGIN:VCALENDAR
VERSION:2.0
PRODID:-//Pima County Parenting Coalition - ECPv6.15.16.1//NONSGML v1.0//EN
CALSCALE:GREGORIAN
METHOD:PUBLISH
X-WR-CALNAME:Pima County Parenting Coalition
X-ORIGINAL-URL:https://pimaparenting.org
X-WR-CALDESC:Events for Pima County Parenting Coalition
REFRESH-INTERVAL;VALUE=DURATION:PT1H
X-Robots-Tag:noindex
X-PUBLISHED-TTL:PT1H
BEGIN:VTIMEZONE
TZID:America/Phoenix
BEGIN:STANDARD
TZOFFSETFROM:-0700
TZOFFSETTO:-0700
TZNAME:MST
DTSTART:20250101T000000
END:STANDARD
END:VTIMEZONE
BEGIN:VEVENT
DTSTART;TZID=America/Phoenix:20260421T103000
DTEND;TZID=America/Phoenix:20260421T113000
DTSTAMP:20260423T093518
CREATED:20260223T174158Z
LAST-MODIFIED:20260223T174158Z
UID:10004556-1776767400-1776771000@pimaparenting.org
SUMMARY:Family Nutrition-Class #5 Fix it Safe/Fix it Fast\, Eat at Home
DESCRIPTION:Participants will receive resources to create nutritious meals your kids will eat! Attend all 8 classes and receive a large\, insulated bag filled with recipes and cooking items! \nClass #1 Introduction to MyPlate\nClass #2 Choosing more Fruits and Veggies\nClass #3 Plan\, Know what’s for Dinner\nClass #4 Shop\, Get the Best for less/Shop for Value\, Check the Facts\nClass #5 Fix it Safe/Fix it Fast\, Eat at Home\nClass #6 Smart Breakfast/Smart Lunch\nClass #7 Smart Fast-Food Choices\nClass #8 Making Smart Choices when Eating Out \n  \n 
URL:https://pimaparenting.org/event/family-nutrition-class-5-fix-it-safe-fix-it-fast-eat-at-home/
LOCATION:Family Resource Center at Sahuarita Food Bank\, 17750 S. La Canada\, Sahuarita\, AZ\, 85629\, United States
CATEGORIES:Families with Children Birth to Five
ATTACH;FMTTYPE=image/jpeg:https://pimaparenting.org/wp-content/uploads/2024/11/Family-Resource-Center-Logo-1.jpg
ORGANIZER;CN="Ivonne Martinez":MAILTO:imartine@arizona.edu
END:VEVENT
BEGIN:VEVENT
DTSTART;TZID=America/Phoenix:20260414T103000
DTEND;TZID=America/Phoenix:20260414T113000
DTSTAMP:20260423T093518
CREATED:20260223T174020Z
LAST-MODIFIED:20260223T174020Z
UID:10004555-1776162600-1776166200@pimaparenting.org
SUMMARY:Family Nutrition-#4 Shop\, Get the Best for less/Shop for Value\, Check the Facts
DESCRIPTION:Participants will receive resources to create nutritious meals your kids will eat! Attend all 8 classes and receive a large\, insulated bag filled with recipes and cooking items! \nClass #1 Introduction to MyPlate\nClass #2 Choosing more Fruits and Veggies\nClass #3 Plan\, Know what’s for Dinner\nClass #4 Shop\, Get the Best for less/Shop for Value\, Check the Facts\nClass #5 Fix it Safe/Fix it Fast\, Eat at Home\nClass #6 Smart Breakfast/Smart Lunch\nClass #7 Smart Fast-Food Choices\nClass #8 Making Smart Choices when Eating Out \n  \n 
URL:https://pimaparenting.org/event/family-nutrition-4-shop-get-the-best-for-less-shop-for-value-check-the-facts/
LOCATION:Family Resource Center at Sahuarita Food Bank\, 17750 S. La Canada\, Sahuarita\, AZ\, 85629\, United States
CATEGORIES:Families with Children Birth to Five
ATTACH;FMTTYPE=image/jpeg:https://pimaparenting.org/wp-content/uploads/2024/11/Family-Resource-Center-Logo-1.jpg
ORGANIZER;CN="Ivonne Martinez":MAILTO:imartine@arizona.edu
END:VEVENT
BEGIN:VEVENT
DTSTART;TZID=America/Phoenix:20260407T103000
DTEND;TZID=America/Phoenix:20260407T113000
DTSTAMP:20260423T093518
CREATED:20260223T173842Z
LAST-MODIFIED:20260223T173842Z
UID:10004554-1775557800-1775561400@pimaparenting.org
SUMMARY:Family Nutrition-Class #3 Plan\, Know what’s for Dinner
DESCRIPTION:Participants will receive resources to create nutritious meals your kids will eat! Attend all 8 classes and receive a large\, insulated bag filled with recipes and cooking items! \nClass #1 Introduction to MyPlate\nClass #2 Choosing more Fruits and Veggies\nClass #3 Plan\, Know what’s for Dinner\nClass #4 Shop\, Get the Best for less/Shop for Value\, Check the Facts\nClass #5 Fix it Safe/Fix it Fast\, Eat at Home\nClass #6 Smart Breakfast/Smart Lunch\nClass #7 Smart Fast-Food Choices\nClass #8 Making Smart Choices when Eating Out \n  \n 
URL:https://pimaparenting.org/event/family-nutrition-class-3-plan-know-whats-for-dinner/
LOCATION:Family Resource Center at Sahuarita Food Bank\, 17750 S. La Canada\, Sahuarita\, AZ\, 85629\, United States
CATEGORIES:Families with Children Birth to Five
ATTACH;FMTTYPE=image/jpeg:https://pimaparenting.org/wp-content/uploads/2024/11/Family-Resource-Center-Logo-1.jpg
ORGANIZER;CN="Ivonne Martinez":MAILTO:imartine@arizona.edu
END:VEVENT
BEGIN:VEVENT
DTSTART;TZID=America/Phoenix:20260331T103000
DTEND;TZID=America/Phoenix:20260331T113000
DTSTAMP:20260423T093518
CREATED:20260223T173716Z
LAST-MODIFIED:20260223T173716Z
UID:10004553-1774953000-1774956600@pimaparenting.org
SUMMARY:Family Nutrition-Class #2 Choosing more Fruits and Veggies
DESCRIPTION:Participants will receive resources to create nutritious meals your kids will eat! Attend all 8 classes and receive a large\, insulated bag filled with recipes and cooking items! \nClass #1 Introduction to MyPlate\nClass #2 Choosing more Fruits and Veggies\nClass #3 Plan\, Know what’s for Dinner\nClass #4 Shop\, Get the Best for less/Shop for Value\, Check the Facts\nClass #5 Fix it Safe/Fix it Fast\, Eat at Home\nClass #6 Smart Breakfast/Smart Lunch\nClass #7 Smart Fast-Food Choices\nClass #8 Making Smart Choices when Eating Out \n  \n 
URL:https://pimaparenting.org/event/family-nutrition-class-2-choosing-more-fruits-and-veggies/
LOCATION:Family Resource Center at Sahuarita Food Bank\, 17750 S. La Canada\, Sahuarita\, AZ\, 85629\, United States
CATEGORIES:Families with Children Birth to Five
ATTACH;FMTTYPE=image/jpeg:https://pimaparenting.org/wp-content/uploads/2024/11/Family-Resource-Center-Logo-1.jpg
ORGANIZER;CN="Ivonne Martinez":MAILTO:imartine@arizona.edu
END:VEVENT
BEGIN:VEVENT
DTSTART;TZID=America/Phoenix:20260324T103000
DTEND;TZID=America/Phoenix:20260324T113000
DTSTAMP:20260423T093518
CREATED:20260223T173547Z
LAST-MODIFIED:20260223T173547Z
UID:10004552-1774348200-1774351800@pimaparenting.org
SUMMARY:Family Nutrition-Class #1 Introduction to My Plate
DESCRIPTION:Participants will receive resources to create nutritious meals your kids will eat! Attend all 8 classes and receive a large\, insulated bag filled with recipes and cooking items! \nClass #1 Introduction to MyPlate\nClass #2 Choosing more Fruits and Veggies\nClass #3 Plan\, Know what’s for Dinner\nClass #4 Shop\, Get the Best for less/Shop for Value\, Check the Facts\nClass #5 Fix it Safe/Fix it Fast\, Eat at Home\nClass #6 Smart Breakfast/Smart Lunch\nClass #7 Smart Fast-Food Choices\nClass #8 Making Smart Choices when Eating Out \n  \n 
URL:https://pimaparenting.org/event/family-nutrition-class-1-introduction-to-my-plate/
LOCATION:Family Resource Center at Sahuarita Food Bank\, 17750 S. La Canada\, Sahuarita\, AZ\, 85629\, United States
CATEGORIES:Families with Children Birth to Five
ATTACH;FMTTYPE=image/jpeg:https://pimaparenting.org/wp-content/uploads/2024/11/Family-Resource-Center-Logo-1.jpg
ORGANIZER;CN="Ivonne Martinez":MAILTO:imartine@arizona.edu
END:VEVENT
END:VCALENDAR