BEGIN:VCALENDAR
VERSION:2.0
PRODID:-//Pima County Parenting Coalition - ECPv6.15.16.1//NONSGML v1.0//EN
CALSCALE:GREGORIAN
METHOD:PUBLISH
X-ORIGINAL-URL:https://pimaparenting.org
X-WR-CALDESC:Events for Pima County Parenting Coalition
REFRESH-INTERVAL;VALUE=DURATION:PT1H
X-Robots-Tag:noindex
X-PUBLISHED-TTL:PT1H
BEGIN:VTIMEZONE
TZID:America/Phoenix
BEGIN:STANDARD
TZOFFSETFROM:-0700
TZOFFSETTO:-0700
TZNAME:MST
DTSTART:20250101T000000
END:STANDARD
END:VTIMEZONE
BEGIN:VEVENT
DTSTART;TZID=America/Phoenix:20260428T103000
DTEND;TZID=America/Phoenix:20260428T113000
DTSTAMP:20260423T081425
CREATED:20260223T174320Z
LAST-MODIFIED:20260223T174320Z
UID:10004557-1777372200-1777375800@pimaparenting.org
SUMMARY:Family Nutrition-Class #6 Smart Breakfast/Smart Lunch
DESCRIPTION:Participants will receive resources to create nutritious meals your kids will eat! Attend all 8 classes and receive a large\, insulated bag filled with recipes and cooking items! \nClass #1 Introduction to MyPlate\nClass #2 Choosing more Fruits and Veggies\nClass #3 Plan\, Know what’s for Dinner\nClass #4 Shop\, Get the Best for less/Shop for Value\, Check the Facts\nClass #5 Fix it Safe/Fix it Fast\, Eat at Home\nClass #6 Smart Breakfast/Smart Lunch\nClass #7 Smart Fast-Food Choices\nClass #8 Making Smart Choices when Eating Out \n  \n 
URL:https://pimaparenting.org/event/family-nutrition-class-6-smart-breakfast-smart-lunch/
LOCATION:Family Resource Center at Sahuarita Food Bank\, 17750 S. La Canada\, Sahuarita\, AZ\, 85629\, United States
CATEGORIES:Families with Children Birth to Five
ATTACH;FMTTYPE=image/jpeg:https://pimaparenting.org/wp-content/uploads/2024/11/Family-Resource-Center-Logo-1.jpg
ORGANIZER;CN="Ivonne Martinez":MAILTO:imartine@arizona.edu
END:VEVENT
BEGIN:VEVENT
DTSTART;TZID=America/Phoenix:20260505T103000
DTEND;TZID=America/Phoenix:20260505T113000
DTSTAMP:20260423T081425
CREATED:20260223T174453Z
LAST-MODIFIED:20260223T174453Z
UID:10004558-1777977000-1777980600@pimaparenting.org
SUMMARY:Family Nutrition-Class #7 Smart Fast-Food Choices
DESCRIPTION:Participants will receive resources to create nutritious meals your kids will eat! Attend all 8 classes and receive a large\, insulated bag filled with recipes and cooking items! \nClass #1 Introduction to MyPlate\nClass #2 Choosing more Fruits and Veggies\nClass #3 Plan\, Know what’s for Dinner\nClass #4 Shop\, Get the Best for less/Shop for Value\, Check the Facts\nClass #5 Fix it Safe/Fix it Fast\, Eat at Home\nClass #6 Smart Breakfast/Smart Lunch\nClass #7 Smart Fast-Food Choices\nClass #8 Making Smart Choices when Eating Out \n  \n 
URL:https://pimaparenting.org/event/family-nutrition-class-7-smart-fast-food-choices/
LOCATION:Family Resource Center at Sahuarita Food Bank\, 17750 S. La Canada\, Sahuarita\, AZ\, 85629\, United States
CATEGORIES:Families with Children Birth to Five
ATTACH;FMTTYPE=image/jpeg:https://pimaparenting.org/wp-content/uploads/2024/11/Family-Resource-Center-Logo-1.jpg
ORGANIZER;CN="Ivonne Martinez":MAILTO:imartine@arizona.edu
END:VEVENT
BEGIN:VEVENT
DTSTART;TZID=America/Phoenix:20260512T103000
DTEND;TZID=America/Phoenix:20260512T113000
DTSTAMP:20260423T081425
CREATED:20260223T174604Z
LAST-MODIFIED:20260223T174604Z
UID:10004559-1778581800-1778585400@pimaparenting.org
SUMMARY:Family Nutrition-Class #8 Making Smart Choices when Eating Out
DESCRIPTION:Participants will receive resources to create nutritious meals your kids will eat! Attend all 8 classes and receive a large\, insulated bag filled with recipes and cooking items! \nClass #1 Introduction to MyPlate\nClass #2 Choosing more Fruits and Veggies\nClass #3 Plan\, Know what’s for Dinner\nClass #4 Shop\, Get the Best for less/Shop for Value\, Check the Facts\nClass #5 Fix it Safe/Fix it Fast\, Eat at Home\nClass #6 Smart Breakfast/Smart Lunch\nClass #7 Smart Fast-Food Choices\nClass #8 Making Smart Choices when Eating Out \n  \n 
URL:https://pimaparenting.org/event/family-nutrition-class-8-making-smart-choices-when-eating-out/
LOCATION:Family Resource Center at Sahuarita Food Bank\, 17750 S. La Canada\, Sahuarita\, AZ\, 85629\, United States
CATEGORIES:Families with Children Birth to Five
ATTACH;FMTTYPE=image/jpeg:https://pimaparenting.org/wp-content/uploads/2024/11/Family-Resource-Center-Logo-1.jpg
ORGANIZER;CN="Ivonne Martinez":MAILTO:imartine@arizona.edu
END:VEVENT
END:VCALENDAR