BEGIN:VCALENDAR
VERSION:2.0
PRODID:-//Pima County Parenting Coalition - ECPv6.15.16.1//NONSGML v1.0//EN
CALSCALE:GREGORIAN
METHOD:PUBLISH
X-WR-CALNAME:Pima County Parenting Coalition
X-ORIGINAL-URL:https://pimaparenting.org
X-WR-CALDESC:Events for Pima County Parenting Coalition
REFRESH-INTERVAL;VALUE=DURATION:PT1H
X-Robots-Tag:noindex
X-PUBLISHED-TTL:PT1H
BEGIN:VTIMEZONE
TZID:America/Phoenix
BEGIN:STANDARD
TZOFFSETFROM:-0700
TZOFFSETTO:-0700
TZNAME:MST
DTSTART:20240101T000000
END:STANDARD
END:VTIMEZONE
BEGIN:VEVENT
DTSTART;TZID=America/Phoenix:20250920T093000
DTEND;TZID=America/Phoenix:20250920T103000
DTSTAMP:20260423T152650
CREATED:20250813T222837Z
LAST-MODIFIED:20250813T222837Z
UID:10003722-1758360600-1758364200@pimaparenting.org
SUMMARY:The Secret to Gentle Parenting - Virtual Class
DESCRIPTION:Effective parenting is possible without yelling\, threatening and harsh punishments. Explore the skills and strategies of “Conscious Discipline” and receive valuable resources to help you in your parenting journey.
URL:https://pimaparenting.org/event/the-secret-to-gentle-parenting-virtual-class-20/
LOCATION:Family Resource Center at Sahuarita Food Bank\, 17750 S. La Canada\, Sahuarita\, AZ\, 85629\, United States
CATEGORIES:All Caregivers,Families with Children Birth to Five
ATTACH;FMTTYPE=image/jpeg:https://pimaparenting.org/wp-content/uploads/2024/03/EBF-logo.jpg
ORGANIZER;CN="Jeanne  Velasquez- EBF":MAILTO:jvelasquez@amphi.com
END:VEVENT
BEGIN:VEVENT
DTSTART;TZID=America/Phoenix:20250906T093000
DTEND;TZID=America/Phoenix:20250906T103000
DTSTAMP:20260423T152650
CREATED:20250813T223014Z
LAST-MODIFIED:20250813T223014Z
UID:10003724-1757151000-1757154600@pimaparenting.org
SUMMARY:The Secret to Gentle Parenting - Virtual Class
DESCRIPTION:Effective parenting is possible without yelling\, threatening and harsh punishments. Explore the skills and strategies of “Conscious Discipline” and receive valuable resources to help you in your parenting journey.
URL:https://pimaparenting.org/event/the-secret-to-gentle-parenting-virtual-class-22/
LOCATION:Family Resource Center at Robles Elementary\, 9875 S Sasabe Rd\, Tucson\, AZ\, 85736\, United States
CATEGORIES:All Caregivers,Families with Children Birth to Five
ATTACH;FMTTYPE=image/jpeg:https://pimaparenting.org/wp-content/uploads/2024/03/EBF-logo.jpg
ORGANIZER;CN="Jeanne  Velasquez- EBF":MAILTO:jvelasquez@amphi.com
END:VEVENT
BEGIN:VEVENT
DTSTART;TZID=America/Phoenix:20250906T093000
DTEND;TZID=America/Phoenix:20250906T103000
DTSTAMP:20260423T152650
CREATED:20250813T222921Z
LAST-MODIFIED:20250813T222921Z
UID:10003723-1757151000-1757154600@pimaparenting.org
SUMMARY:The Secret to Gentle Parenting - Virtual Class
DESCRIPTION:Effective parenting is possible without yelling\, threatening and harsh punishments. Explore the skills and strategies of “Conscious Discipline” and receive valuable resources to help you in your parenting journey.
URL:https://pimaparenting.org/event/the-secret-to-gentle-parenting-virtual-class-21/
LOCATION:Family Resource Center at Los Ranchitos\, 2054 E Ginter Rd\, Tucson\, AZ\, 85706\, United States
CATEGORIES:All Caregivers,Families with Children Birth to Five
ATTACH;FMTTYPE=image/jpeg:https://pimaparenting.org/wp-content/uploads/2024/03/EBF-logo.jpg
ORGANIZER;CN="Jeanne  Velasquez- EBF":MAILTO:jvelasquez@amphi.com
END:VEVENT
BEGIN:VEVENT
DTSTART;TZID=America/Phoenix:20250906T093000
DTEND;TZID=America/Phoenix:20250906T103000
DTSTAMP:20260423T152650
CREATED:20250813T222713Z
LAST-MODIFIED:20250813T222713Z
UID:10003721-1757151000-1757154600@pimaparenting.org
SUMMARY:The Secret to Gentle Parenting - Virtual Class
DESCRIPTION:Effective parenting is possible without yelling\, threatening and harsh punishments. Explore the skills and strategies of “Conscious Discipline” and receive valuable resources to help you in your parenting journey.
URL:https://pimaparenting.org/event/the-secret-to-gentle-parenting-virtual-class-19/
LOCATION:Family Resource Center at Sahuarita Food Bank\, 17750 S. La Canada\, Sahuarita\, AZ\, 85629\, United States
CATEGORIES:All Caregivers,Families with Children Birth to Five
ATTACH;FMTTYPE=image/jpeg:https://pimaparenting.org/wp-content/uploads/2024/03/EBF-logo.jpg
ORGANIZER;CN="Jeanne  Velasquez- EBF":MAILTO:jvelasquez@amphi.com
END:VEVENT
END:VCALENDAR