BEGIN:VCALENDAR
VERSION:2.0
PRODID:-//Pima County Parenting Coalition - ECPv6.15.16.1//NONSGML v1.0//EN
CALSCALE:GREGORIAN
METHOD:PUBLISH
X-WR-CALNAME:Pima County Parenting Coalition
X-ORIGINAL-URL:https://pimaparenting.org
X-WR-CALDESC:Events for Pima County Parenting Coalition
REFRESH-INTERVAL;VALUE=DURATION:PT1H
X-Robots-Tag:noindex
X-PUBLISHED-TTL:PT1H
BEGIN:VTIMEZONE
TZID:America/Phoenix
BEGIN:STANDARD
TZOFFSETFROM:-0700
TZOFFSETTO:-0700
TZNAME:MST
DTSTART:20250101T000000
END:STANDARD
END:VTIMEZONE
BEGIN:VEVENT
DTSTART;TZID=America/Phoenix:20260423T103000
DTEND;TZID=America/Phoenix:20260423T113000
DTSTAMP:20260423T081013
CREATED:20260325T153623Z
LAST-MODIFIED:20260325T153623Z
UID:10004724-1776940200-1776943800@pimaparenting.org
SUMMARY:HANDS IN NATURE: Art\, Exploration\, and Creative Play
DESCRIPTION:This is a nature-inspired class for children ages 2-5. Each session invites children to explore unique materials for art\, construction\, science\, literacy\, and more. Whether painting with mud\, building with sticks\, experimenting with water\, or storytelling with found objects\, children will engage in hands-on discovery that nurtures creativity\, problem solving\, and sensory exploration.
URL:https://pimaparenting.org/event/hands-in-nature-art-exploration-and-creative-play-4/
LOCATION:Family Resource Center at Robles Elementary\, 9875 S Sasabe Rd\, Tucson\, AZ\, 85736\, United States
CATEGORIES:Families with Children Birth to Five
ATTACH;FMTTYPE=image/jpeg:https://pimaparenting.org/wp-content/uploads/2024/11/UWTSA-Logo-2024-RBG.jpg
ORGANIZER;CN="Kyla Maciosek":MAILTO:kyla@naturecreatedplay.com
END:VEVENT
BEGIN:VEVENT
DTSTART;TZID=America/Phoenix:20260511T103000
DTEND;TZID=America/Phoenix:20260511T113000
DTSTAMP:20260423T081013
CREATED:20260325T154643Z
LAST-MODIFIED:20260325T154643Z
UID:10004730-1778495400-1778499000@pimaparenting.org
SUMMARY:HANDS IN NATURE: Art\, Exploration\, and Creative Play
DESCRIPTION:This is a nature-inspired class for children ages 2-5. Each session invites children to explore unique materials for art\, construction\, science\, literacy\, and more. Whether painting with mud\, building with sticks\, experimenting with water\, or storytelling with found objects\, children will engage in hands-on discovery that nurtures creativity\, problem solving\, and sensory exploration.
URL:https://pimaparenting.org/event/hands-in-nature-art-exploration-and-creative-play-9/
LOCATION:Family Resource Center at Los Ranchitos\, 2054 E Ginter Rd\, Tucson\, AZ\, 85706\, United States
CATEGORIES:Families with Children Birth to Five
ATTACH;FMTTYPE=image/jpeg:https://pimaparenting.org/wp-content/uploads/2024/11/UWTSA-Logo-2024-RBG.jpg
ORGANIZER;CN="Kyla Maciosek":MAILTO:kyla@naturecreatedplay.com
END:VEVENT
BEGIN:VEVENT
DTSTART;TZID=America/Phoenix:20260514T103000
DTEND;TZID=America/Phoenix:20260514T113000
DTSTAMP:20260423T081013
CREATED:20260325T153740Z
LAST-MODIFIED:20260325T153740Z
UID:10004725-1778754600-1778758200@pimaparenting.org
SUMMARY:HANDS IN NATURE: Art\, Exploration\, and Creative Play
DESCRIPTION:This is a nature-inspired class for children ages 2-5. Each session invites children to explore unique materials for art\, construction\, science\, literacy\, and more. Whether painting with mud\, building with sticks\, experimenting with water\, or storytelling with found objects\, children will engage in hands-on discovery that nurtures creativity\, problem solving\, and sensory exploration.
URL:https://pimaparenting.org/event/hands-in-nature-art-exploration-and-creative-play-5/
LOCATION:Family Resource Center at Robles Elementary\, 9875 S Sasabe Rd\, Tucson\, AZ\, 85736\, United States
CATEGORIES:Families with Children Birth to Five
ATTACH;FMTTYPE=image/jpeg:https://pimaparenting.org/wp-content/uploads/2024/11/UWTSA-Logo-2024-RBG.jpg
ORGANIZER;CN="Kyla Maciosek":MAILTO:kyla@naturecreatedplay.com
END:VEVENT
BEGIN:VEVENT
DTSTART;TZID=America/Phoenix:20260518T103000
DTEND;TZID=America/Phoenix:20260518T113000
DTSTAMP:20260423T081013
CREATED:20260414T175058Z
LAST-MODIFIED:20260414T175058Z
UID:10004838-1779100200-1779103800@pimaparenting.org
SUMMARY:HANDS IN NATURE: Art\, Exploration\, and Creative Play
DESCRIPTION:This is a nature-inspired class for children ages 2-5. Each session invites children to explore unique materials for art\, construction\, science\, literacy\, and more. Whether painting with mud\, building with sticks\, experimenting with water\, or storytelling with found objects\, children will engage in hands-on discovery that nurtures creativity\, problem solving\, and sensory exploration.
URL:https://pimaparenting.org/event/hands-in-nature-art-exploration-and-creative-play-11/
LOCATION:Family Resource Center at Los Ranchitos\, 2054 E Ginter Rd\, Tucson\, AZ\, 85706\, United States
CATEGORIES:Families with Children Birth to Five
ATTACH;FMTTYPE=image/jpeg:https://pimaparenting.org/wp-content/uploads/2024/11/UWTSA-Logo-2024-RBG.jpg
ORGANIZER;CN="Kyla Maciosek":MAILTO:kyla@naturecreatedplay.com
END:VEVENT
BEGIN:VEVENT
DTSTART;TZID=America/Phoenix:20260527T103000
DTEND;TZID=America/Phoenix:20260527T113000
DTSTAMP:20260423T081013
CREATED:20260414T175446Z
LAST-MODIFIED:20260414T175446Z
UID:10004839-1779877800-1779881400@pimaparenting.org
SUMMARY:HANDS IN NATURE: Art\, Exploration\, and Creative Play
DESCRIPTION:This is a nature-inspired class for children ages 2-5. Each session invites children to explore unique materials for art\, construction\, science\, literacy\, and more. Whether painting with mud\, building with sticks\, experimenting with water\, or storytelling with found objects\, children will engage in hands-on discovery that nurtures creativity\, problem solving\, and sensory exploration.
URL:https://pimaparenting.org/event/hands-in-nature-art-exploration-and-creative-play-12/
LOCATION:Family Resource Center at Los Ranchitos\, 2054 E Ginter Rd\, Tucson\, AZ\, 85706\, United States
CATEGORIES:Families with Children Birth to Five
ATTACH;FMTTYPE=image/jpeg:https://pimaparenting.org/wp-content/uploads/2024/11/UWTSA-Logo-2024-RBG.jpg
ORGANIZER;CN="Kyla Maciosek":MAILTO:kyla@naturecreatedplay.com
END:VEVENT
BEGIN:VEVENT
DTSTART;TZID=America/Phoenix:20260603T103000
DTEND;TZID=America/Phoenix:20260603T113000
DTSTAMP:20260423T081013
CREATED:20260325T153816Z
LAST-MODIFIED:20260414T180506Z
UID:10004726-1780482600-1780486200@pimaparenting.org
SUMMARY:HANDS IN NATURE: Art\, Exploration\, and Creative Play
DESCRIPTION:This is a nature-inspired class for children ages 2-5. Each session invites children to explore unique materials for art\, construction\, science\, literacy\, and more. Whether painting with mud\, building with sticks\, experimenting with water\, or storytelling with found objects\, children will engage in hands-on discovery that nurtures creativity\, problem solving\, and sensory exploration.
URL:https://pimaparenting.org/event/hands-in-nature-art-exploration-and-creative-play-6/
LOCATION:Family Resource Center at Robles Elementary\, 9875 S Sasabe Rd\, Tucson\, AZ\, 85736\, United States
CATEGORIES:Families with Children Birth to Five
ATTACH;FMTTYPE=image/jpeg:https://pimaparenting.org/wp-content/uploads/2024/11/UWTSA-Logo-2024-RBG.jpg
ORGANIZER;CN="Kyla Maciosek":MAILTO:kyla@naturecreatedplay.com
END:VEVENT
BEGIN:VEVENT
DTSTART;TZID=America/Phoenix:20260610T103000
DTEND;TZID=America/Phoenix:20260610T113000
DTSTAMP:20260423T081013
CREATED:20260325T154716Z
LAST-MODIFIED:20260414T175207Z
UID:10004731-1781087400-1781091000@pimaparenting.org
SUMMARY:HANDS IN NATURE: Art\, Exploration\, and Creative Play
DESCRIPTION:This is a nature-inspired class for children ages 2-5. Each session invites children to explore unique materials for art\, construction\, science\, literacy\, and more. Whether painting with mud\, building with sticks\, experimenting with water\, or storytelling with found objects\, children will engage in hands-on discovery that nurtures creativity\, problem solving\, and sensory exploration.
URL:https://pimaparenting.org/event/hands-in-nature-art-exploration-and-creative-play-10/
LOCATION:Family Resource Center at Los Ranchitos\, 2054 E Ginter Rd\, Tucson\, AZ\, 85706\, United States
CATEGORIES:Families with Children Birth to Five
ATTACH;FMTTYPE=image/jpeg:https://pimaparenting.org/wp-content/uploads/2024/11/UWTSA-Logo-2024-RBG.jpg
ORGANIZER;CN="Kyla Maciosek":MAILTO:kyla@naturecreatedplay.com
END:VEVENT
END:VCALENDAR