BEGIN:VCALENDAR
VERSION:2.0
PRODID:-//Pima County Parenting Coalition - ECPv6.15.16.1//NONSGML v1.0//EN
CALSCALE:GREGORIAN
METHOD:PUBLISH
X-ORIGINAL-URL:https://pimaparenting.org
X-WR-CALDESC:Events for Pima County Parenting Coalition
REFRESH-INTERVAL;VALUE=DURATION:PT1H
X-Robots-Tag:noindex
X-PUBLISHED-TTL:PT1H
BEGIN:VTIMEZONE
TZID:America/Phoenix
BEGIN:STANDARD
TZOFFSETFROM:-0700
TZOFFSETTO:-0700
TZNAME:MST
DTSTART:20250101T000000
END:STANDARD
END:VTIMEZONE
BEGIN:VEVENT
DTSTART;TZID=America/Phoenix:20260429T093000
DTEND;TZID=America/Phoenix:20260429T113000
DTSTAMP:20260423T114121
CREATED:20260324T214703Z
LAST-MODIFIED:20260324T214703Z
UID:10004679-1777455000-1777462200@pimaparenting.org
SUMMARY:AÑOS INCREÍBLES CLASE #5-Leer la Mente de los Bebés (Esta serie tiene un total de 8 clases)
DESCRIPTION:Este programa está especialmente diseñado para padres de bebés de 0 a 9 meses. Proporciona estrategias valiosas para mejorar sus habilidades de crianza mientras apoya el desarrollo social\, emocional\, físico y cognitivo de su bebé para un buen comienzo en la vida. \nSe ofrece cuidado infantil para niños que caminan hasta los 5 años de edad. \nClase 1: Resumen del Programa \nClase 2: Convertirse en Padre \nClase 3: Comunicarse con el Bebé \nClase 4: Estimulación Física y Visual \nClase 5: Leer la Mente de los Bebés \nClase 6: Obtener Apoyo \nClase 7: Surgimiento del Sentido de Sí Mismo \nClase 8: Graduación
URL:https://pimaparenting.org/event/anos-increibles-clase-5-leer-la-mente-de-los-bebes-esta-serie-tiene-un-total-de-8-clases-3/
LOCATION:Family Resource Center at Los Ranchitos\, 2054 E Ginter Rd\, Tucson\, AZ\, 85706\, United States
CATEGORIES:All Caregivers,Families with Children Birth to Five
ATTACH;FMTTYPE=image/jpeg:https://pimaparenting.org/wp-content/uploads/2024/11/IY-at-SUSD-2.0.jpg
ORGANIZER;CN="Laura Ontiveros-EBF":MAILTO:lontiveros@blake.easterseals.com
END:VEVENT
BEGIN:VEVENT
DTSTART;TZID=America/Phoenix:20260430T103000
DTEND;TZID=America/Phoenix:20260430T113000
DTSTAMP:20260423T114121
CREATED:20260325T153918Z
LAST-MODIFIED:20260325T153918Z
UID:10004727-1777545000-1777548600@pimaparenting.org
SUMMARY:Sensory Exploration/ Exploración sensorial
DESCRIPTION:This class will expose your child to different colors\, shapes\, patterns\, materials and fabrics to feel help them accept so many transitions into this big world fill with experiences. \nEsta clase expondrá a su hijo a diferentes colores\, formas\, patrones\, materiales y telas para sentir que lo ayudan a aceptar tantas transiciones a este gran mundo lleno de experiencias.
URL:https://pimaparenting.org/event/sensory-exploration-exploracion-sensorial-20/
LOCATION:Family Resource Center at Robles Elementary\, 9875 S Sasabe Rd\, Tucson\, AZ\, 85736\, United States
CATEGORIES:Families with Children Birth to Five
ATTACH;FMTTYPE=image/jpeg:https://pimaparenting.org/wp-content/uploads/2024/11/Sensory-at-AVSD-2.0.jpg
ORGANIZER;CN="Laura Ontiveros-EBF":MAILTO:lontiveros@blake.easterseals.com
END:VEVENT
BEGIN:VEVENT
DTSTART;TZID=America/Phoenix:20260506T093000
DTEND;TZID=America/Phoenix:20260506T113000
DTSTAMP:20260423T114121
CREATED:20260324T214804Z
LAST-MODIFIED:20260324T214804Z
UID:10004680-1778059800-1778067000@pimaparenting.org
SUMMARY:AÑOS INCREÍBLES CLASE #6- Obtener Apoyo (Esta serie tiene un total de 8 clases)
DESCRIPTION:Este programa está especialmente diseñado para padres de bebés de 0 a 9 meses. Proporciona estrategias valiosas para mejorar sus habilidades de crianza mientras apoya el desarrollo social\, emocional\, físico y cognitivo de su bebé para un buen comienzo en la vida. \nSe ofrece cuidado infantil para niños que caminan hasta los 5 años de edad. \nClase 1: Resumen del Programa \nClase 2: Convertirse en Padre \nClase 3: Comunicarse con el Bebé \nClase 4: Estimulación Física y Visual \nClase 5: Leer la Mente de los Bebés \nClase 6: Obtener Apoyo \nClase 7: Surgimiento del Sentido de Sí Mismo \nClase 8: Graduación
URL:https://pimaparenting.org/event/anos-increibles-clase-6-obtener-apoyo-esta-serie-tiene-un-total-de-8-clases-3/
LOCATION:Family Resource Center at Los Ranchitos\, 2054 E Ginter Rd\, Tucson\, AZ\, 85706\, United States
CATEGORIES:All Caregivers,Families with Children Birth to Five
ATTACH;FMTTYPE=image/jpeg:https://pimaparenting.org/wp-content/uploads/2024/11/IY-at-SUSD-2.0.jpg
ORGANIZER;CN="Laura Ontiveros-EBF":MAILTO:lontiveros@blake.easterseals.com
END:VEVENT
BEGIN:VEVENT
DTSTART;TZID=America/Phoenix:20260513T093000
DTEND;TZID=America/Phoenix:20260513T110000
DTSTAMP:20260423T114121
CREATED:20260324T214849Z
LAST-MODIFIED:20260324T214849Z
UID:10004681-1778664600-1778670000@pimaparenting.org
SUMMARY:AÑOS INCREÍBLES CLASE #7- Surgimiento del Sentido de Sí Mismo (Esta serie tiene un total de 8 clases)
DESCRIPTION:Este programa está especialmente diseñado para padres de bebés de 0 a 9 meses. Proporciona estrategias valiosas para mejorar sus habilidades de crianza mientras apoya el desarrollo social\, emocional\, físico y cognitivo de su bebé para un buen comienzo en la vida. \nSe ofrece cuidado infantil para niños que caminan hasta los 5 años de edad. \nClase 1: Resumen del Programa \nClase 2: Convertirse en Padre \nClase 3: Comunicarse con el Bebé \nClase 4: Estimulación Física y Visual \nClase 5: Leer la Mente de los Bebés \nClase 6: Obtener Apoyo \nClase 7: Surgimiento del Sentido de Sí Mismo \nClase 8: Graduación
URL:https://pimaparenting.org/event/anos-increibles-clase-7-surgimiento-del-sentido-de-si-mismo-esta-serie-tiene-un-total-de-8-clases/
LOCATION:Family Resource Center at Los Ranchitos\, 2054 E Ginter Rd\, Tucson\, AZ\, 85706\, United States
CATEGORIES:All Caregivers,Families with Children Birth to Five
ATTACH;FMTTYPE=image/jpeg:https://pimaparenting.org/wp-content/uploads/2024/11/IY-at-SUSD-2.0.jpg
ORGANIZER;CN="Laura Ontiveros-EBF":MAILTO:lontiveros@blake.easterseals.com
END:VEVENT
BEGIN:VEVENT
DTSTART;TZID=America/Phoenix:20260518T153000
DTEND;TZID=America/Phoenix:20260518T163000
DTSTAMP:20260423T114121
CREATED:20260413T185454Z
LAST-MODIFIED:20260413T185454Z
UID:10004767-1779118200-1779121800@pimaparenting.org
SUMMARY:Snack Time Adventures
DESCRIPTION:Enjoy stories\, songs\, and activities related to food and snacks through sensory exploration and simple cooking activities. These experiences strengthen fine motor skills\, enhance language development\, encourage curiosity\, and help build healthy eating habits. \n 
URL:https://pimaparenting.org/event/snack-time-adventures-6/
LOCATION:Family Resource Center at Sahuarita Food Bank\, 17750 S. La Canada\, Sahuarita\, AZ\, 85629\, United States
CATEGORIES:Families with Children Birth to Five
ATTACH;FMTTYPE=image/jpeg:https://pimaparenting.org/wp-content/uploads/2024/03/EBF-logo.jpg
ORGANIZER;CN="Laura Ontiveros-EBF":MAILTO:lontiveros@blake.easterseals.com
END:VEVENT
BEGIN:VEVENT
DTSTART;TZID=America/Phoenix:20260520T093000
DTEND;TZID=America/Phoenix:20260520T113000
DTSTAMP:20260423T114121
CREATED:20260324T214927Z
LAST-MODIFIED:20260324T214927Z
UID:10004682-1779269400-1779276600@pimaparenting.org
SUMMARY:AÑOS INCREÍBLES CLASE #8- Graduación (Esta serie tiene un total de 8 clases)
DESCRIPTION:Este programa está especialmente diseñado para padres de bebés de 0 a 9 meses. Proporciona estrategias valiosas para mejorar sus habilidades de crianza mientras apoya el desarrollo social\, emocional\, físico y cognitivo de su bebé para un buen comienzo en la vida. \nSe ofrece cuidado infantil para niños que caminan hasta los 5 años de edad. \nClase 1: Resumen del Programa \nClase 2: Convertirse en Padre \nClase 3: Comunicarse con el Bebé \nClase 4: Estimulación Física y Visual \nClase 5: Leer la Mente de los Bebés \nClase 6: Obtener Apoyo \nClase 7: Surgimiento del Sentido de Sí Mismo \nClase 8: Graduación
URL:https://pimaparenting.org/event/anos-increibles-clase-8-graduacion-esta-serie-tiene-un-total-de-8-clases/
LOCATION:Family Resource Center at Los Ranchitos\, 2054 E Ginter Rd\, Tucson\, AZ\, 85706\, United States
CATEGORIES:All Caregivers,Families with Children Birth to Five
ATTACH;FMTTYPE=image/jpeg:https://pimaparenting.org/wp-content/uploads/2024/11/IY-at-SUSD-2.0.jpg
ORGANIZER;CN="Laura Ontiveros-EBF":MAILTO:lontiveros@blake.easterseals.com
END:VEVENT
BEGIN:VEVENT
DTSTART;TZID=America/Phoenix:20260528T103000
DTEND;TZID=America/Phoenix:20260528T113000
DTSTAMP:20260423T114121
CREATED:20260414T162859Z
LAST-MODIFIED:20260414T162859Z
UID:10004811-1779964200-1779967800@pimaparenting.org
SUMMARY:Snack Time Adventures/Aventuras a la hora de la merienda
DESCRIPTION:Enjoy stories\, songs\, and activities related to food and snacks through sensory exploration and simple cooking activities. These experiences strengthen fine motor skills\, enhance language development\, encourage curiosity\, and help build healthy eating habits. \nDisfrute de historias\, canciones y actividades relacionadas con la comida y los refrigerios a través de la exploración sensorial y actividades sencillas de cocina. fortalecer la motricidad fina\, potenciar el desarrollo del lenguaje\, fomentar la curiosidad y desarrollar hábitos alimenticios saludables.
URL:https://pimaparenting.org/event/snack-time-adventures-aventuras-a-la-hora-de-la-merienda-12/
LOCATION:Family Resource Center at Robles Elementary\, 9875 S Sasabe Rd\, Tucson\, AZ\, 85736\, United States
CATEGORIES:Families with Children Birth to Five
ATTACH;FMTTYPE=image/jpeg:https://pimaparenting.org/wp-content/uploads/2024/03/EBF-logo.jpg
ORGANIZER;CN="Laura Ontiveros-EBF":MAILTO:lontiveros@blake.easterseals.com
END:VEVENT
END:VCALENDAR