BEGIN:VCALENDAR
VERSION:2.0
PRODID:-//Pima County Parenting Coalition - ECPv6.15.16.1//NONSGML v1.0//EN
CALSCALE:GREGORIAN
METHOD:PUBLISH
X-WR-CALNAME:Pima County Parenting Coalition
X-ORIGINAL-URL:https://pimaparenting.org
X-WR-CALDESC:Events for Pima County Parenting Coalition
REFRESH-INTERVAL;VALUE=DURATION:PT1H
X-Robots-Tag:noindex
X-PUBLISHED-TTL:PT1H
BEGIN:VTIMEZONE
TZID:America/Phoenix
BEGIN:STANDARD
TZOFFSETFROM:-0700
TZOFFSETTO:-0700
TZNAME:MST
DTSTART:20240101T000000
END:STANDARD
END:VTIMEZONE
BEGIN:VEVENT
DTSTART;TZID=America/Phoenix:20260413T103000
DTEND;TZID=America/Phoenix:20260413T113000
DTSTAMP:20260423T094107
CREATED:20260324T161555Z
LAST-MODIFIED:20260324T161555Z
UID:10004662-1776076200-1776079800@pimaparenting.org
SUMMARY:Move and Groove Playtime
DESCRIPTION:This interactive class for children ages 2-5 and their parents. Through music\, dancing\, and playful movement\, kids develop coordination\, balance\, and creativity while strengthening their bond with parents. Colorful props and lively tunes make each session exciting and engaging\, promoting physical development and social skills in a safe\, supportive environment. Perfect for little ones who love to move and groove!
URL:https://pimaparenting.org/event/move-and-groove-playtime-18/
LOCATION:Family Resource Center at Los Ranchitos\, 2054 E Ginter Rd\, Tucson\, AZ\, 85706\, United States
CATEGORIES:Families with Children Birth to Five
ATTACH;FMTTYPE=image/jpeg:https://pimaparenting.org/wp-content/uploads/2024/11/UWTSA-Logo-2024-RBG.jpg
ORGANIZER;CN="Maggie McKiernan - UWTSA":MAILTO:mggqt.2010@gmail.com
END:VEVENT
BEGIN:VEVENT
DTSTART;TZID=America/Phoenix:20260410T140000
DTEND;TZID=America/Phoenix:20260410T150000
DTSTAMP:20260423T094107
CREATED:20260324T161458Z
LAST-MODIFIED:20260324T161458Z
UID:10004661-1775829600-1775833200@pimaparenting.org
SUMMARY:Move and Groove Playtime
DESCRIPTION:This interactive class for children ages 2-5 and their parents. Through music\, dancing\, and playful movement\, kids develop coordination\, balance\, and creativity while strengthening their bond with parents. Colorful props and lively tunes make each session exciting and engaging\, promoting physical development and social skills in a safe\, supportive environment. Perfect for little ones who love to move and groove!
URL:https://pimaparenting.org/event/move-and-groove-playtime-4/
LOCATION:Family Resource Center at Robles Elementary\, 9875 S Sasabe Rd\, Tucson\, AZ\, 85736\, United States
CATEGORIES:Families with Children Birth to Five
ATTACH;FMTTYPE=image/jpeg:https://pimaparenting.org/wp-content/uploads/2024/11/Family-Resource-Center-Logo-1.jpg
ORGANIZER;CN="Maggie McKiernan - UWTSA":MAILTO:mggqt.2010@gmail.com
END:VEVENT
BEGIN:VEVENT
DTSTART;TZID=America/Phoenix:20260316T103000
DTEND;TZID=America/Phoenix:20260316T113000
DTSTAMP:20260423T094107
CREATED:20260223T185624Z
LAST-MODIFIED:20260313T220354Z
UID:10004574-1773657000-1773660600@pimaparenting.org
SUMMARY:Move and Groove Playtime
DESCRIPTION:This interactive class for children ages 2-5 and their parents. Through music\, dancing\, and playful movement\, kids develop coordination\, balance\, and creativity while strengthening their bond with parents. Colorful props and lively tunes make each session exciting and engaging\, promoting physical development and social skills in a safe\, supportive environment. Perfect for little ones who love to move and groove!
URL:https://pimaparenting.org/event/move-and-groove-playtime-17/
LOCATION:Family Resource Center at Los Ranchitos\, 2054 E Ginter Rd\, Tucson\, AZ\, 85706\, United States
CATEGORIES:Families with Children Birth to Five
ATTACH;FMTTYPE=image/jpeg:https://pimaparenting.org/wp-content/uploads/2024/11/UWTSA-Logo-2024-RBG.jpg
ORGANIZER;CN="Maggie McKiernan - UWTSA":MAILTO:mggqt.2010@gmail.com
END:VEVENT
BEGIN:VEVENT
DTSTART;TZID=America/Phoenix:20260313T140000
DTEND;TZID=America/Phoenix:20260313T150000
DTSTAMP:20260423T094107
CREATED:20260223T185429Z
LAST-MODIFIED:20260224T211402Z
UID:10004573-1773410400-1773414000@pimaparenting.org
SUMMARY:Move and Groove Playtime
DESCRIPTION:This interactive class for children ages 2-5 and their parents. Through music\, dancing\, and playful movement\, kids develop coordination\, balance\, and creativity while strengthening their bond with parents. Colorful props and lively tunes make each session exciting and engaging\, promoting physical development and social skills in a safe\, supportive environment. Perfect for little ones who love to move and groove!
URL:https://pimaparenting.org/event/move-and-groove-playtime-3/
LOCATION:Family Resource Center at Robles Elementary\, 9875 S Sasabe Rd\, Tucson\, AZ\, 85736\, United States
CATEGORIES:Families with Children Birth to Five
ATTACH;FMTTYPE=image/jpeg:https://pimaparenting.org/wp-content/uploads/2024/11/Family-Resource-Center-Logo-1.jpg
ORGANIZER;CN="Maggie McKiernan - UWTSA":MAILTO:mggqt.2010@gmail.com
END:VEVENT
BEGIN:VEVENT
DTSTART;TZID=America/Phoenix:20260209T103000
DTEND;TZID=America/Phoenix:20260209T113000
DTSTAMP:20260423T094107
CREATED:20260118T223125Z
LAST-MODIFIED:20260118T223125Z
UID:10004403-1770633000-1770636600@pimaparenting.org
SUMMARY:Move and Groove Playtime
DESCRIPTION:This interactive class for children ages 2-5 and their parents. Through music\, dancing\, and playful movement\, kids develop coordination\, balance\, and creativity while strengthening their bond with parents. Colorful props and lively tunes make each session exciting and engaging\, promoting physical development and social skills in a safe\, supportive environment. Perfect for little ones who love to move and groove!
URL:https://pimaparenting.org/event/move-and-groove-playtime-2/
LOCATION:Family Resource Center at Los Ranchitos\, 2054 E Ginter Rd\, Tucson\, AZ\, 85706\, United States
CATEGORIES:Families with Children Birth to Five
ATTACH;FMTTYPE=image/jpeg:https://pimaparenting.org/wp-content/uploads/2024/11/Family-Resource-Center-Logo-1.jpg
ORGANIZER;CN="Maggie McKiernan - UWTSA":MAILTO:mggqt.2010@gmail.com
END:VEVENT
BEGIN:VEVENT
DTSTART;TZID=America/Phoenix:20260206T140000
DTEND;TZID=America/Phoenix:20260206T150000
DTSTAMP:20260423T094107
CREATED:20260118T223029Z
LAST-MODIFIED:20260118T223029Z
UID:10004402-1770386400-1770390000@pimaparenting.org
SUMMARY:Move and Groove Playtime
DESCRIPTION:This interactive class for children ages 2-5 and their parents. Through music\, dancing\, and playful movement\, kids develop coordination\, balance\, and creativity while strengthening their bond with parents. Colorful props and lively tunes make each session exciting and engaging\, promoting physical development and social skills in a safe\, supportive environment. Perfect for little ones who love to move and groove!
URL:https://pimaparenting.org/event/move-and-groove-playtime/
LOCATION:Family Resource Center at Robles Elementary\, 9875 S Sasabe Rd\, Tucson\, AZ\, 85736\, United States
CATEGORIES:Families with Children Birth to Five
ATTACH;FMTTYPE=image/jpeg:https://pimaparenting.org/wp-content/uploads/2024/11/Family-Resource-Center-Logo-1.jpg
ORGANIZER;CN="Maggie McKiernan - UWTSA":MAILTO:mggqt.2010@gmail.com
END:VEVENT
BEGIN:VEVENT
DTSTART;TZID=America/Phoenix:20260112T103000
DTEND;TZID=America/Phoenix:20260112T113000
DTSTAMP:20260423T094107
CREATED:20251219T220044Z
LAST-MODIFIED:20251219T220044Z
UID:10004267-1768213800-1768217400@pimaparenting.org
SUMMARY:Move and Groove Playtime
DESCRIPTION:This interactive class for children ages 2-5 and their parents. Through music\, dancing\, and playful movement\, kids develop coordination\, balance\, and creativity while strengthening their bond with parents. Colorful props and lively tunes make each session exciting and engaging\, promoting physical development and social skills in a safe\, supportive environment. Perfect for little ones who love to move and groove!
URL:https://pimaparenting.org/event/move-and-groove-playtime-15/
LOCATION:Family Resource Center at Los Ranchitos\, 2054 E Ginter Rd\, Tucson\, AZ\, 85706\, United States
CATEGORIES:Families with Children Birth to Five
ATTACH;FMTTYPE=image/jpeg:https://pimaparenting.org/wp-content/uploads/2024/11/Family-Resource-Center-Logo-1.jpg
ORGANIZER;CN="Maggie McKiernan - UWTSA":MAILTO:mggqt.2010@gmail.com
END:VEVENT
BEGIN:VEVENT
DTSTART;TZID=America/Phoenix:20260109T140000
DTEND;TZID=America/Phoenix:20260109T150000
DTSTAMP:20260423T094107
CREATED:20251219T220208Z
LAST-MODIFIED:20251219T220208Z
UID:10004269-1767967200-1767970800@pimaparenting.org
SUMMARY:Move and Groove Playtime
DESCRIPTION:This interactive class for children ages 2-5 and their parents. Through music\, dancing\, and playful movement\, kids develop coordination\, balance\, and creativity while strengthening their bond with parents. Colorful props and lively tunes make each session exciting and engaging\, promoting physical development and social skills in a safe\, supportive environment. Perfect for little ones who love to move and groove!
URL:https://pimaparenting.org/event/move-and-groove-playtime-16/
LOCATION:Family Resource Center at Robles Elementary\, 9875 S Sasabe Rd\, Tucson\, AZ\, 85736\, United States
CATEGORIES:Families with Children Birth to Five
ATTACH;FMTTYPE=image/jpeg:https://pimaparenting.org/wp-content/uploads/2024/11/Family-Resource-Center-Logo-1.jpg
ORGANIZER;CN="Maggie McKiernan - UWTSA":MAILTO:mggqt.2010@gmail.com
END:VEVENT
BEGIN:VEVENT
DTSTART;TZID=America/Phoenix:20251208T103000
DTEND;TZID=America/Phoenix:20251208T113000
DTSTAMP:20260423T094107
CREATED:20251121T165607Z
LAST-MODIFIED:20251121T165607Z
UID:10004163-1765189800-1765193400@pimaparenting.org
SUMMARY:Move and Groove Playtime
DESCRIPTION:This interactive class for children ages 2-5 and their parents. Through music\, dancing\, and playful movement\, kids develop coordination\, balance\, and creativity while strengthening their bond with parents. Colorful props and lively tunes make each session exciting and engaging\, promoting physical development and social skills in a safe\, supportive environment. Perfect for little ones who love to move and groove!
URL:https://pimaparenting.org/event/move-and-groove-playtime-13/
LOCATION:Family Resource Center at Los Ranchitos\, 2054 E Ginter Rd\, Tucson\, AZ\, 85706\, United States
CATEGORIES:Families with Children Birth to Five
ATTACH;FMTTYPE=image/jpeg:https://pimaparenting.org/wp-content/uploads/2024/11/Family-Resource-Center-Logo-1.jpg
ORGANIZER;CN="Maggie McKiernan - UWTSA":MAILTO:mggqt.2010@gmail.com
END:VEVENT
BEGIN:VEVENT
DTSTART;TZID=America/Phoenix:20251205T140000
DTEND;TZID=America/Phoenix:20251205T150000
DTSTAMP:20260423T094107
CREATED:20251121T165727Z
LAST-MODIFIED:20251121T165727Z
UID:10004164-1764943200-1764946800@pimaparenting.org
SUMMARY:Move and Groove Playtime
DESCRIPTION:This interactive class for children ages 2-5 and their parents. Through music\, dancing\, and playful movement\, kids develop coordination\, balance\, and creativity while strengthening their bond with parents. Colorful props and lively tunes make each session exciting and engaging\, promoting physical development and social skills in a safe\, supportive environment. Perfect for little ones who love to move and groove!
URL:https://pimaparenting.org/event/move-and-groove-playtime-14/
LOCATION:Family Resource Center at Robles Elementary\, 9875 S Sasabe Rd\, Tucson\, AZ\, 85736\, United States
CATEGORIES:Families with Children Birth to Five
ATTACH;FMTTYPE=image/jpeg:https://pimaparenting.org/wp-content/uploads/2024/11/Family-Resource-Center-Logo-1.jpg
ORGANIZER;CN="Maggie McKiernan - UWTSA":MAILTO:mggqt.2010@gmail.com
END:VEVENT
BEGIN:VEVENT
DTSTART;TZID=America/Phoenix:20251110T103000
DTEND;TZID=America/Phoenix:20251110T113000
DTSTAMP:20260423T094107
CREATED:20251013T235244Z
LAST-MODIFIED:20251013T235244Z
UID:10004058-1762770600-1762774200@pimaparenting.org
SUMMARY:Move and Groove Playtime
DESCRIPTION:This interactive class for children ages 2-5 and their parents. Through music\, dancing\, and playful movement\, kids\ndevelop coordination\, balance\, and creativity while strengthening their bond with parents. Colorful props and lively\ntunes make each session exciting and engaging\, promoting physical development and social skills in a safe\,\nsupportive environment. Perfect for little ones who love to move and groove!
URL:https://pimaparenting.org/event/move-and-groove-playtime-12/
LOCATION:Family Resource Center at Los Ranchitos\, 2054 E Ginter Rd\, Tucson\, AZ\, 85706\, United States
CATEGORIES:Families with Children Birth to Five
ATTACH;FMTTYPE=image/jpeg:https://pimaparenting.org/wp-content/uploads/2024/11/Family-Resource-Center-Logo-1.jpg
ORGANIZER;CN="Maggie McKiernan - UWTSA":MAILTO:mggqt.2010@gmail.com
END:VEVENT
BEGIN:VEVENT
DTSTART;TZID=America/Phoenix:20251107T140000
DTEND;TZID=America/Phoenix:20251107T150000
DTSTAMP:20260423T094107
CREATED:20251013T232220Z
LAST-MODIFIED:20251013T232220Z
UID:10004032-1762524000-1762527600@pimaparenting.org
SUMMARY:Move and Groove Playtime
DESCRIPTION:This interactive class for children ages 2-5 and their parents. Through music\, dancing\, and playful movement\, kids\ndevelop coordination\, balance\, and creativity while strengthening their bond with parents. Colorful props and lively\ntunes make each session exciting and engaging\, promoting physical development and social skills in a safe\,\nsupportive environment. Perfect for little ones who love to move and groove!
URL:https://pimaparenting.org/event/move-and-groove-playtime-11/
LOCATION:Family Resource Center at Robles Elementary\, 9875 S Sasabe Rd\, Tucson\, AZ\, 85736\, United States
CATEGORIES:Families with Children Birth to Five
ATTACH;FMTTYPE=image/jpeg:https://pimaparenting.org/wp-content/uploads/2024/11/Family-Resource-Center-Logo-1.jpg
ORGANIZER;CN="Maggie McKiernan - UWTSA":MAILTO:mggqt.2010@gmail.com
END:VEVENT
BEGIN:VEVENT
DTSTART;TZID=America/Phoenix:20251003T140000
DTEND;TZID=America/Phoenix:20251003T150000
DTSTAMP:20260423T094107
CREATED:20250913T233034Z
LAST-MODIFIED:20250914T131531Z
UID:10003806-1759500000-1759503600@pimaparenting.org
SUMMARY:Move and Groove Playtime
DESCRIPTION:This interactive class for children ages 2-5 and their parents. Through music\, dancing\, and playful movement\, kids\ndevelop coordination\, balance\, and creativity while strengthening their bond with parents. Colorful props and lively\ntunes make each session exciting and engaging\, promoting physical development and social skills in a safe\,\nsupportive environment. Perfect for little ones who love to move and groove!
URL:https://pimaparenting.org/event/move-and-groove-playtime-9/
LOCATION:Family Resource Center at Robles Elementary\, 9875 S Sasabe Rd\, Tucson\, AZ\, 85736\, United States
CATEGORIES:Families with Children Birth to Five
ATTACH;FMTTYPE=image/jpeg:https://pimaparenting.org/wp-content/uploads/2024/11/Family-Resource-Center-Logo-1.jpg
ORGANIZER;CN="Maggie McKiernan - UWTSA":MAILTO:mggqt.2010@gmail.com
END:VEVENT
BEGIN:VEVENT
DTSTART;TZID=America/Phoenix:20251001T103000
DTEND;TZID=America/Phoenix:20251001T113000
DTSTAMP:20260423T094107
CREATED:20250914T030040Z
LAST-MODIFIED:20250914T030040Z
UID:10003921-1759314600-1759318200@pimaparenting.org
SUMMARY:Move and Groove Playtime
DESCRIPTION:This interactive class for children ages 2-5 and their parents. Through music\, dancing\, and playful movement\, kids\ndevelop coordination\, balance\, and creativity while strengthening their bond with parents. Colorful props and lively\ntunes make each session exciting and engaging\, promoting physical development and social skills in a safe\,\nsupportive environment. Perfect for little ones who love to move and groove!
URL:https://pimaparenting.org/event/move-and-groove-playtime-10/
LOCATION:Family Resource Center at Los Ranchitos\, 2054 E Ginter Rd\, Tucson\, AZ\, 85706\, United States
CATEGORIES:Families with Children Birth to Five
ATTACH;FMTTYPE=image/jpeg:https://pimaparenting.org/wp-content/uploads/2024/11/Family-Resource-Center-Logo-1.jpg
ORGANIZER;CN="Maggie McKiernan - UWTSA":MAILTO:mggqt.2010@gmail.com
END:VEVENT
BEGIN:VEVENT
DTSTART;TZID=America/Phoenix:20250908T103000
DTEND;TZID=America/Phoenix:20250908T113000
DTSTAMP:20260423T094107
CREATED:20250818T192354Z
LAST-MODIFIED:20250818T192354Z
UID:10003775-1757327400-1757331000@pimaparenting.org
SUMMARY:Move and Groove Playtime
DESCRIPTION:This interactive class for children ages 2-5 and their parents. Through music\, dancing\, and playful movement\, kids\ndevelop coordination\, balance\, and creativity while strengthening their bond with parents. Colorful props and lively\ntunes make each session exciting and engaging\, promoting physical development and social skills in a safe\,\nsupportive environment. Perfect for little ones who love to move and groove!
URL:https://pimaparenting.org/event/move-and-groove-playtime-7/
LOCATION:Family Resource Center at Los Ranchitos\, 2054 E Ginter Rd\, Tucson\, AZ\, 85706\, United States
CATEGORIES:Families with Children Birth to Five
ATTACH;FMTTYPE=image/jpeg:https://pimaparenting.org/wp-content/uploads/2024/11/Family-Resource-Center-Logo-1.jpg
ORGANIZER;CN="Maggie McKiernan - UWTSA":MAILTO:mggqt.2010@gmail.com
END:VEVENT
BEGIN:VEVENT
DTSTART;TZID=America/Phoenix:20250905T140000
DTEND;TZID=America/Phoenix:20250905T150000
DTSTAMP:20260423T094107
CREATED:20250818T223442Z
LAST-MODIFIED:20250906T031207Z
UID:10003807-1757080800-1757084400@pimaparenting.org
SUMMARY:Move and Groove Playtime
DESCRIPTION:This interactive class for children ages 2-5 and their parents. Through music\, dancing\, and playful movement\, kids\ndevelop coordination\, balance\, and creativity while strengthening their bond with parents. Colorful props and lively\ntunes make each session exciting and engaging\, promoting physical development and social skills in a safe\,\nsupportive environment. Perfect for little ones who love to move and groove!
URL:https://pimaparenting.org/event/move-and-groove-playtime-8/
LOCATION:Family Resource Center at Robles Elementary\, 9875 S Sasabe Rd\, Tucson\, AZ\, 85736\, United States
CATEGORIES:Families with Children Birth to Five
ATTACH;FMTTYPE=image/jpeg:https://pimaparenting.org/wp-content/uploads/2024/11/Family-Resource-Center-Logo-1.jpg
ORGANIZER;CN="Maggie McKiernan - UWTSA":MAILTO:mggqt.2010@gmail.com
END:VEVENT
BEGIN:VEVENT
DTSTART;TZID=America/Phoenix:20250805T140000
DTEND;TZID=America/Phoenix:20250805T150000
DTSTAMP:20260423T094107
CREATED:20250716T215856Z
LAST-MODIFIED:20250716T220325Z
UID:10003595-1754402400-1754406000@pimaparenting.org
SUMMARY:Move and Groove Playtime
DESCRIPTION:This interactive class for children ages 2-5 and their parents. Through music\, dancing\, and playful movement\, kids\ndevelop coordination\, balance\, and creativity while strengthening their bond with parents. Colorful props and lively\ntunes make each session exciting and engaging\, promoting physical development and social skills in a safe\,\nsupportive environment. Perfect for little ones who love to move and groove!
URL:https://pimaparenting.org/event/move-and-groove-playtime-5/
LOCATION:Family Resource Center at Robles Elementary\, 9875 S Sasabe Rd\, Tucson\, AZ\, 85736\, United States
CATEGORIES:Families with Children Birth to Five
ATTACH;FMTTYPE=image/jpeg:https://pimaparenting.org/wp-content/uploads/2024/11/Family-Resource-Center-Logo-1.jpg
ORGANIZER;CN="Family Resource Center at Robles Elementary":MAILTO:dcordova@avsd.org
END:VEVENT
BEGIN:VEVENT
DTSTART;TZID=America/Phoenix:20250804T103000
DTEND;TZID=America/Phoenix:20250804T113000
DTSTAMP:20260423T094107
CREATED:20250717T043534Z
LAST-MODIFIED:20250717T043534Z
UID:10003667-1754303400-1754307000@pimaparenting.org
SUMMARY:Move and Groove Playtime
DESCRIPTION:This interactive class for children ages 2-5 and their parents. Through music\, dancing\, and playful movement\, kids\ndevelop coordination\, balance\, and creativity while strengthening their bond with parents. Colorful props and lively\ntunes make each session exciting and engaging\, promoting physical development and social skills in a safe\,\nsupportive environment. Perfect for little ones who love to move and groove!
URL:https://pimaparenting.org/event/move-and-groove-playtime-6/
LOCATION:Family Resource Center at Los Ranchitos\, 2054 E Ginter Rd\, Tucson\, AZ\, 85706\, United States
CATEGORIES:Families with Children Birth to Five
ATTACH;FMTTYPE=image/jpeg:https://pimaparenting.org/wp-content/uploads/2024/11/Family-Resource-Center-Logo-1.jpg
ORGANIZER;CN="Family Resource Center at Los Ranchitos":MAILTO:MyrnaL@susd12.org
END:VEVENT
END:VCALENDAR