BEGIN:VCALENDAR
VERSION:2.0
PRODID:-//Pima County Parenting Coalition - ECPv6.15.16.1//NONSGML v1.0//EN
CALSCALE:GREGORIAN
METHOD:PUBLISH
X-WR-CALNAME:Pima County Parenting Coalition
X-ORIGINAL-URL:https://pimaparenting.org
X-WR-CALDESC:Events for Pima County Parenting Coalition
REFRESH-INTERVAL;VALUE=DURATION:PT1H
X-Robots-Tag:noindex
X-PUBLISHED-TTL:PT1H
BEGIN:VTIMEZONE
TZID:America/Phoenix
BEGIN:STANDARD
TZOFFSETFROM:-0700
TZOFFSETTO:-0700
TZNAME:MST
DTSTART:20240101T000000
END:STANDARD
END:VTIMEZONE
BEGIN:VEVENT
DTSTART;TZID=America/Phoenix:20250904T130000
DTEND;TZID=America/Phoenix:20250904T140000
DTSTAMP:20260423T135514
CREATED:20250818T222955Z
LAST-MODIFIED:20250818T222955Z
UID:10003802-1756990800-1756994400@pimaparenting.org
SUMMARY:Fine Arts for Kids- Family Resource Center at Robles Elementary
DESCRIPTION:This fun and interactive class for children and their parents or caregivers is packed with creative activities designed to help little ones develop important life skills like focus\, self-control\, and communication—all while having a great time together!
URL:https://pimaparenting.org/event/fine-arts-for-kids-family-resource-center-at-robles-elementary/
LOCATION:Family Resource Center at Robles Elementary\, 9875 S Sasabe Rd\, Tucson\, AZ\, 85736\, United States
CATEGORIES:Families with Children Birth to Five
ATTACH;FMTTYPE=image/jpeg:https://pimaparenting.org/wp-content/uploads/2024/11/Fine-Arts-at-AVSD-2.0.jpg
ORGANIZER;CN="Nataly Quiroz- UACE":MAILTO:natalyquiroz@arizona.edu
END:VEVENT
BEGIN:VEVENT
DTSTART;TZID=America/Phoenix:20250827T103000
DTEND;TZID=America/Phoenix:20250827T113000
DTSTAMP:20260423T135514
CREATED:20250717T033511Z
LAST-MODIFIED:20250717T033511Z
UID:10003642-1756290600-1756294200@pimaparenting.org
SUMMARY:School Ready Stars: A Kinder Prep Class for Parents and Kids (ages 4-5 years old)
DESCRIPTION:This class for children (ages 4 – 5 years old) and parents/caregivers prepares children for school by sharpening their skills in the five domains of kindergarten readiness: cognitive\, adaptive\, communication\, motor skills\, and social/emotional. \nEsta clase para niños (edades de 4 a 5 años) y padres/cuidadores prepara a los niños para la escuela fortalizando sus habilidades en los cinco dominios de la preparación para el jardín de infantes.
URL:https://pimaparenting.org/event/school-ready-stars-a-kinder-prep-class-for-parents-and-kids-ages-4-5-years-old-11/
LOCATION:Family Resource Center at Sahuarita Food Bank\, 17750 S. La Canada\, Sahuarita\, AZ\, 85629\, United States
CATEGORIES:Families with Children Birth to Five
ATTACH;FMTTYPE=image/jpeg:https://pimaparenting.org/wp-content/uploads/2024/03/UA-FEP-logo.jpg
ORGANIZER;CN="Nataly Quiroz- UACE":MAILTO:natalyquiroz@arizona.edu
END:VEVENT
BEGIN:VEVENT
DTSTART;TZID=America/Phoenix:20250821T130000
DTEND;TZID=America/Phoenix:20250821T140000
DTSTAMP:20260423T135514
CREATED:20250717T030750Z
LAST-MODIFIED:20250717T030750Z
UID:10003623-1755781200-1755784800@pimaparenting.org
SUMMARY:Musical Expressions
DESCRIPTION:This class will encourage children to artistically express what they feel through music onto paper and through fun dance moves. Art and music invigorate young children’s minds to be creative\, imaginative\, expressive\, confident\, engaged and so much more!
URL:https://pimaparenting.org/event/musical-expressions-33/
LOCATION:Family Resource Center at Robles Elementary\, 9875 S Sasabe Rd\, Tucson\, AZ\, 85736\, United States
CATEGORIES:Families with Children Birth to Five
ATTACH;FMTTYPE=image/jpeg:https://pimaparenting.org/wp-content/uploads/2024/11/Music-Exp-at-AVSD-2.0.jpg
ORGANIZER;CN="Family Resource Center at Robles Elementary":MAILTO:dcordova@avsd.org
END:VEVENT
BEGIN:VEVENT
DTSTART;TZID=America/Phoenix:20250820T103000
DTEND;TZID=America/Phoenix:20250820T113000
DTSTAMP:20260423T135514
CREATED:20250717T033433Z
LAST-MODIFIED:20250717T033433Z
UID:10003641-1755685800-1755689400@pimaparenting.org
SUMMARY:School Ready Stars: A Kinder Prep Class for Parents and Kids (ages 4-5 years old)
DESCRIPTION:This class for children (ages 4 – 5 years old) and parents/caregivers prepares children for school by sharpening their skills in the five domains of kindergarten readiness: cognitive\, adaptive\, communication\, motor skills\, and social/emotional. \nEsta clase para niños (edades de 4 a 5 años) y padres/cuidadores prepara a los niños para la escuela fortalizando sus habilidades en los cinco dominios de la preparación para el jardín de infantes.
URL:https://pimaparenting.org/event/school-ready-stars-a-kinder-prep-class-for-parents-and-kids-ages-4-5-years-old-10/
LOCATION:Family Resource Center at Sahuarita Food Bank\, 17750 S. La Canada\, Sahuarita\, AZ\, 85629\, United States
CATEGORIES:Families with Children Birth to Five
ATTACH;FMTTYPE=image/jpeg:https://pimaparenting.org/wp-content/uploads/2024/03/UA-FEP-logo.jpg
ORGANIZER;CN="Nataly Quiroz- UACE":MAILTO:natalyquiroz@arizona.edu
END:VEVENT
BEGIN:VEVENT
DTSTART;TZID=America/Phoenix:20250814T130000
DTEND;TZID=America/Phoenix:20250814T140000
DTSTAMP:20260423T135514
CREATED:20250717T034800Z
LAST-MODIFIED:20250717T034800Z
UID:10003651-1755176400-1755180000@pimaparenting.org
SUMMARY:Musical Expressions
DESCRIPTION:This class will encourage children to artistically express what they feel through music onto paper and through fun dance moves. Art and music invigorate young children’s minds to be creative\, imaginative\, expressive\, confident\, engaged and so much more!
URL:https://pimaparenting.org/event/musical-expressions-34/
LOCATION:Family Resource Center at Sahuarita Food Bank\, 17750 S. La Canada\, Sahuarita\, AZ\, 85629\, United States
CATEGORIES:Families with Children Birth to Five
ATTACH;FMTTYPE=image/jpeg:https://pimaparenting.org/wp-content/uploads/2024/11/Music-Exp-at-SFB-2.0.jpg
ORGANIZER;CN="Nataly Quiroz- UACE":MAILTO:natalyquiroz@arizona.edu
END:VEVENT
BEGIN:VEVENT
DTSTART;TZID=America/Phoenix:20250813T103000
DTEND;TZID=America/Phoenix:20250813T113000
DTSTAMP:20260423T135514
CREATED:20250717T033355Z
LAST-MODIFIED:20250717T033355Z
UID:10003640-1755081000-1755084600@pimaparenting.org
SUMMARY:School Ready Stars: A Kinder Prep Class for Parents and Kids (ages 4-5 years old)
DESCRIPTION:This class for children (ages 4 – 5 years old) and parents/caregivers prepares children for school by sharpening their skills in the five domains of kindergarten readiness: cognitive\, adaptive\, communication\, motor skills\, and social/emotional. \nEsta clase para niños (edades de 4 a 5 años) y padres/cuidadores prepara a los niños para la escuela fortalizando sus habilidades en los cinco dominios de la preparación para el jardín de infantes.
URL:https://pimaparenting.org/event/school-ready-stars-a-kinder-prep-class-for-parents-and-kids-ages-4-5-years-old-9/
LOCATION:Family Resource Center at Sahuarita Food Bank\, 17750 S. La Canada\, Sahuarita\, AZ\, 85629\, United States
CATEGORIES:Families with Children Birth to Five
ATTACH;FMTTYPE=image/jpeg:https://pimaparenting.org/wp-content/uploads/2024/03/UA-FEP-logo.jpg
ORGANIZER;CN="Nataly Quiroz- UACE":MAILTO:natalyquiroz@arizona.edu
END:VEVENT
BEGIN:VEVENT
DTSTART;TZID=America/Phoenix:20250807T130000
DTEND;TZID=America/Phoenix:20250807T140000
DTSTAMP:20260423T135514
CREATED:20250717T132435Z
LAST-MODIFIED:20250717T132536Z
UID:10003693-1754571600-1754575200@pimaparenting.org
SUMMARY:Musical Expressions/Expresiones Musicales
DESCRIPTION:This class will encourage children to artistically express what they feel through music onto paper and through fun dance moves. Art and music invigorate young children’s minds to be creative\, imaginative\, expressive\, confident\, engaged and so much more! \nEsta clase animará a los niños a expresarse artísticamente a través de la música en papel y mediante divertidos movimientos de baile. El arte y la música invigorizan la mente de los niños pequeños para ser creativos\, imaginativos\, expresivos\, seguros\, comprometidos y mucho más.
URL:https://pimaparenting.org/event/musical-expressions-expresiones-musicales/
LOCATION:Family Resource Center at Los Ranchitos\, 2054 E Ginter Rd\, Tucson\, AZ\, 85706\, United States
CATEGORIES:Families with Children Birth to Five
ATTACH;FMTTYPE=image/jpeg:https://pimaparenting.org/wp-content/uploads/2024/11/Music-Exp-at-SUSD-2.0.jpg
ORGANIZER;CN="Nataly Quiroz- UACE":MAILTO:natalyquiroz@arizona.edu
END:VEVENT
BEGIN:VEVENT
DTSTART;TZID=America/Phoenix:20250806T103000
DTEND;TZID=America/Phoenix:20250806T113000
DTSTAMP:20260423T135514
CREATED:20250717T033307Z
LAST-MODIFIED:20250717T033307Z
UID:10003639-1754476200-1754479800@pimaparenting.org
SUMMARY:School Ready Stars: A Kinder Prep Class for Parents and Kids (ages 4-5 years old)
DESCRIPTION:This class for children (ages 4 – 5 years old) and parents/caregivers prepares children for school by sharpening their skills in the five domains of kindergarten readiness: cognitive\, adaptive\, communication\, motor skills\, and social/emotional. \nEsta clase para niños (edades de 4 a 5 años) y padres/cuidadores prepara a los niños para la escuela fortalizando sus habilidades en los cinco dominios de la preparación para el jardín de infantes.
URL:https://pimaparenting.org/event/school-ready-stars-a-kinder-prep-class-for-parents-and-kids-ages-4-5-years-old-8/
LOCATION:Family Resource Center at Sahuarita Food Bank\, 17750 S. La Canada\, Sahuarita\, AZ\, 85629\, United States
CATEGORIES:Families with Children Birth to Five
ATTACH;FMTTYPE=image/jpeg:https://pimaparenting.org/wp-content/uploads/2024/03/UA-FEP-logo.jpg
ORGANIZER;CN="Nataly Quiroz- UACE":MAILTO:natalyquiroz@arizona.edu
END:VEVENT
BEGIN:VEVENT
DTSTART;TZID=America/Phoenix:20250731T103000
DTEND;TZID=America/Phoenix:20250731T113000
DTSTAMP:20260423T135514
CREATED:20250617T213901Z
LAST-MODIFIED:20250617T213901Z
UID:10003532-1753957800-1753961400@pimaparenting.org
SUMMARY:Musical Expressions
DESCRIPTION:This class will encourage children to artistically express what they feel through music onto paper and through fun dance moves. Art and music invigorate young children’s minds to be creative\, imaginative\, expressive\, confident\, engaged and so much more!
URL:https://pimaparenting.org/event/musical-expressions-31/
LOCATION:Family Resource Center at Robles Elementary\, 9875 S Sasabe Rd\, Tucson\, AZ\, 85736\, United States
CATEGORIES:Families with Children Birth to Five
ATTACH;FMTTYPE=image/jpeg:https://pimaparenting.org/wp-content/uploads/2024/11/Music-Exp-at-AVSD-2.0.jpg
ORGANIZER;CN="Family Resource Center at Robles Elementary":MAILTO:dcordova@avsd.org
END:VEVENT
BEGIN:VEVENT
DTSTART;TZID=America/Phoenix:20250730T103000
DTEND;TZID=America/Phoenix:20250730T113000
DTSTAMP:20260423T135514
CREATED:20250609T235523Z
LAST-MODIFIED:20250714T181736Z
UID:10003512-1753871400-1753875000@pimaparenting.org
SUMMARY:Fine Arts for Kids
DESCRIPTION:This fun and interactive class for children and their parents or caregivers is packed with creative activities designed to help little ones develop important life skills like focus\, self-control\, and communication—all while having a great time together!
URL:https://pimaparenting.org/event/fine-arts-for-kids-35/
LOCATION:Family Resource Center at Sahuarita Food Bank\, 17750 S. La Canada\, Sahuarita\, AZ\, 85629\, United States
CATEGORIES:Families with Children Birth to Five
ATTACH;FMTTYPE=image/jpeg:https://pimaparenting.org/wp-content/uploads/2024/11/Fine-Arts-at-SFB-2.0.jpg
ORGANIZER;CN="Family Resource Center at Sahuarita Food Bank":MAILTO:irodela@sfb-crc.org
END:VEVENT
BEGIN:VEVENT
DTSTART;TZID=America/Phoenix:20250730T090000
DTEND;TZID=America/Phoenix:20250730T100000
DTSTAMP:20260423T135514
CREATED:20250618T182307Z
LAST-MODIFIED:20250618T182307Z
UID:10003541-1753866000-1753869600@pimaparenting.org
SUMMARY:School Ready Stars: A Kinder Prep Class for Parents and Kids (ages 4-5 years old)
DESCRIPTION:This class for children (ages 4 – 5 years old) and parents/caregivers prepares children for school by sharpening their skills in the five domains of kindergarten readiness: cognitive\, adaptive\, communication\, motor skills\, and social/emotional. \nEsta clase para niños (edades de 4 a 5 años) y padres/cuidadores prepara a los niños para la escuela fortalizando sus habilidades en los cinco dominios de la preparación para el jardín de infantes.
URL:https://pimaparenting.org/event/school-ready-stars-a-kinder-prep-class-for-parents-and-kids-ages-4-5-years-old-3/
LOCATION:Family Resource Center at Los Ranchitos\, 2054 E Ginter Rd\, Tucson\, AZ\, 85706\, United States
CATEGORIES:Families with Children Birth to Five
ATTACH;FMTTYPE=image/jpeg:https://pimaparenting.org/wp-content/uploads/2024/03/UA-FEP-logo.jpg
ORGANIZER;CN="Nataly Quiroz- UACE":MAILTO:natalyquiroz@arizona.edu
END:VEVENT
END:VCALENDAR