BEGIN:VCALENDAR
VERSION:2.0
PRODID:-//Pima County Parenting Coalition - ECPv6.15.16.1//NONSGML v1.0//EN
CALSCALE:GREGORIAN
METHOD:PUBLISH
X-ORIGINAL-URL:https://pimaparenting.org
X-WR-CALDESC:Events for Pima County Parenting Coalition
REFRESH-INTERVAL;VALUE=DURATION:PT1H
X-Robots-Tag:noindex
X-PUBLISHED-TTL:PT1H
BEGIN:VTIMEZONE
TZID:America/Phoenix
BEGIN:STANDARD
TZOFFSETFROM:-0700
TZOFFSETTO:-0700
TZNAME:MST
DTSTART:20240101T000000
END:STANDARD
END:VTIMEZONE
BEGIN:VEVENT
DTSTART;TZID=America/Phoenix:20250919T093000
DTEND;TZID=America/Phoenix:20250919T110000
DTSTAMP:20260423T171000
CREATED:20250818T215639Z
LAST-MODIFIED:20250818T215639Z
UID:10003791-1758274200-1758279600@pimaparenting.org
SUMMARY:CAFECITO GRUPO DE CRIANZA COMPARTIDA
DESCRIPTION:Un grupo de apoyo para madres que se adaptan a las demandas físicas\, emocionales y relacionales de la maternidad. Convertirse en madres es un cambio significativo en la vida. Muchas mujeres experimentan complicaciones emocionales perinatales que afectan a toda la familia. Contar con el apoyo de profesionales y compañeros puede facilitar la transición.
URL:https://pimaparenting.org/event/cafecito-grupo-de-crianza-compartida-2/
LOCATION:Family Resource Center at Los Ranchitos\, 2054 E Ginter Rd\, Tucson\, AZ\, 85706\, United States
CATEGORIES:Families with Children Birth to Five
ATTACH;FMTTYPE=image/jpeg:https://pimaparenting.org/wp-content/uploads/2024/11/Casa3-at-SUSD-2.0.jpg
ORGANIZER;CN="Terry Wilson -CDLN":MAILTO:teresa6@mindspring.com
END:VEVENT
BEGIN:VEVENT
DTSTART;TZID=America/Phoenix:20250915T103000
DTEND;TZID=America/Phoenix:20250915T120000
DTSTAMP:20260423T171000
CREATED:20250815T173443Z
LAST-MODIFIED:20250915T164317Z
UID:10003745-1757932200-1757937600@pimaparenting.org
SUMMARY:Postpartum Support Group
DESCRIPTION:A support group for mothers adjusting to the physical\, emotional and relational demands of new parenthood. Becoming a parent is a significant life change. Many women experience perinatal emotional complications that affect the whole family. Having support from professionals and peers can make the transition easier.
URL:https://pimaparenting.org/event/postpartum-support-group-9/
LOCATION:Family Resource Center at Sahuarita Food Bank\, 17750 S. La Canada\, Sahuarita\, AZ\, 85629\, United States
CATEGORIES:Families with Children Birth to Five
ATTACH;FMTTYPE=image/jpeg:https://pimaparenting.org/wp-content/uploads/2024/11/Casa3-at-SFB-2.0.jpg
ORGANIZER;CN="Terry Wilson -CDLN":MAILTO:teresa6@mindspring.com
END:VEVENT
BEGIN:VEVENT
DTSTART;TZID=America/Phoenix:20250905T100000
DTEND;TZID=America/Phoenix:20250905T113000
DTSTAMP:20260423T171000
CREATED:20250815T231757Z
LAST-MODIFIED:20250815T231757Z
UID:10003774-1757066400-1757071800@pimaparenting.org
SUMMARY:CAFECITO GRUPO DE CRIANZA COMPARTIDA
DESCRIPTION:Un grupo de apoyo para madres que se adaptan a las demandas físicas\, emocionales y relacionales de la maternidad. Convertirse en madres es un cambio significativo en la vida. Muchas mujeres experimentan complicaciones emocionales perinatales que afectan a toda la familia. Contar con el apoyo de profesionales y compañeros puede facilitar la transición.
URL:https://pimaparenting.org/event/cafecito-grupo-de-crianza-compartida/
LOCATION:Family Resource Center at Los Ranchitos\, 2054 E Ginter Rd\, Tucson\, AZ\, 85706\, United States
CATEGORIES:Families with Children Birth to Five
ATTACH;FMTTYPE=image/jpeg:https://pimaparenting.org/wp-content/uploads/2024/11/Casa3-at-SUSD-2.0.jpg
ORGANIZER;CN="Terry Wilson -CDLN":MAILTO:teresa6@mindspring.com
END:VEVENT
BEGIN:VEVENT
DTSTART;TZID=America/Phoenix:20250825T103000
DTEND;TZID=America/Phoenix:20250825T120000
DTSTAMP:20260423T171000
CREATED:20250717T034701Z
LAST-MODIFIED:20250717T034701Z
UID:10003650-1756117800-1756123200@pimaparenting.org
SUMMARY:Postpartum Support Group
DESCRIPTION:A support group for mothers adjusting to the physical\, emotional and relational demands of new parenthood. Becoming a parent is a significant life change. Many women experience perinatal emotional complications that affect the whole family. Having support from professionals and peers can make the transition easier.
URL:https://pimaparenting.org/event/postpartum-support-group-8/
LOCATION:Family Resource Center at Sahuarita Food Bank\, 17750 S. La Canada\, Sahuarita\, AZ\, 85629\, United States
CATEGORIES:Families with Children Birth to Five
ATTACH;FMTTYPE=image/jpeg:https://pimaparenting.org/wp-content/uploads/2024/11/Casa3-at-SFB-2.0.jpg
ORGANIZER;CN="Casa de los Ninos":MAILTO:cbolger@casadelosninos.org
END:VEVENT
BEGIN:VEVENT
DTSTART;TZID=America/Phoenix:20250815T100000
DTEND;TZID=America/Phoenix:20250815T113000
DTSTAMP:20260423T171000
CREATED:20250717T043421Z
LAST-MODIFIED:20250717T043421Z
UID:10003666-1755252000-1755257400@pimaparenting.org
SUMMARY:GRUPO DE CRIANZA COMPARTIDA: CHARLA ENTRE MADRES
DESCRIPTION:Un grupo de apoyo para madres que se adaptan a las demandas físicas\, emocionales y relacionales de la maternidad. Convertirse en madres es un cambio significativo en la vida. Muchas mujeres experimentan complicaciones emocionales perinatales que afectan a toda la familia. Contar con el apoyo de profesionales y compañeros puede facilitar la transición.
URL:https://pimaparenting.org/event/grupo-de-crianza-compartida-charla-entre-madres-4/
LOCATION:Family Resource Center at Los Ranchitos\, 2054 E Ginter Rd\, Tucson\, AZ\, 85706\, United States
CATEGORIES:Families with Children Birth to Five
ATTACH;FMTTYPE=image/jpeg:https://pimaparenting.org/wp-content/uploads/2024/11/Casa3-at-SUSD-2.0.jpg
ORGANIZER;CN="Casa de los Ninos":MAILTO:cbolger@casadelosninos.org
END:VEVENT
BEGIN:VEVENT
DTSTART;TZID=America/Phoenix:20250814T103000
DTEND;TZID=America/Phoenix:20250814T120000
DTSTAMP:20260423T171000
CREATED:20250717T034529Z
LAST-MODIFIED:20250717T034529Z
UID:10003649-1755167400-1755172800@pimaparenting.org
SUMMARY:Postpartum Support Group
DESCRIPTION:A support group for mothers adjusting to the physical\, emotional and relational demands of new parenthood. Becoming a parent is a significant life change. Many women experience perinatal emotional complications that affect the whole family. Having support from professionals and peers can make the transition easier.
URL:https://pimaparenting.org/event/postpartum-support-group-7/
LOCATION:Family Resource Center at Sahuarita Food Bank\, 17750 S. La Canada\, Sahuarita\, AZ\, 85629\, United States
CATEGORIES:Families with Children Birth to Five
ATTACH;FMTTYPE=image/jpeg:https://pimaparenting.org/wp-content/uploads/2024/11/Casa3-at-SFB-2.0.jpg
ORGANIZER;CN="Casa de los Ninos":MAILTO:cbolger@casadelosninos.org
END:VEVENT
BEGIN:VEVENT
DTSTART;TZID=America/Phoenix:20250801T100000
DTEND;TZID=America/Phoenix:20250801T113000
DTSTAMP:20260423T171000
CREATED:20250717T043302Z
LAST-MODIFIED:20250717T043302Z
UID:10003665-1754042400-1754047800@pimaparenting.org
SUMMARY:GRUPO DE CRIANZA COMPARTIDA: CHARLA ENTRE MADRES
DESCRIPTION:Un grupo de apoyo para madres que se adaptan a las demandas físicas\, emocionales y relacionales de la maternidad. Convertirse en madres es un cambio significativo en la vida. Muchas mujeres experimentan complicaciones emocionales perinatales que afectan a toda la familia. Contar con el apoyo de profesionales y compañeros puede facilitar la transición.
URL:https://pimaparenting.org/event/grupo-de-crianza-compartida-charla-entre-madres-3/
LOCATION:Family Resource Center at Los Ranchitos\, 2054 E Ginter Rd\, Tucson\, AZ\, 85706\, United States
CATEGORIES:Families with Children Birth to Five
ATTACH;FMTTYPE=image/jpeg:https://pimaparenting.org/wp-content/uploads/2024/11/Casa3-at-SUSD-2.0.jpg
ORGANIZER;CN="Casa de los Ninos":MAILTO:cbolger@casadelosninos.org
END:VEVENT
BEGIN:VEVENT
DTSTART;TZID=America/Phoenix:20250728T100000
DTEND;TZID=America/Phoenix:20250728T113000
DTSTAMP:20260423T171000
CREATED:20250618T194601Z
LAST-MODIFIED:20250618T194601Z
UID:10003550-1753696800-1753702200@pimaparenting.org
SUMMARY:GRUPO DE CRIANZA COMPARTIDA: CHARLA ENTRE MADRES
DESCRIPTION:Un grupo de apoyo para madres que se adaptan a las demandas físicas\, emocionales y relacionales de la maternidad. Convertirse en madres es un cambio significativo en la vida. Muchas mujeres experimentan complicaciones emocionales perinatales que afectan a toda la familia. Contar con el apoyo de profesionales y compañeros puede facilitar la transición.
URL:https://pimaparenting.org/event/grupo-de-crianza-compartida-charla-entre-madres-2/
LOCATION:Family Resource Center at Los Ranchitos\, 2054 E Ginter Rd\, Tucson\, AZ\, 85706\, United States
CATEGORIES:Families with Children Birth to Five
ATTACH;FMTTYPE=image/jpeg:https://pimaparenting.org/wp-content/uploads/2024/11/Casa3-at-SUSD-2.0.jpg
ORGANIZER;CN="Casa de los Ninos":MAILTO:cbolger@casadelosninos.org
END:VEVENT
BEGIN:VEVENT
DTSTART;TZID=America/Phoenix:20250724T103000
DTEND;TZID=America/Phoenix:20250724T120000
DTSTAMP:20260423T171000
CREATED:20250612T224302Z
LAST-MODIFIED:20250613T172045Z
UID:10003521-1753353000-1753358400@pimaparenting.org
SUMMARY:Postpartum Support Group
DESCRIPTION:A support group for mothers adjusting to the physical\, emotional and relational demands of new parenthood. Becoming a parent is a significant life change. Many women experience perinatal emotional complications that affect the whole family. Having support from professionals and peers can make the transition easier.
URL:https://pimaparenting.org/event/postpartum-support-group-6/
LOCATION:Family Resource Center at Sahuarita Food Bank\, 17750 S. La Canada\, Sahuarita\, AZ\, 85629\, United States
CATEGORIES:Families with Children Birth to Five
ATTACH;FMTTYPE=image/jpeg:https://pimaparenting.org/wp-content/uploads/2024/11/Casa3-at-SFB-2.0.jpg
ORGANIZER;CN="Casa de los Ninos":MAILTO:cbolger@casadelosninos.org
END:VEVENT
END:VCALENDAR