BEGIN:VCALENDAR
VERSION:2.0
PRODID:-//Pima County Parenting Coalition - ECPv6.15.16.1//NONSGML v1.0//EN
CALSCALE:GREGORIAN
METHOD:PUBLISH
X-ORIGINAL-URL:https://pimaparenting.org
X-WR-CALDESC:Events for Pima County Parenting Coalition
REFRESH-INTERVAL;VALUE=DURATION:PT1H
X-Robots-Tag:noindex
X-PUBLISHED-TTL:PT1H
BEGIN:VTIMEZONE
TZID:America/Phoenix
BEGIN:STANDARD
TZOFFSETFROM:-0700
TZOFFSETTO:-0700
TZNAME:MST
DTSTART:20240101T000000
END:STANDARD
END:VTIMEZONE
BEGIN:VEVENT
DTSTART;TZID=America/Phoenix:20260219T173000
DTEND;TZID=America/Phoenix:20260219T193000
DTSTAMP:20260423T135529
CREATED:20260119T001614Z
LAST-MODIFIED:20260119T001614Z
UID:10004457-1771522200-1771529400@pimaparenting.org
SUMMARY:Desarrollando Empatía en Niños - Clase Virtual en Español
DESCRIPTION:Este tema es del Programa de Crianza Saludable. \nEl objetivo de esta clase es aprender estrategias para aumentar las habilidades de los niños para cuidar. \nRegístrate en Desarrollar La Moral\, Los Valores y Las Reglas Familiares ⋆ Casa de los Niños
URL:https://pimaparenting.org/event/desarrollando-empatia-en-ninos-clase-virtual-en-espanol-6/
LOCATION:Family Resource Center at Sahuarita Food Bank\, 17750 S. La Canada\, Sahuarita\, AZ\, 85629\, United States
CATEGORIES:Families with Children Birth to Five
ATTACH;FMTTYPE=image/jpeg:https://pimaparenting.org/wp-content/uploads/2024/11/Casa2-at-SFB-2.0.jpg
ORGANIZER;CN="Vanessa Villegas-CDLN":MAILTO:vanessac@casadelosninos.org
END:VEVENT
BEGIN:VEVENT
DTSTART;TZID=America/Phoenix:20260219T173000
DTEND;TZID=America/Phoenix:20260219T193000
DTSTAMP:20260423T135529
CREATED:20260119T001404Z
LAST-MODIFIED:20260119T001632Z
UID:10004454-1771522200-1771529400@pimaparenting.org
SUMMARY:Desarrollando Empatía en Niños - Clase Virtual en Español
DESCRIPTION:Este tema es del Programa de Crianza Saludable. \nEl objetivo de esta clase es aprender estrategias para aumentar las habilidades de los niños para cuidar. \nRegístrate en Desarrollar La Moral\, Los Valores y Las Reglas Familiares ⋆ Casa de los Niños
URL:https://pimaparenting.org/event/desarrollando-empatia-en-ninos-clase-virtual-en-espanol-4/
LOCATION:Family Resource Center at Los Ranchitos\, 2054 E Ginter Rd\, Tucson\, AZ\, 85706\, United States
CATEGORIES:Families with Children Birth to Five
ATTACH;FMTTYPE=image/jpeg:https://pimaparenting.org/wp-content/uploads/2024/11/Casa2-at-SUSD-2.0.jpg
ORGANIZER;CN="Vanessa Villegas-CDLN":MAILTO:vanessac@casadelosninos.org
END:VEVENT
BEGIN:VEVENT
DTSTART;TZID=America/Phoenix:20250923T173000
DTEND;TZID=America/Phoenix:20250923T193000
DTSTAMP:20260423T135529
CREATED:20250815T172926Z
LAST-MODIFIED:20250815T172926Z
UID:10003744-1758648600-1758655800@pimaparenting.org
SUMMARY:Let’s Talk “Time-Out”- VIRTUAL CLASS
DESCRIPTION:This topic is from the Nurturing Parenting Program. \nThis class will discuss what Time-Out is and when to use this technique. \nTime-Out is a temporary isolation from positive reinforcement of a child from others\, when a child chooses to act out inappropriately\, and places them in a non-reinforcing environment. \nTime-Out can be voluntary or involuntary. \nRegister at Let’s Talk “Time-Out” ⋆ Casa de los Niños
URL:https://pimaparenting.org/event/lets-talk-time-out-virtual-class-3/
LOCATION:Family Resource Center at Robles Elementary\, 9875 S Sasabe Rd\, Tucson\, AZ\, 85736\, United States
CATEGORIES:Families with Children Birth to Five
ATTACH;FMTTYPE=image/jpeg:https://pimaparenting.org/wp-content/uploads/2024/11/Casa4-at-AVSD-2.0.jpg
ORGANIZER;CN="Vanessa Villegas-CDLN":MAILTO:vanessac@casadelosninos.org
END:VEVENT
BEGIN:VEVENT
DTSTART;TZID=America/Phoenix:20250923T173000
DTEND;TZID=America/Phoenix:20250923T193000
DTSTAMP:20260423T135529
CREATED:20250815T172811Z
LAST-MODIFIED:20250815T173011Z
UID:10003743-1758648600-1758655800@pimaparenting.org
SUMMARY:Let’s Talk “Time-Out”- VIRTUAL CLASS
DESCRIPTION:This topic is from the Nurturing Parenting Program. \nThis class will discuss what Time-Out is and when to use this technique. \nTime-Out is a temporary isolation from positive reinforcement of a child from others\, when a child chooses to act out inappropriately\, and places them in a non-reinforcing environment. \nTime-Out can be voluntary or involuntary. \nRegister at Let’s Talk “Time-Out” ⋆ Casa de los Niños
URL:https://pimaparenting.org/event/lets-talk-time-out-virtual-class-2/
LOCATION:Family Resource Center at Los Ranchitos\, 2054 E Ginter Rd\, Tucson\, AZ\, 85706\, United States
CATEGORIES:Families with Children Birth to Five
ATTACH;FMTTYPE=image/jpeg:https://pimaparenting.org/wp-content/uploads/2024/11/Casa4-at-SUSD-2.0.jpg
ORGANIZER;CN="Vanessa Villegas-CDLN":MAILTO:vanessac@casadelosninos.org
END:VEVENT
BEGIN:VEVENT
DTSTART;TZID=America/Phoenix:20250923T173000
DTEND;TZID=America/Phoenix:20250923T193000
DTSTAMP:20260423T135529
CREATED:20250815T172702Z
LAST-MODIFIED:20250815T172702Z
UID:10003742-1758648600-1758655800@pimaparenting.org
SUMMARY:Let’s Talk “Time-Out”- VIRTUAL CLASS
DESCRIPTION:This topic is from the Nurturing Parenting Program. \nThis class will discuss what Time-Out is and when to use this technique. \nTime-Out is a temporary isolation from positive reinforcement of a child from others\, when a child chooses to act out inappropriately\, and places them in a non-reinforcing environment. \nTime-Out can be voluntary or involuntary. \nRegister at Let’s Talk “Time-Out” ⋆ Casa de los Niños
URL:https://pimaparenting.org/event/lets-talk-time-out-virtual-class/
LOCATION:Family Resource Center at Sahuarita Food Bank\, 17750 S. La Canada\, Sahuarita\, AZ\, 85629\, United States
CATEGORIES:Families with Children Birth to Five
ATTACH;FMTTYPE=image/jpeg:https://pimaparenting.org/wp-content/uploads/2024/11/Casa4-at-SFB-2.0.jpg
ORGANIZER;CN="Vanessa Villegas-CDLN":MAILTO:vanessac@casadelosninos.org
END:VEVENT
BEGIN:VEVENT
DTSTART;TZID=America/Phoenix:20250909T173000
DTEND;TZID=America/Phoenix:20250909T193000
DTSTAMP:20260423T135529
CREATED:20250815T162558Z
LAST-MODIFIED:20250815T162558Z
UID:10003737-1757439000-1757446200@pimaparenting.org
SUMMARY:Developing Empathy in Children- VIRTUAL CLASS
DESCRIPTION:This topic is from the Nurturing Parenting Program. \nThe goal of this class is to learn strategies to increase children’s abilities to care. \nRegister at Developing Empathy in Children ⋆ Casa de los Niños
URL:https://pimaparenting.org/event/developing-empathy-in-children-virtual-class-6/
LOCATION:Family Resource Center at Sahuarita Food Bank\, 17750 S. La Canada\, Sahuarita\, AZ\, 85629\, United States
CATEGORIES:Families with Children Birth to Five
ATTACH;FMTTYPE=image/jpeg:https://pimaparenting.org/wp-content/uploads/2024/11/Casa2-at-SFB-2.0.jpg
ORGANIZER;CN="Vanessa Villegas-CDLN":MAILTO:vanessac@casadelosninos.org
END:VEVENT
BEGIN:VEVENT
DTSTART;TZID=America/Phoenix:20250909T173000
DTEND;TZID=America/Phoenix:20250909T193000
DTSTAMP:20260423T135529
CREATED:20250815T162457Z
LAST-MODIFIED:20250815T162457Z
UID:10003736-1757439000-1757446200@pimaparenting.org
SUMMARY:Developing Empathy in Children- VIRTUAL CLASS
DESCRIPTION:This topic is from the Nurturing Parenting Program. \nThe goal of this class is to learn strategies to increase children’s abilities to care. \nRegister at Developing Empathy in Children ⋆ Casa de los Niños
URL:https://pimaparenting.org/event/developing-empathy-in-children-virtual-class-5/
LOCATION:Family Resource Center at Robles Elementary\, 9875 S Sasabe Rd\, Tucson\, AZ\, 85736\, United States
CATEGORIES:Families with Children Birth to Five
ATTACH;FMTTYPE=image/jpeg:https://pimaparenting.org/wp-content/uploads/2024/11/Casa2-at-AVSD-2.0.jpg
ORGANIZER;CN="Vanessa Villegas-CDLN":MAILTO:vanessac@casadelosninos.org
END:VEVENT
BEGIN:VEVENT
DTSTART;TZID=America/Phoenix:20250909T173000
DTEND;TZID=America/Phoenix:20250909T193000
DTSTAMP:20260423T135529
CREATED:20250815T162048Z
LAST-MODIFIED:20250815T162404Z
UID:10003735-1757439000-1757446200@pimaparenting.org
SUMMARY:Developing Empathy in Children- VIRTUAL CLASS
DESCRIPTION:This topic is from the Nurturing Parenting Program. \nThe goal of this class is to learn strategies to increase children’s abilities to care. \nRegister at Developing Empathy in Children ⋆ Casa de los Niños
URL:https://pimaparenting.org/event/developing-empathy-in-children-virtual-class-4/
LOCATION:Family Resource Center at Los Ranchitos\, 2054 E Ginter Rd\, Tucson\, AZ\, 85706\, United States
CATEGORIES:Families with Children Birth to Five
ATTACH;FMTTYPE=image/jpeg:https://pimaparenting.org/wp-content/uploads/2024/11/Casa2-at-SUSD-2.0.jpg
ORGANIZER;CN="Vanessa Villegas-CDLN":MAILTO:vanessac@casadelosninos.org
END:VEVENT
END:VCALENDAR