BEGIN:VCALENDAR
VERSION:2.0
PRODID:-//Pima County Parenting Coalition - ECPv6.15.16.1//NONSGML v1.0//EN
CALSCALE:GREGORIAN
METHOD:PUBLISH
X-ORIGINAL-URL:https://pimaparenting.org
X-WR-CALDESC:Events for Pima County Parenting Coalition
REFRESH-INTERVAL;VALUE=DURATION:PT1H
X-Robots-Tag:noindex
X-PUBLISHED-TTL:PT1H
BEGIN:VTIMEZONE
TZID:America/Phoenix
BEGIN:STANDARD
TZOFFSETFROM:-0700
TZOFFSETTO:-0700
TZNAME:MST
DTSTART:20240101T000000
END:STANDARD
END:VTIMEZONE
BEGIN:VEVENT
DTSTART;TZID=America/Phoenix:20250821T130000
DTEND;TZID=America/Phoenix:20250821T140000
DTSTAMP:20260424T061132
CREATED:20250717T030750Z
LAST-MODIFIED:20250717T030750Z
UID:10003623-1755781200-1755784800@pimaparenting.org
SUMMARY:Musical Expressions
DESCRIPTION:This class will encourage children to artistically express what they feel through music onto paper and through fun dance moves. Art and music invigorate young children’s minds to be creative\, imaginative\, expressive\, confident\, engaged and so much more!
URL:https://pimaparenting.org/event/musical-expressions-33/
LOCATION:Family Resource Center at Robles Elementary\, 9875 S Sasabe Rd\, Tucson\, AZ\, 85736\, United States
CATEGORIES:Families with Children Birth to Five
ATTACH;FMTTYPE=image/jpeg:https://pimaparenting.org/wp-content/uploads/2024/11/Music-Exp-at-AVSD-2.0.jpg
ORGANIZER;CN="Family Resource Center at Robles Elementary":MAILTO:dcordova@avsd.org
END:VEVENT
BEGIN:VEVENT
DTSTART;TZID=America/Phoenix:20250819T173000
DTEND;TZID=America/Phoenix:20250819T193000
DTSTAMP:20260424T061132
CREATED:20250716T225022Z
LAST-MODIFIED:20250716T225022Z
UID:10003603-1755624600-1755631800@pimaparenting.org
SUMMARY:Expectations & Development in Children/ VIRTUAL CLASS
DESCRIPTION:This topic is from the Nurturing Parenting Program. \nThe goal of this class is to increase parents’ awareness of appropriate expectations of children. \nThis class is hybrid: You may participate in-person or virtually via Zoom. \nThis class is made possible by: First Things First \nRegister at Expectations & Development in Children ⋆ Casa de los Niños
URL:https://pimaparenting.org/event/expectations-development-in-children-virtual-class/
LOCATION:Family Resource Center at Robles Elementary\, 9875 S Sasabe Rd\, Tucson\, AZ\, 85736\, United States
CATEGORIES:Families with Children Birth to Five
ATTACH;FMTTYPE=image/jpeg:https://pimaparenting.org/wp-content/uploads/2024/11/Casa3-at-AVSD-2.0.jpg
ORGANIZER;CN="Casa de los Ninos":MAILTO:cbolger@casadelosninos.org
END:VEVENT
BEGIN:VEVENT
DTSTART;TZID=America/Phoenix:20250819T130000
DTEND;TZID=America/Phoenix:20250819T140000
DTSTAMP:20260424T061132
CREATED:20250717T030556Z
LAST-MODIFIED:20250717T030633Z
UID:10003622-1755608400-1755612000@pimaparenting.org
SUMMARY:Kids Yoga
DESCRIPTION:Kids Yoga is an interactive activity for parents and children to connect with each other and their bodies.  A great and fun way to improve your child’s mobility\, and help them learn techniques to manage stress and emotions.
URL:https://pimaparenting.org/event/kids-yoga/
LOCATION:Family Resource Center at Robles Elementary\, 9875 S Sasabe Rd\, Tucson\, AZ\, 85736\, United States
CATEGORIES:Families with Children Birth to Five
ATTACH;FMTTYPE=image/jpeg:https://pimaparenting.org/wp-content/uploads/2024/11/Yoga-at-AVSD-2.0.jpg
ORGANIZER;CN="Stephaine Carl - UACE":MAILTO:sacarl@arizona.edu
END:VEVENT
BEGIN:VEVENT
DTSTART;TZID=America/Phoenix:20250819T103000
DTEND;TZID=America/Phoenix:20250819T113000
DTSTAMP:20260424T061132
CREATED:20250716T192731Z
LAST-MODIFIED:20250716T192731Z
UID:10003593-1755599400-1755603000@pimaparenting.org
SUMMARY:Zumbini- Robles Elem. Family Resource Center
DESCRIPTION:Come join Vanessa and Parent Aid for a fun hour of music and movement! This class will enhance your child’s development of their social-emotional\, cognitive and physical skills. Zumbini is designed for families with kiddos birth to 5-years old. Zumbini is an interactive activity for Parents and Kiddos! Bring your most comfortable dancing shoes and we’ll see you there! \nRegistration is FREE! \nClass is offered in-person at the Family Resource Center at Robles Elementary. \n  \n 
URL:https://pimaparenting.org/event/zumbini-robles-elem-family-resource-center-14/
LOCATION:Family Resource Center at Robles Elementary\, 9875 S Sasabe Rd\, Tucson\, AZ\, 85736\, United States
CATEGORIES:All Caregivers,Families with Children Birth to Five
ATTACH;FMTTYPE=image/jpeg:https://pimaparenting.org/wp-content/uploads/2024/11/Zumbini-at-AVSD-2.0.jpg
ORGANIZER;CN="Vanessa Batson- PA":MAILTO:vanessa@parentaid.org
END:VEVENT
BEGIN:VEVENT
DTSTART;TZID=America/Phoenix:20250818T090000
DTEND;TZID=America/Phoenix:20250818T100000
DTSTAMP:20260424T061132
CREATED:20250717T030433Z
LAST-MODIFIED:20250717T030433Z
UID:10003621-1755507600-1755511200@pimaparenting.org
SUMMARY:Family Cafe
DESCRIPTION:Parents and caregivers can join us to share about the challenges and successes of raising their children\, provide support for each other\, discuss what they would like to see at the FRC\, and enjoy a nice time with each other. \nLos padres y cuidadores pueden unirse a nosotros para compartir sobre los desafíos y éxitos de criar a sus hijos\, brindarse apoyo mutuo\, discutir lo que les gustaría ver en el FRC y disfrutar de un momento agradable juntos.
URL:https://pimaparenting.org/event/family-cafe-20/
LOCATION:Family Resource Center at Robles Elementary\, 9875 S Sasabe Rd\, Tucson\, AZ\, 85736\, United States
CATEGORIES:Families with Children Birth to Five
ATTACH;FMTTYPE=image/jpeg:https://pimaparenting.org/wp-content/uploads/2024/11/Family-Cafe-at-AVSD-2.0.jpg
ORGANIZER;CN="Family Resource Center at Robles Elementary":MAILTO:dcordova@avsd.org
END:VEVENT
BEGIN:VEVENT
DTSTART;TZID=America/Phoenix:20250815T103000
DTEND;TZID=America/Phoenix:20250815T113000
DTSTAMP:20260424T061132
CREATED:20250716T192320Z
LAST-MODIFIED:20250716T192320Z
UID:10003589-1755253800-1755257400@pimaparenting.org
SUMMARY:School Ready Stars: A Kinder Prep Class for Parents and Kids (ages 4-5 years old)
DESCRIPTION:This class for children (ages 4 – 5 years old) and parents/caregivers prepares children for school by sharpening their skills in the five domains of kindergarten readiness: cognitive\, adaptive\, communication\, motor skills\, and social/emotional. \n 
URL:https://pimaparenting.org/event/school-ready-stars-a-kinder-prep-class-for-parents-and-kids-ages-4-5-years-old-6/
LOCATION:Family Resource Center at Robles Elementary\, 9875 S Sasabe Rd\, Tucson\, AZ\, 85736\, United States
CATEGORIES:Families with Children Birth to Five
ATTACH;FMTTYPE=image/jpeg:https://pimaparenting.org/wp-content/uploads/2024/03/UA-FEP-logo.jpg
ORGANIZER;CN="Stephaine Carl - UACE":MAILTO:sacarl@arizona.edu
END:VEVENT
BEGIN:VEVENT
DTSTART;TZID=America/Phoenix:20250814T173000
DTEND;TZID=America/Phoenix:20250814T193000
DTSTAMP:20260424T061132
CREATED:20250716T223553Z
LAST-MODIFIED:20250716T223854Z
UID:10003600-1755192600-1755199800@pimaparenting.org
SUMMARY:Esperanza de que los ninos manejen su estres/CLASE VIRTUAL
DESCRIPTION:Nurturing Parenting Program \nPara ayudar a los ninos a reconocer y manejar su estres \nDe manera presencial o virtual. \nHecho posible por lo primero es lo primero. \nRegístrate en Esperanza de que los ninos manejen su estres ⋆ Casa de los Niños
URL:https://pimaparenting.org/event/esperanza-de-que-los-ninos-manejen-su-estres-clase-virtual/
LOCATION:Family Resource Center at Robles Elementary\, 9875 S Sasabe Rd\, Tucson\, AZ\, 85736\, United States
CATEGORIES:All Caregivers,Families with Children Birth to Five
ATTACH;FMTTYPE=image/jpeg:https://pimaparenting.org/wp-content/uploads/2024/11/Casa1-at-SUSD-2.0.jpg
ORGANIZER;CN="Casa de los Ninos":MAILTO:cbolger@casadelosninos.org
END:VEVENT
BEGIN:VEVENT
DTSTART;TZID=America/Phoenix:20250813T090000
DTEND;TZID=America/Phoenix:20250813T100000
DTSTAMP:20260424T061132
CREATED:20250716T234102Z
LAST-MODIFIED:20250716T234509Z
UID:10003615-1755075600-1755079200@pimaparenting.org
SUMMARY:Wonders of the Desert: Nature Play & Storytime
DESCRIPTION:Wonders of the Desert: Nature Play & Storytime \nJoin us for an enriching sensory adventure in Wonders of the Desert\, where young children (ages 2–5) explore the natural world through play-based\, developmentally appropriate outdoor activities. Guided by a trained nature-based educator\, each session offers three to four fun hands-on experiences—like digging\, building\, crafting\, and observing—designed to spark curiosity and build early learning skills. We’ll wrap up with a themed Storytime that ties everything together\, helping little ones connect\, imagine\, and grow in nature. All participants will be given a Family Activity page in English & Spanish to extend the learning and fun at home. \nThis week’s class You\, Me\, and the Desert – Our Environment\, children learn what makes the desert special\, how people are part of nature\, explore with their senses\, practice caring for the environment\, and connect with family through shared nature activities.
URL:https://pimaparenting.org/event/wonders-of-the-desert-nature-play-storytime/
LOCATION:Family Resource Center at Robles Elementary\, 9875 S Sasabe Rd\, Tucson\, AZ\, 85736\, United States
CATEGORIES:Families with Children Birth to Five
ORGANIZER;CN="Family Resource Center at Robles Elementary":MAILTO:dcordova@avsd.org
END:VEVENT
BEGIN:VEVENT
DTSTART;TZID=America/Phoenix:20250812T113000
DTEND;TZID=America/Phoenix:20250812T123000
DTSTAMP:20260424T061132
CREATED:20250716T230550Z
LAST-MODIFIED:20250716T232043Z
UID:10003609-1754998200-1755001800@pimaparenting.org
SUMMARY:Happy Hour: Family Playtime
DESCRIPTION:Join Vanessa at Parent Aid for a playful\, stress-free hour of connection\, creativity\, and community! Happy Hour: Family Playtime is a warm and welcoming space where parents and children explore the joy of free play — together. \nThis interactive experience helps little ones build important social skills while giving parents the chance to connect with one another\, share experiences\, and step into their child’s world through play. It’s a perfect blend of bonding\, support\, and fun — no agenda\, no pressure\, just quality time. \n✨ Meet other parents\n🧸 Support your child’s growth through play\n💬 Enjoy thoughtful conversations in a relaxed environment \nCome as you are — stay for the smiles.\nBecause connection is the real happy hour.
URL:https://pimaparenting.org/event/happy-hour-family-playtime/
LOCATION:Family Resource Center at Robles Elementary\, 9875 S Sasabe Rd\, Tucson\, AZ\, 85736\, United States
CATEGORIES:Families with Children Birth to Five
ATTACH;FMTTYPE=image/png:https://pimaparenting.org/wp-content/uploads/2025/07/Happy-Hour-at-AVSD.png
ORGANIZER;CN="Family Resource Center at Robles Elementary":MAILTO:dcordova@avsd.org
END:VEVENT
BEGIN:VEVENT
DTSTART;TZID=America/Phoenix:20250812T103000
DTEND;TZID=America/Phoenix:20250812T113000
DTSTAMP:20260424T061132
CREATED:20250716T192651Z
LAST-MODIFIED:20250716T192651Z
UID:10003592-1754994600-1754998200@pimaparenting.org
SUMMARY:Zumbini- Robles Elem. Family Resource Center
DESCRIPTION:Come join Vanessa and Parent Aid for a fun hour of music and movement! This class will enhance your child’s development of their social-emotional\, cognitive and physical skills. Zumbini is designed for families with kiddos birth to 5-years old. Zumbini is an interactive activity for Parents and Kiddos! Bring your most comfortable dancing shoes and we’ll see you there! \nRegistration is FREE! \nClass is offered in-person at the Family Resource Center at Robles Elementary. \n  \n 
URL:https://pimaparenting.org/event/zumbini-robles-elem-family-resource-center-13/
LOCATION:Family Resource Center at Robles Elementary\, 9875 S Sasabe Rd\, Tucson\, AZ\, 85736\, United States
CATEGORIES:All Caregivers,Families with Children Birth to Five
ATTACH;FMTTYPE=image/jpeg:https://pimaparenting.org/wp-content/uploads/2024/11/Zumbini-at-AVSD-2.0.jpg
ORGANIZER;CN="Vanessa Batson- PA":MAILTO:vanessa@parentaid.org
END:VEVENT
BEGIN:VEVENT
DTSTART;TZID=America/Phoenix:20250808T103000
DTEND;TZID=America/Phoenix:20250808T113000
DTSTAMP:20260424T061132
CREATED:20250716T192242Z
LAST-MODIFIED:20250724T233823Z
UID:10003588-1754649000-1754652600@pimaparenting.org
SUMMARY:School Ready Stars: A Kinder Prep Class for Parents and Kids (ages 4-5 years old)
DESCRIPTION:This class for children (ages 4 – 5 years old) and parents/caregivers prepares children for school by sharpening their skills in the five domains of kindergarten readiness: cognitive\, adaptive\, communication\, motor skills\, and social/emotional. \n 
URL:https://pimaparenting.org/event/school-ready-stars-a-kinder-prep-class-for-parents-and-kids-ages-4-5-years-old-5/
LOCATION:Family Resource Center at Robles Elementary\, 9875 S Sasabe Rd\, Tucson\, AZ\, 85736\, United States
CATEGORIES:Families with Children Birth to Five
ATTACH;FMTTYPE=image/jpeg:https://pimaparenting.org/wp-content/uploads/2024/03/UA-FEP-logo.jpg
ORGANIZER;CN="Stephaine Carl - UACE":MAILTO:sacarl@arizona.edu
END:VEVENT
BEGIN:VEVENT
DTSTART;TZID=America/Phoenix:20250807T173000
DTEND;TZID=America/Phoenix:20250807T193000
DTSTAMP:20260424T061132
CREATED:20250716T222804Z
LAST-MODIFIED:20250716T223006Z
UID:10003597-1754587800-1754595000@pimaparenting.org
SUMMARY:Comunicar con Respecto/Clase virtual
DESCRIPTION:Nurturing Parenting Program \nEsta clase ayuda a los padres y aprende estrategias para mejorar la comunicacion con sus hijos. \nEsta clase es posible gracias a que los primero es lo primero \nRegístrate en Comunicar con Respecto ⋆ Casa de los Niños
URL:https://pimaparenting.org/event/comunicar-con-respecto-clase-virtual/
LOCATION:Family Resource Center at Robles Elementary\, 9875 S Sasabe Rd\, Tucson\, AZ\, 85736\, United States
CATEGORIES:Families with Children Birth to Five
ATTACH;FMTTYPE=image/jpeg:https://pimaparenting.org/wp-content/uploads/2024/11/Casa4-at-AVSD-2.0.jpg
ORGANIZER;CN="Casa de los Ninos":MAILTO:cbolger@casadelosninos.org
END:VEVENT
BEGIN:VEVENT
DTSTART;TZID=America/Phoenix:20250806T103000
DTEND;TZID=America/Phoenix:20250806T113000
DTSTAMP:20260424T061132
CREATED:20250716T220512Z
LAST-MODIFIED:20250716T220512Z
UID:10003596-1754476200-1754479800@pimaparenting.org
SUMMARY:Sensory Exploration/ Exploración sensorial
DESCRIPTION:This class will expose your child to different colors\, shapes\, patterns\, materials and fabrics to feel help them accept so many transitions into this big world fill with experiences. \nEsta clase expondrá a su hijo a diferentes colores\, formas\, patrones\, materiales y telas para sentir que lo ayudan a aceptar tantas transiciones a este gran mundo lleno de experiencias.
URL:https://pimaparenting.org/event/sensory-exploration-exploracion-sensorial/
LOCATION:Family Resource Center at Robles Elementary\, 9875 S Sasabe Rd\, Tucson\, AZ\, 85736\, United States
CATEGORIES:Families with Children Birth to Five
ATTACH;FMTTYPE=image/jpeg:https://pimaparenting.org/wp-content/uploads/2024/11/Sensory-at-AVSD-2.0.jpg
ORGANIZER;CN="Family Resource Center at Robles Elementary":MAILTO:dcordova@avsd.org
END:VEVENT
BEGIN:VEVENT
DTSTART;TZID=America/Phoenix:20250805T140000
DTEND;TZID=America/Phoenix:20250805T150000
DTSTAMP:20260424T061132
CREATED:20250716T215856Z
LAST-MODIFIED:20250716T220325Z
UID:10003595-1754402400-1754406000@pimaparenting.org
SUMMARY:Move and Groove Playtime
DESCRIPTION:This interactive class for children ages 2-5 and their parents. Through music\, dancing\, and playful movement\, kids\ndevelop coordination\, balance\, and creativity while strengthening their bond with parents. Colorful props and lively\ntunes make each session exciting and engaging\, promoting physical development and social skills in a safe\,\nsupportive environment. Perfect for little ones who love to move and groove!
URL:https://pimaparenting.org/event/move-and-groove-playtime-5/
LOCATION:Family Resource Center at Robles Elementary\, 9875 S Sasabe Rd\, Tucson\, AZ\, 85736\, United States
CATEGORIES:Families with Children Birth to Five
ATTACH;FMTTYPE=image/jpeg:https://pimaparenting.org/wp-content/uploads/2024/11/Family-Resource-Center-Logo-1.jpg
ORGANIZER;CN="Family Resource Center at Robles Elementary":MAILTO:dcordova@avsd.org
END:VEVENT
BEGIN:VEVENT
DTSTART;TZID=America/Phoenix:20250805T103000
DTEND;TZID=America/Phoenix:20250805T113000
DTSTAMP:20260424T061132
CREATED:20250716T192556Z
LAST-MODIFIED:20250716T211046Z
UID:10003591-1754389800-1754393400@pimaparenting.org
SUMMARY:Zumbini- Robles Elem. Family Resource Center
DESCRIPTION:Come join Vanessa and Parent Aid for a fun hour of music and movement! This class will enhance your child’s development of their social-emotional\, cognitive and physical skills. Zumbini is designed for families with kiddos birth to 5-years old. Zumbini is an interactive activity for Parents and Kiddos! Bring your most comfortable dancing shoes and we’ll see you there! \nRegistration is FREE! \nClass is offered in-person at the Family Resource Center at Robles Elementary. \n  \n 
URL:https://pimaparenting.org/event/zumbini-robles-elem-family-resource-center-12/
LOCATION:Family Resource Center at Robles Elementary\, 9875 S Sasabe Rd\, Tucson\, AZ\, 85736\, United States
CATEGORIES:All Caregivers,Families with Children Birth to Five
ATTACH;FMTTYPE=image/jpeg:https://pimaparenting.org/wp-content/uploads/2024/11/Zumbini-at-AVSD-2.0.jpg
ORGANIZER;CN="Vanessa Batson- PA":MAILTO:vanessa@parentaid.org
END:VEVENT
BEGIN:VEVENT
DTSTART;TZID=America/Phoenix:20250801T103000
DTEND;TZID=America/Phoenix:20250801T113000
DTSTAMP:20260424T061132
CREATED:20250716T192147Z
LAST-MODIFIED:20250716T194938Z
UID:10003587-1754044200-1754047800@pimaparenting.org
SUMMARY:School Ready Stars: A Kinder Prep Class for Parents and Kids (ages 4-5 years old)
DESCRIPTION:This class for children (ages 4 – 5 years old) and parents/caregivers prepares children for school by sharpening their skills in the five domains of kindergarten readiness: cognitive\, adaptive\, communication\, motor skills\, and social/emotional. \n 
URL:https://pimaparenting.org/event/school-ready-stars-a-kinder-prep-class-for-parents-and-kids-ages-4-5-years-old-4/
LOCATION:Family Resource Center at Robles Elementary\, 9875 S Sasabe Rd\, Tucson\, AZ\, 85736\, United States
CATEGORIES:Families with Children Birth to Five
ATTACH;FMTTYPE=image/jpeg:https://pimaparenting.org/wp-content/uploads/2024/03/UA-FEP-logo.jpg
ORGANIZER;CN="Stephaine Carl - UACE":MAILTO:sacarl@arizona.edu
END:VEVENT
BEGIN:VEVENT
DTSTART;TZID=America/Phoenix:20250731T173000
DTEND;TZID=America/Phoenix:20250731T193000
DTSTAMP:20260424T061132
CREATED:20250623T193836Z
LAST-MODIFIED:20250623T195007Z
UID:10003575-1753983000-1753990200@pimaparenting.org
SUMMARY:Entendiendo los sentimentos/CLASE VIRTUAL
DESCRIPTION:Los padres y cuidadores aprenden a entender los sentimentos de sus hijos en el que los padres tienen en sus hijos. \nRegístrate en Comprender los sentimentos ⋆ Casa de los Niños
URL:https://pimaparenting.org/event/comprender-los-sentimentos-clase-virtual-2/
LOCATION:Family Resource Center at Robles Elementary\, 9875 S Sasabe Rd\, Tucson\, AZ\, 85736\, United States
CATEGORIES:All Caregivers,Families with Children Birth to Five
ATTACH;FMTTYPE=image/jpeg:https://pimaparenting.org/wp-content/uploads/2024/11/Casa1-at-AVSD-2.0.jpg
ORGANIZER;CN="Anabeli Miranda":MAILTO:amiranda@casadelosninos.org
END:VEVENT
BEGIN:VEVENT
DTSTART;TZID=America/Phoenix:20250731T130000
DTEND;TZID=America/Phoenix:20250731T140000
DTSTAMP:20260424T061132
CREATED:20250617T213010Z
LAST-MODIFIED:20250731T163302Z
UID:10003527-1753966800-1753970400@pimaparenting.org
SUMMARY:Garden Discovery Days
DESCRIPTION:This class connects you and your child to the garden through hands-on activities\, where you’ll learn where food comes from\, explore nature\, and create fun nature-inspired crafts. \n  \n 
URL:https://pimaparenting.org/event/garden-discovery-days-51/
LOCATION:Family Resource Center at Robles Elementary\, 9875 S Sasabe Rd\, Tucson\, AZ\, 85736\, United States
CATEGORIES:Families with Children Birth to Five
ATTACH;FMTTYPE=image/jpeg:https://pimaparenting.org/wp-content/uploads/2024/11/GDD-at-AVSD-2.0.jpg
ORGANIZER;CN="Family Resource Center at Robles Elementary":MAILTO:dcordova@avsd.org
END:VEVENT
BEGIN:VEVENT
DTSTART;TZID=America/Phoenix:20250731T103000
DTEND;TZID=America/Phoenix:20250731T113000
DTSTAMP:20260424T061132
CREATED:20250617T213901Z
LAST-MODIFIED:20250617T213901Z
UID:10003532-1753957800-1753961400@pimaparenting.org
SUMMARY:Musical Expressions
DESCRIPTION:This class will encourage children to artistically express what they feel through music onto paper and through fun dance moves. Art and music invigorate young children’s minds to be creative\, imaginative\, expressive\, confident\, engaged and so much more!
URL:https://pimaparenting.org/event/musical-expressions-31/
LOCATION:Family Resource Center at Robles Elementary\, 9875 S Sasabe Rd\, Tucson\, AZ\, 85736\, United States
CATEGORIES:Families with Children Birth to Five
ATTACH;FMTTYPE=image/jpeg:https://pimaparenting.org/wp-content/uploads/2024/11/Music-Exp-at-AVSD-2.0.jpg
ORGANIZER;CN="Family Resource Center at Robles Elementary":MAILTO:dcordova@avsd.org
END:VEVENT
BEGIN:VEVENT
DTSTART;TZID=America/Phoenix:20250724T130000
DTEND;TZID=America/Phoenix:20250724T140000
DTSTAMP:20260424T061132
CREATED:20250617T212849Z
LAST-MODIFIED:20250617T212849Z
UID:10003526-1753362000-1753365600@pimaparenting.org
SUMMARY:Garden Discovery Days
DESCRIPTION:This class connects you and your child to the garden through hands-on activities\, where you’ll learn where food comes from\, explore nature\, and create fun nature-inspired crafts. \n  \n 
URL:https://pimaparenting.org/event/garden-discovery-days-50/
LOCATION:Family Resource Center at Robles Elementary\, 9875 S Sasabe Rd\, Tucson\, AZ\, 85736\, United States
CATEGORIES:Families with Children Birth to Five
ATTACH;FMTTYPE=image/jpeg:https://pimaparenting.org/wp-content/uploads/2024/11/GDD-at-AVSD-2.0.jpg
ORGANIZER;CN="Family Resource Center at Robles Elementary":MAILTO:dcordova@avsd.org
END:VEVENT
END:VCALENDAR