BEGIN:VCALENDAR
VERSION:2.0
PRODID:-//Pima County Parenting Coalition - ECPv6.15.16.1//NONSGML v1.0//EN
CALSCALE:GREGORIAN
METHOD:PUBLISH
X-ORIGINAL-URL:https://pimaparenting.org
X-WR-CALDESC:Events for Pima County Parenting Coalition
REFRESH-INTERVAL;VALUE=DURATION:PT1H
X-Robots-Tag:noindex
X-PUBLISHED-TTL:PT1H
BEGIN:VTIMEZONE
TZID:America/Phoenix
BEGIN:STANDARD
TZOFFSETFROM:-0700
TZOFFSETTO:-0700
TZNAME:MST
DTSTART:20250101T000000
END:STANDARD
END:VTIMEZONE
BEGIN:VEVENT
DTSTART;TZID=America/Phoenix:20260521T173000
DTEND;TZID=America/Phoenix:20260521T193000
DTSTAMP:20260423T094427
CREATED:20260414T172551Z
LAST-MODIFIED:20260414T172551Z
UID:10004836-1779384600-1779391800@pimaparenting.org
SUMMARY:Reconociendo y Entendiendo los Sentimientos de los Niños / Clase Virtual
DESCRIPTION:Este tema es del Programa de Crianza Nutritiva \nCómo preparamos a nuestros hijos para manejar sus sentimientos probablemente afectará la calidad de sus vidas más que casi cualquier otro elemento de la crianza. El objetivo de esta clase es aumentar las respuestas empáticas a los sentimientos de los niños. \nRegistrar en Recognizing & Understanding Children’s Feelings (Spanish) – Casa de los Ninos
URL:https://pimaparenting.org/event/reconociendo-y-entendiendo-los-sentimientos-de-los-ninos-clase-virtual/
LOCATION:Family Resource Center at Robles Elementary\, 9875 S Sasabe Rd\, Tucson\, AZ\, 85736\, United States
CATEGORIES:Families with Children Birth to Five
ATTACH;FMTTYPE=image/jpeg:https://pimaparenting.org/wp-content/uploads/2024/03/Casa-logo.jpg
ORGANIZER;CN="Casa de los Ninos":MAILTO:cbolger@casadelosninos.org
END:VEVENT
BEGIN:VEVENT
DTSTART;TZID=America/Phoenix:20260526T103000
DTEND;TZID=America/Phoenix:20260526T113000
DTSTAMP:20260423T094427
CREATED:20260414T161734Z
LAST-MODIFIED:20260414T161734Z
UID:10004803-1779791400-1779795000@pimaparenting.org
SUMMARY:Baby Signs Too
DESCRIPTION:Come join Parent Aid and Vanessa for a great opportunity to learn sign language with your little one! Learn how to enhance early communication skills\, reduce tantrums\, and promote language development with the addition to nurturing your bond and understanding your child’s needs. Baby Signs Too is designed to be used with families with hearing infants and toddlers. \nRegistration is FREE! \nClass is offered in-person at the Family Resource Center at Robles Elementary. \nWe look forward to seeing you there!
URL:https://pimaparenting.org/event/baby-signs-too-36/
LOCATION:Family Resource Center at Robles Elementary\, 9875 S Sasabe Rd\, Tucson\, AZ\, 85736\, United States
CATEGORIES:All Caregivers,Families with Children Birth to Five
ATTACH;FMTTYPE=image/jpeg:https://pimaparenting.org/wp-content/uploads/2024/11/BST-at-AVSD-2.0.jpg
ORGANIZER;CN="Vanessa Batson- PA":MAILTO:vanessa@parentaid.org
END:VEVENT
BEGIN:VEVENT
DTSTART;TZID=America/Phoenix:20260526T130000
DTEND;TZID=America/Phoenix:20260526T140000
DTSTAMP:20260423T094427
CREATED:20260414T162724Z
LAST-MODIFIED:20260414T173958Z
UID:10004809-1779800400-1779804000@pimaparenting.org
SUMMARY:Little Voices\, Big Respect: Teaching Consent from the Start
DESCRIPTION:This class teaches children (ages 3-5) to be the boss of their bodies! Children will learn self-awareness about their personal space and how to respect that of others. They will learn options for greeting and showing affection. Families will gain tools to discuss private parts and building a safe network. Celebrate kid power!
URL:https://pimaparenting.org/event/little-voices-big-respect-teaching-consent-from-the-start-4/
LOCATION:Family Resource Center at Robles Elementary\, 9875 S Sasabe Rd\, Tucson\, AZ\, 85736\, United States
CATEGORIES:Families with Children Birth to Five
ATTACH;FMTTYPE=image/jpeg:https://pimaparenting.org/wp-content/uploads/2026/02/Little-Voices-Big-Respect-JPEG-002.jpg
ORGANIZER;CN="Stephaine Carl - UACE":MAILTO:sacarl@arizona.edu
END:VEVENT
BEGIN:VEVENT
DTSTART;TZID=America/Phoenix:20260526T173000
DTEND;TZID=America/Phoenix:20260526T193000
DTSTAMP:20260423T094427
CREATED:20260414T194107Z
LAST-MODIFIED:20260414T194107Z
UID:10004841-1779816600-1779823800@pimaparenting.org
SUMMARY:Mom's House\, Dad's House-Making it All Work! / VIRTUAL CLASS
DESCRIPTION:This class looks at how to support your child through divorce and break-ups. \nRegister at Mom’s House\, Dad’s House- Making It All Work! (English) – Casa de los Ninos
URL:https://pimaparenting.org/event/moms-house-dads-house-making-it-all-work-virtual-class-2/
LOCATION:Family Resource Center at Robles Elementary\, 9875 S Sasabe Rd\, Tucson\, AZ\, 85736\, United States
CATEGORIES:Families with Children Birth to Five
ATTACH;FMTTYPE=image/jpeg:https://pimaparenting.org/wp-content/uploads/2024/03/Casa-logo.jpg
ORGANIZER;CN="Casa de los Ninos":MAILTO:cbolger@casadelosninos.org
END:VEVENT
BEGIN:VEVENT
DTSTART;TZID=America/Phoenix:20260527T100000
DTEND;TZID=America/Phoenix:20260527T110000
DTSTAMP:20260423T094427
CREATED:20260414T164816Z
LAST-MODIFIED:20260414T164816Z
UID:10004816-1779876000-1779879600@pimaparenting.org
SUMMARY:Wonders of the Desert: Nature Play & Storytime
DESCRIPTION:Wonders of the Desert: Nature Play & Storytime: SAND \nWonders of the Desert invites children ages 2–5 their caregivers to explore nature through playful\, hands-on outdoor activities led by a trained educator. Each session includes engaging experiences like digging\, building\, and crafting\, plus a themed Storytime. Families also receive a bilingual activity page to continue learning at home. \nSand: Children and caregivers learn about sand as an important part of the desert and the planet. They discover how sand forms\, where it comes from\, and how it shapes the desert landscape. They also explore how sand is used by plants\, animals\, and people in the Sonoran Desert. This experience encourages curiosity\, sensory exploration\, and a deeper connection to the natural world. \n 
URL:https://pimaparenting.org/event/wonders-of-the-desert-nature-play-storytime-48/
LOCATION:Family Resource Center at Robles Elementary\, 9875 S Sasabe Rd\, Tucson\, AZ\, 85736\, United States
CATEGORIES:Families with Children Birth to Five
ATTACH;FMTTYPE=image/png:https://pimaparenting.org/wp-content/uploads/2025/07/Wonders-of-the-Desert-at-AVSD.png
ORGANIZER;CN="Debi Morgan":MAILTO:debimorgan4@gmail.com
END:VEVENT
BEGIN:VEVENT
DTSTART;TZID=America/Phoenix:20260528T103000
DTEND;TZID=America/Phoenix:20260528T113000
DTSTAMP:20260423T094427
CREATED:20260414T162859Z
LAST-MODIFIED:20260414T162859Z
UID:10004811-1779964200-1779967800@pimaparenting.org
SUMMARY:Snack Time Adventures/Aventuras a la hora de la merienda
DESCRIPTION:Enjoy stories\, songs\, and activities related to food and snacks through sensory exploration and simple cooking activities. These experiences strengthen fine motor skills\, enhance language development\, encourage curiosity\, and help build healthy eating habits. \nDisfrute de historias\, canciones y actividades relacionadas con la comida y los refrigerios a través de la exploración sensorial y actividades sencillas de cocina. fortalecer la motricidad fina\, potenciar el desarrollo del lenguaje\, fomentar la curiosidad y desarrollar hábitos alimenticios saludables.
URL:https://pimaparenting.org/event/snack-time-adventures-aventuras-a-la-hora-de-la-merienda-12/
LOCATION:Family Resource Center at Robles Elementary\, 9875 S Sasabe Rd\, Tucson\, AZ\, 85736\, United States
CATEGORIES:Families with Children Birth to Five
ATTACH;FMTTYPE=image/jpeg:https://pimaparenting.org/wp-content/uploads/2024/03/EBF-logo.jpg
ORGANIZER;CN="Laura Ontiveros-EBF":MAILTO:lontiveros@blake.easterseals.com
END:VEVENT
BEGIN:VEVENT
DTSTART;TZID=America/Phoenix:20260528T130000
DTEND;TZID=America/Phoenix:20260528T140000
DTSTAMP:20260423T094427
CREATED:20260414T162752Z
LAST-MODIFIED:20260414T173912Z
UID:10004810-1779973200-1779976800@pimaparenting.org
SUMMARY:Little Voices\, Big Respect: Teaching Consent from the Start
DESCRIPTION:This class teaches children (ages 3-5) to be the boss of their bodies! Children will learn self-awareness about their personal space and how to respect that of others. They will learn options for greeting and showing affection. Families will gain tools to discuss private parts and building a safe network. Celebrate kid power!
URL:https://pimaparenting.org/event/little-voices-big-respect-teaching-consent-from-the-start-5/
LOCATION:Family Resource Center at Robles Elementary\, 9875 S Sasabe Rd\, Tucson\, AZ\, 85736\, United States
CATEGORIES:Families with Children Birth to Five
ATTACH;FMTTYPE=image/jpeg:https://pimaparenting.org/wp-content/uploads/2026/02/Little-Voices-Big-Respect-JPEG-002.jpg
ORGANIZER;CN="Stephaine Carl - UACE":MAILTO:sacarl@arizona.edu
END:VEVENT
BEGIN:VEVENT
DTSTART;TZID=America/Phoenix:20260528T173000
DTEND;TZID=America/Phoenix:20260528T193000
DTSTAMP:20260423T094427
CREATED:20260414T194708Z
LAST-MODIFIED:20260414T194708Z
UID:10004845-1779989400-1779996600@pimaparenting.org
SUMMARY:La Casa de Mamá\, La Casa de Papá - ¡Haciendo que Todo Funcione! / CLASE VIRTUAL
DESCRIPTION:Esta clase analiza cómo apoyar a su hijo durante el divorcio y las rupturas. \nRegistrar en Mom’s House\, Dad’s House- Making It All Work! (Spanish) – Casa de los Ninos \n 
URL:https://pimaparenting.org/event/la-casa-de-mama-la-casa-de-papa-haciendo-que-todo-funcione-clase-virtual-3/
LOCATION:Family Resource Center at Robles Elementary\, 9875 S Sasabe Rd\, Tucson\, AZ\, 85736\, United States
CATEGORIES:Families with Children Birth to Five
ATTACH;FMTTYPE=image/jpeg:https://pimaparenting.org/wp-content/uploads/2024/03/Casa-logo.jpg
ORGANIZER;CN="Casa de los Ninos":MAILTO:cbolger@casadelosninos.org
END:VEVENT
BEGIN:VEVENT
DTSTART;TZID=America/Phoenix:20260602T090000
DTEND;TZID=America/Phoenix:20260602T103000
DTSTAMP:20260423T094427
CREATED:20260205T232715Z
LAST-MODIFIED:20260205T232817Z
UID:10004476-1780390800-1780396200@pimaparenting.org
SUMMARY:Kinship & Foster Parent Cafe
DESCRIPTION:A welcoming space for kinship and foster caregivers to connect with others who share similar experiences. Together\, participants offer encouragement\, comfort\, and practical resources. Each gathering includes a basic support item provided by Aviva Children’s Services. Children ages 0–5 are welcome.
URL:https://pimaparenting.org/event/kinship-foster-parent-cafe-8/
LOCATION:Family Resource Center at Robles Elementary\, 9875 S Sasabe Rd\, Tucson\, AZ\, 85736\, United States
CATEGORIES:Families with Children Birth to Five
ATTACH;FMTTYPE=image/png:https://pimaparenting.org/wp-content/uploads/2025/10/EBF-Aviva.png
ORGANIZER;CN="Christina Greenberg":MAILTO:cgreenberg@avivatucson.org
END:VEVENT
BEGIN:VEVENT
DTSTART;TZID=America/Phoenix:20260603T103000
DTEND;TZID=America/Phoenix:20260603T113000
DTSTAMP:20260423T094427
CREATED:20260325T153816Z
LAST-MODIFIED:20260414T180506Z
UID:10004726-1780482600-1780486200@pimaparenting.org
SUMMARY:HANDS IN NATURE: Art\, Exploration\, and Creative Play
DESCRIPTION:This is a nature-inspired class for children ages 2-5. Each session invites children to explore unique materials for art\, construction\, science\, literacy\, and more. Whether painting with mud\, building with sticks\, experimenting with water\, or storytelling with found objects\, children will engage in hands-on discovery that nurtures creativity\, problem solving\, and sensory exploration.
URL:https://pimaparenting.org/event/hands-in-nature-art-exploration-and-creative-play-6/
LOCATION:Family Resource Center at Robles Elementary\, 9875 S Sasabe Rd\, Tucson\, AZ\, 85736\, United States
CATEGORIES:Families with Children Birth to Five
ATTACH;FMTTYPE=image/jpeg:https://pimaparenting.org/wp-content/uploads/2024/11/UWTSA-Logo-2024-RBG.jpg
ORGANIZER;CN="Kyla Maciosek":MAILTO:kyla@naturecreatedplay.com
END:VEVENT
BEGIN:VEVENT
DTSTART;TZID=America/Phoenix:20260610T100000
DTEND;TZID=America/Phoenix:20260610T110000
DTSTAMP:20260423T094427
CREATED:20260414T165425Z
LAST-MODIFIED:20260414T165451Z
UID:10004819-1781085600-1781089200@pimaparenting.org
SUMMARY:Wonders of the Desert: Nature Play & Storytime
DESCRIPTION:Wonders of the Desert: Nature Play & Storytime: WATER \nWonders of the Desert invites children ages 2–5 their caregivers to explore nature through playful\, hands-on outdoor activities led by a trained educator. Each session includes engaging experiences like digging\, building\, and crafting\, plus a themed Storytime. Families also receive a bilingual activity page to continue learning at home. \nWater: Children and caregivers learn about the importance of water in the Sonoran Desert\, discovering how plants\, animals\, and people adapt to limited water sources. They explore where water comes from\, how it moves through the desert\, and why it’s vital for all life. This experience fosters curiosity\, respect for natural resources\, and a deeper connection to the desert environment. \n. \n 
URL:https://pimaparenting.org/event/wonders-of-the-desert-nature-play-storytime-51/
LOCATION:Family Resource Center at Robles Elementary\, 9875 S Sasabe Rd\, Tucson\, AZ\, 85736\, United States
CATEGORIES:Families with Children Birth to Five
ATTACH;FMTTYPE=image/png:https://pimaparenting.org/wp-content/uploads/2025/07/Wonders-of-the-Desert-at-AVSD.png
ORGANIZER;CN="Debi Morgan":MAILTO:debimorgan4@gmail.com
END:VEVENT
BEGIN:VEVENT
DTSTART;TZID=America/Phoenix:20260615T090000
DTEND;TZID=America/Phoenix:20260615T100000
DTSTAMP:20260423T094427
CREATED:20260325T153414Z
LAST-MODIFIED:20260325T153414Z
UID:10004722-1781514000-1781517600@pimaparenting.org
SUMMARY:Family Cafe
DESCRIPTION:Parents and caregivers can join us to share about the challenges and successes of raising their children\, provide support for each other\, discuss what they would like to see at the FRC\, and enjoy a nice time with each other. \nLos padres y cuidadores pueden unirse a nosotros para compartir sobre los desafíos y éxitos de criar a sus hijos\, brindarse apoyo mutuo\, discutir lo que les gustaría ver en el FRC y disfrutar de un momento agradable juntos.
URL:https://pimaparenting.org/event/family-cafe-10/
LOCATION:Family Resource Center at Robles Elementary\, 9875 S Sasabe Rd\, Tucson\, AZ\, 85736\, United States
CATEGORIES:Families with Children Birth to Five
ATTACH;FMTTYPE=image/jpeg:https://pimaparenting.org/wp-content/uploads/2024/11/Family-Cafe-at-AVSD-2.0.jpg
ORGANIZER;CN="Family Resource Center at Robles Elementary":MAILTO:dcordova@avsd.org
END:VEVENT
BEGIN:VEVENT
DTSTART;TZID=America/Phoenix:20260624T100000
DTEND;TZID=America/Phoenix:20260624T110000
DTSTAMP:20260423T094427
CREATED:20260414T165959Z
LAST-MODIFIED:20260414T165959Z
UID:10004822-1782295200-1782298800@pimaparenting.org
SUMMARY:Wonders of the Desert: Nature Play & Storytime
DESCRIPTION:Wonders of the Desert: Nature Play & Storytime: NATURE’S ART \nWonders of the Desert invites children ages 2–5 their caregivers to explore nature through playful\, hands-on outdoor activities led by a trained educator. Each session includes engaging experiences like digging\, building\, and crafting\, plus a themed Storytime. Families also receive a bilingual activity page to continue learning at home. \nNature’s Art: Children and caregivers explore the colors\, shapes\, and textures of natural materials found in the Sonoran Desert to create unique artwork. They learn to see beauty in plants\, rocks\, sticks\, and sand while expressing creativity and building a connection to the environment. This experience encourages observation\, imagination\, and appreciation for the desert’s natural treasures. \n. \n 
URL:https://pimaparenting.org/event/wonders-of-the-desert-nature-play-storytime-54/
LOCATION:Family Resource Center at Robles Elementary\, 9875 S Sasabe Rd\, Tucson\, AZ\, 85736\, United States
CATEGORIES:Families with Children Birth to Five
ATTACH;FMTTYPE=image/png:https://pimaparenting.org/wp-content/uploads/2025/07/Wonders-of-the-Desert-at-AVSD.png
ORGANIZER;CN="Debi Morgan":MAILTO:debimorgan4@gmail.com
END:VEVENT
END:VCALENDAR